Back to Multiple platform build/check report for BioC 3.18:   simplified   long
ABC[D]EFGHIJKLMNOPQRSTUVWXYZ

This page was generated on 2024-02-22 11:34:58 -0500 (Thu, 22 Feb 2024).

HostnameOSArch (*)R versionInstalled pkgs
nebbiolo2Linux (Ubuntu 22.04.3 LTS)x86_644.3.2 Patched (2023-11-13 r85521) -- "Eye Holes" 4691
palomino4Windows Server 2022 Datacenterx644.3.2 (2023-10-31 ucrt) -- "Eye Holes" 4444
lconwaymacOS 12.7.1 Montereyx86_644.3.2 Patched (2023-11-01 r85457) -- "Eye Holes" 4465
Click on any hostname to see more info about the system (e.g. compilers)      (*) as reported by 'uname -p', except on Windows and Mac OS X

All results for package DelayedMatrixStats


To the developers/maintainers of the DelayedMatrixStats package:
- Allow up to 24 hours (and sometimes 48 hours) for your latest push to git@git.bioconductor.org:packages/DelayedMatrixStats.git to reflect on this report. See Troubleshooting Build Report for more information.
- Use the following Renviron settings to reproduce errors and warnings.
- If 'R CMD check' started to fail recently on the Linux builder(s) over a missing dependency, add the missing dependency to 'Suggests:' in your DESCRIPTION file. See Renviron.bioc for more information.

raw results

Package 529/2266HostnameOS / ArchINSTALLBUILDCHECKBUILD BIN
DelayedMatrixStats 1.24.0  (landing page)
Peter Hickey
Snapshot Date: 2024-02-21 14:05:05 -0500 (Wed, 21 Feb 2024)
git_url: https://git.bioconductor.org/packages/DelayedMatrixStats
git_branch: RELEASE_3_18
git_last_commit: 8fb9c6e
git_last_commit_date: 2023-10-24 11:00:43 -0500 (Tue, 24 Oct 2023)
nebbiolo2Linux (Ubuntu 22.04.3 LTS) / x86_64  OK    OK    OK  UNNEEDED, same version is already published
palomino4Windows Server 2022 Datacenter / x64  OK    OK    OK    OK  UNNEEDED, same version is already published
lconwaymacOS 12.7.1 Monterey / x86_64  OK    OK    OK    OK  UNNEEDED, same version is already published
kjohnson1macOS 13.6.1 Ventura / arm64see weekly results here

Results for Bioconductor software packages that depend directly on package DelayedMatrixStats

QUICK STATSOS / ArchINSTALLBUILDCHECKBUILD BIN
nebbiolo2Linux (Ubuntu 22.04.3 LTS) / x86_64
0032
0032
13622
palomino4Windows Server 2022 Datacenter / x64
0032
0032
02426
0032
lconwaymacOS 12.7.1 Monterey / x86_64
0032
0230
01623
0030
Package 1/32HostnameOS / ArchINSTALLBUILDCHECKBUILD BIN
AUCell 1.24.0  (landing page)
Sara Aibar
git_last_commit: 8c22389
git_last_commit_date: 2023-10-24 10:59:42 -0500
nebbiolo2Linux (Ubuntu 22.04.3 LTS) / x86_64  OK    OK    ERROR  
palomino4Windows Server 2022 Datacenter / x64  OK    OK    ERROR    OK  
lconwaymacOS 12.7.1 Monterey / x86_64  OK    OK    ERROR    OK  
kjohnson1macOS 13.6.1 Ventura / arm64see weekly results here
Package 2/32HostnameOS / ArchINSTALLBUILDCHECKBUILD BIN
batchelor 1.18.1  (landing page)
Aaron Lun
git_last_commit: c427893
git_last_commit_date: 2023-12-27 13:57:13 -0500
nebbiolo2Linux (Ubuntu 22.04.3 LTS) / x86_64  OK    OK    OK  UNNEEDED, same version is already published
palomino4Windows Server 2022 Datacenter / x64  OK    OK    OK    OK  UNNEEDED, same version is already published
lconwaymacOS 12.7.1 Monterey / x86_64  OK    OK    OK    OK  UNNEEDED, same version is already published
kjohnson1macOS 13.6.1 Ventura / arm64see weekly results here
Package 3/32HostnameOS / ArchINSTALLBUILDCHECKBUILD BIN
biscuiteer 1.16.0  (landing page)
Jacob Morrison
git_last_commit: ebfa0bf
git_last_commit_date: 2023-10-24 11:17:31 -0500
nebbiolo2Linux (Ubuntu 22.04.3 LTS) / x86_64  OK    OK    WARNINGS  UNNEEDED, same version is already published
palomino4Windows Server 2022 Datacenter / x64  OK    OK    WARNINGS    OK  UNNEEDED, same version is already published
lconwaymacOS 12.7.1 Monterey / x86_64  OK    OK    WARNINGS    OK  UNNEEDED, same version is already published
kjohnson1macOS 13.6.1 Ventura / arm64see weekly results here
Package 4/32HostnameOS / ArchINSTALLBUILDCHECKBUILD BIN
bsseq 1.38.0  (landing page)
Kasper Daniel Hansen
git_last_commit: 392e22c
git_last_commit_date: 2023-10-24 09:50:39 -0500
nebbiolo2Linux (Ubuntu 22.04.3 LTS) / x86_64  OK    OK    OK  UNNEEDED, same version is already published
palomino4Windows Server 2022 Datacenter / x64  OK    OK    OK    OK  UNNEEDED, same version is already published
lconwaymacOS 12.7.1 Monterey / x86_64  OK    OK    OK    OK  UNNEEDED, same version is already published
kjohnson1macOS 13.6.1 Ventura / arm64see weekly results here
Package 5/32HostnameOS / ArchINSTALLBUILDCHECKBUILD BIN
CAGEr 2.8.0  (landing page)
Charles Plessy
git_last_commit: 6ad953b
git_last_commit_date: 2023-10-24 09:52:59 -0500
nebbiolo2Linux (Ubuntu 22.04.3 LTS) / x86_64  OK    OK    OK  UNNEEDED, same version is already published
palomino4Windows Server 2022 Datacenter / x64  OK    OK    OK    OK  UNNEEDED, same version is already published
lconwaymacOS 12.7.1 Monterey / x86_64  OK    OK    OK    OK  UNNEEDED, same version is already published
kjohnson1macOS 13.6.1 Ventura / arm64see weekly results here
Package 6/32HostnameOS / ArchINSTALLBUILDCHECKBUILD BIN
Cepo 1.8.0  (landing page)
Hani Jieun Kim
git_last_commit: 5482f8e
git_last_commit_date: 2023-10-24 11:37:48 -0500
nebbiolo2Linux (Ubuntu 22.04.3 LTS) / x86_64  OK    OK    WARNINGS  UNNEEDED, same version is already published
palomino4Windows Server 2022 Datacenter / x64  OK    OK    WARNINGS    OK  UNNEEDED, same version is already published
lconwaymacOS 12.7.1 Monterey / x86_64  OK    OK    WARNINGS    OK  UNNEEDED, same version is already published
kjohnson1macOS 13.6.1 Ventura / arm64see weekly results here
Package 7/32HostnameOS / ArchINSTALLBUILDCHECKBUILD BIN
compartmap 1.20.0  (landing page)
Benjamin Johnson
git_last_commit: 4538ef1
git_last_commit_date: 2023-10-24 11:09:25 -0500
nebbiolo2Linux (Ubuntu 22.04.3 LTS) / x86_64  OK    OK    ERROR  
palomino4Windows Server 2022 Datacenter / x64  OK    OK    OK    OK  UNNEEDED, same version is already published
lconwaymacOS 12.7.1 Monterey / x86_64  OK    OK    OK    OK  UNNEEDED, same version is already published
kjohnson1macOS 13.6.1 Ventura / arm64see weekly results here
Package 8/32HostnameOS / ArchINSTALLBUILDCHECKBUILD BIN
dmrseq 1.22.1  (landing page)
Keegan Korthauer
git_last_commit: daaf07a
git_last_commit_date: 2024-02-20 13:55:13 -0500
nebbiolo2Linux (Ubuntu 22.04.3 LTS) / x86_64  OK    OK    OK  UNNEEDED, same version is already published
palomino4Windows Server 2022 Datacenter / x64  OK    OK    OK    OK  UNNEEDED, same version is already published
lconwaymacOS 12.7.1 Monterey / x86_64  OK    OK    OK    OK  UNNEEDED, same version is already published
kjohnson1macOS 13.6.1 Ventura / arm64see weekly results here
Package 9/32HostnameOS / ArchINSTALLBUILDCHECKBUILD BIN
dreamlet 1.0.2  (landing page)
Gabriel Hoffman
git_last_commit: b9646da
git_last_commit_date: 2024-02-14 12:31:44 -0500
nebbiolo2Linux (Ubuntu 22.04.3 LTS) / x86_64  OK    OK    ERROR  
palomino4Windows Server 2022 Datacenter / x64  OK    OK    ERROR    OK  
lconwaymacOS 12.7.1 Monterey / x86_64  OK    ERROR  skippedskipped
kjohnson1macOS 13.6.1 Ventura / arm64see weekly results here
Package 10/32HostnameOS / ArchINSTALLBUILDCHECKBUILD BIN
DropletUtils 1.22.0  (landing page)
Jonathan Griffiths
git_last_commit: 56d3ce8
git_last_commit_date: 2023-10-24 11:02:09 -0500
nebbiolo2Linux (Ubuntu 22.04.3 LTS) / x86_64  OK    OK    WARNINGS  UNNEEDED, same version is already published
palomino4Windows Server 2022 Datacenter / x64  OK    OK    OK    OK  UNNEEDED, same version is already published
lconwaymacOS 12.7.1 Monterey / x86_64  OK    OK    WARNINGS    OK  UNNEEDED, same version is already published
kjohnson1macOS 13.6.1 Ventura / arm64see weekly results here
Package 11/32HostnameOS / ArchINSTALLBUILDCHECKBUILD BIN
FRASER 1.14.1  (landing page)
Christian Mertes
git_last_commit: 0a7204b
git_last_commit_date: 2024-02-11 14:03:18 -0500
nebbiolo2Linux (Ubuntu 22.04.3 LTS) / x86_64  OK    OK    OK  UNNEEDED, same version is already published
palomino4Windows Server 2022 Datacenter / x64  OK    OK    OK    OK  UNNEEDED, same version is already published
lconwaymacOS 12.7.1 Monterey / x86_64  OK    OK    OK    OK  UNNEEDED, same version is already published
kjohnson1macOS 13.6.1 Ventura / arm64see weekly results here
Package 12/32HostnameOS / ArchINSTALLBUILDCHECKBUILD BIN
glmGamPoi 1.14.3  (landing page)
Constantin Ahlmann-Eltze
git_last_commit: 5fd20c7
git_last_commit_date: 2024-02-10 01:20:19 -0500
nebbiolo2Linux (Ubuntu 22.04.3 LTS) / x86_64  OK    OK    OK  UNNEEDED, same version is already published
palomino4Windows Server 2022 Datacenter / x64  OK    OK    OK    OK  UNNEEDED, same version is already published
lconwaymacOS 12.7.1 Monterey / x86_64  OK    ERROR  skippedskipped
kjohnson1macOS 13.6.1 Ventura / arm64see weekly results here
Package 13/32HostnameOS / ArchINSTALLBUILDCHECKBUILD BIN
GSVA 1.50.0  (landing page)
Robert Castelo
git_last_commit: 72a1f51
git_last_commit_date: 2023-10-24 09:46:46 -0500
nebbiolo2Linux (Ubuntu 22.04.3 LTS) / x86_64  OK    OK    OK  UNNEEDED, same version is already published
palomino4Windows Server 2022 Datacenter / x64  OK    OK    OK    OK  UNNEEDED, same version is already published
lconwaymacOS 12.7.1 Monterey / x86_64  OK    OK    OK    OK  UNNEEDED, same version is already published
kjohnson1macOS 13.6.1 Ventura / arm64see weekly results here
Package 14/32HostnameOS / ArchINSTALLBUILDCHECKBUILD BIN
lemur 1.0.5  (landing page)
Constantin Ahlmann-Eltze
git_last_commit: 001ae9f
git_last_commit_date: 2023-12-06 10:01:44 -0500
nebbiolo2Linux (Ubuntu 22.04.3 LTS) / x86_64  OK    OK    OK  UNNEEDED, same version is already published
palomino4Windows Server 2022 Datacenter / x64  OK    OK    OK    OK  UNNEEDED, same version is already published
lconwaymacOS 12.7.1 Monterey / x86_64  OK    OK    OK    OK  NO, package depends on 'glmGamPoi' which is only available as a source package that needs compilation
kjohnson1macOS 13.6.1 Ventura / arm64see weekly results here
Package 15/32HostnameOS / ArchINSTALLBUILDCHECKBUILD BIN
methrix 1.16.0  (landing page)
Anand Mayakonda
git_last_commit: 6ed5233
git_last_commit_date: 2023-10-24 11:17:51 -0500
nebbiolo2Linux (Ubuntu 22.04.3 LTS) / x86_64  OK    OK    OK  UNNEEDED, same version is already published
palomino4Windows Server 2022 Datacenter / x64  OK    OK    OK    OK  UNNEEDED, same version is already published
lconwaymacOS 12.7.1 Monterey / x86_64  OK    OK    OK    OK  UNNEEDED, same version is already published
kjohnson1macOS 13.6.1 Ventura / arm64see weekly results here
Package 16/32HostnameOS / ArchINSTALLBUILDCHECKBUILD BIN
methylSig 1.14.0  (landing page)
Raymond G. Cavalcante
git_last_commit: 341d23b
git_last_commit_date: 2023-10-24 11:21:41 -0500
nebbiolo2Linux (Ubuntu 22.04.3 LTS) / x86_64  OK    OK    OK  UNNEEDED, same version is already published
palomino4Windows Server 2022 Datacenter / x64  OK    OK    OK    OK  UNNEEDED, same version is already published
lconwaymacOS 12.7.1 Monterey / x86_64  OK    OK    OK    OK  UNNEEDED, same version is already published
kjohnson1macOS 13.6.1 Ventura / arm64see weekly results here
Package 17/32HostnameOS / ArchINSTALLBUILDCHECKBUILD BIN
mia 1.10.0  (landing page)
Tuomas Borman
git_last_commit: 9214397
git_last_commit_date: 2023-10-24 11:31:09 -0500
nebbiolo2Linux (Ubuntu 22.04.3 LTS) / x86_64  OK    OK    OK  UNNEEDED, same version is already published
palomino4Windows Server 2022 Datacenter / x64  OK    OK    OK    OK  UNNEEDED, same version is already published
lconwaymacOS 12.7.1 Monterey / x86_64  OK    OK    OK    OK  UNNEEDED, same version is already published
kjohnson1macOS 13.6.1 Ventura / arm64see weekly results here
Package 18/32HostnameOS / ArchINSTALLBUILDCHECKBUILD BIN
minfi 1.48.0  (landing page)
Kasper Daniel Hansen
git_last_commit: aef0cde
git_last_commit_date: 2023-10-24 09:48:21 -0500
nebbiolo2Linux (Ubuntu 22.04.3 LTS) / x86_64  OK    OK    OK  UNNEEDED, same version is already published
palomino4Windows Server 2022 Datacenter / x64  OK    OK    OK    OK  UNNEEDED, same version is already published
lconwaymacOS 12.7.1 Monterey / x86_64  OK    OK    OK    OK  UNNEEDED, same version is already published
kjohnson1macOS 13.6.1 Ventura / arm64see weekly results here
Package 19/32HostnameOS / ArchINSTALLBUILDCHECKBUILD BIN
mumosa 1.10.0  (landing page)
Aaron Lun
git_last_commit: f52c95a
git_last_commit_date: 2023-10-24 11:28:43 -0500
nebbiolo2Linux (Ubuntu 22.04.3 LTS) / x86_64  OK    OK    OK  UNNEEDED, same version is already published
palomino4Windows Server 2022 Datacenter / x64  OK    OK    OK    OK  UNNEEDED, same version is already published
lconwaymacOS 12.7.1 Monterey / x86_64  OK    OK    OK    OK  UNNEEDED, same version is already published
kjohnson1macOS 13.6.1 Ventura / arm64see weekly results here
Package 20/32HostnameOS / ArchINSTALLBUILDCHECKBUILD BIN
NetActivity 1.4.0  (landing page)
Carlos Ruiz-Arenas
git_last_commit: 9439204
git_last_commit_date: 2023-10-24 11:45:17 -0500
nebbiolo2Linux (Ubuntu 22.04.3 LTS) / x86_64  OK    OK    OK  UNNEEDED, same version is already published
palomino4Windows Server 2022 Datacenter / x64  OK    OK    OK    OK  UNNEEDED, same version is already published
lconwaymacOS 12.7.1 Monterey / x86_64  OK    OK    OK    OK  UNNEEDED, same version is already published
kjohnson1macOS 13.6.1 Ventura / arm64see weekly results here
Package 21/32HostnameOS / ArchINSTALLBUILDCHECKBUILD BIN
PCAtools 2.14.0  (landing page)
Kevin Blighe
git_last_commit: 42f92cf
git_last_commit_date: 2023-10-24 11:10:15 -0500
nebbiolo2Linux (Ubuntu 22.04.3 LTS) / x86_64  OK    OK    OK  UNNEEDED, same version is already published
palomino4Windows Server 2022 Datacenter / x64  OK    OK    OK    OK  UNNEEDED, same version is already published
lconwaymacOS 12.7.1 Monterey / x86_64  OK    OK    OK    OK  UNNEEDED, same version is already published
kjohnson1macOS 13.6.1 Ventura / arm64see weekly results here
Package 22/32HostnameOS / ArchINSTALLBUILDCHECKBUILD BIN
recountmethylation 1.12.0  (landing page)
Sean K Maden
git_last_commit: ac970f5
git_last_commit_date: 2023-10-24 11:25:16 -0500
nebbiolo2Linux (Ubuntu 22.04.3 LTS) / x86_64  OK    OK    OK  UNNEEDED, same version is already published
palomino4Windows Server 2022 Datacenter / x64  OK    OK    OK    OK  UNNEEDED, same version is already published
lconwaymacOS 12.7.1 Monterey / x86_64  OK    OK    OK    OK  UNNEEDED, same version is already published
kjohnson1macOS 13.6.1 Ventura / arm64see weekly results here
Package 23/32HostnameOS / ArchINSTALLBUILDCHECKBUILD BIN
SCArray 1.10.0  (landing page)
Xiuwen Zheng
git_last_commit: 0761825
git_last_commit_date: 2023-10-24 11:29:01 -0500
nebbiolo2Linux (Ubuntu 22.04.3 LTS) / x86_64  OK    OK    OK  UNNEEDED, same version is already published
palomino4Windows Server 2022 Datacenter / x64  OK    OK    OK    OK  UNNEEDED, same version is already published
lconwaymacOS 12.7.1 Monterey / x86_64  OK    OK    OK    OK  UNNEEDED, same version is already published
kjohnson1macOS 13.6.1 Ventura / arm64see weekly results here
Package 24/32HostnameOS / ArchINSTALLBUILDCHECKBUILD BIN
scFeatures 1.3.2  (landing page)
Yue Cao
git_last_commit: c3e3e6d
git_last_commit_date: 2024-01-17 23:26:53 -0500
nebbiolo2Linux (Ubuntu 22.04.3 LTS) / x86_64  OK    OK    WARNINGS  UNNEEDED, same version is already published
palomino4Windows Server 2022 Datacenter / x64  OK    OK    WARNINGS    OK  UNNEEDED, same version is already published
lconwaymacOS 12.7.1 Monterey / x86_64  OK    OK    WARNINGS    OK  UNNEEDED, same version is already published
kjohnson1macOS 13.6.1 Ventura / arm64see weekly results here
Package 25/32HostnameOS / ArchINSTALLBUILDCHECKBUILD BIN
scMerge 1.18.0  (landing page)
Yingxin Lin
git_last_commit: 8b9a2dc
git_last_commit_date: 2023-10-24 11:13:27 -0500
nebbiolo2Linux (Ubuntu 22.04.3 LTS) / x86_64  OK    OK    OK  UNNEEDED, same version is already published
palomino4Windows Server 2022 Datacenter / x64  OK    OK    OK    OK  UNNEEDED, same version is already published
lconwaymacOS 12.7.1 Monterey / x86_64  OK    OK    OK    OK  UNNEEDED, same version is already published
kjohnson1macOS 13.6.1 Ventura / arm64see weekly results here
Package 26/32HostnameOS / ArchINSTALLBUILDCHECKBUILD BIN
scran 1.30.2  (landing page)
Aaron Lun
git_last_commit: f01bc21
git_last_commit_date: 2024-01-20 01:35:18 -0500
nebbiolo2Linux (Ubuntu 22.04.3 LTS) / x86_64  OK    OK    WARNINGS  UNNEEDED, same version is already published
palomino4Windows Server 2022 Datacenter / x64  OK    OK    WARNINGS    OK  UNNEEDED, same version is already published
lconwaymacOS 12.7.1 Monterey / x86_64  OK    OK    WARNINGS    OK  UNNEEDED, same version is already published
kjohnson1macOS 13.6.1 Ventura / arm64see weekly results here
Package 27/32HostnameOS / ArchINSTALLBUILDCHECKBUILD BIN
scuttle 1.12.0  (landing page)
Aaron Lun
git_last_commit: 94dd066
git_last_commit_date: 2023-10-24 11:22:45 -0500
nebbiolo2Linux (Ubuntu 22.04.3 LTS) / x86_64  OK    OK    OK  UNNEEDED, same version is already published
palomino4Windows Server 2022 Datacenter / x64  OK    OK    OK    OK  UNNEEDED, same version is already published
lconwaymacOS 12.7.1 Monterey / x86_64  OK    OK    OK    OK  UNNEEDED, same version is already published
kjohnson1macOS 13.6.1 Ventura / arm64see weekly results here
Package 28/32HostnameOS / ArchINSTALLBUILDCHECKBUILD BIN
singleCellTK 2.12.2  (landing page)
Joshua David Campbell
git_last_commit: 14c92130
git_last_commit_date: 2024-02-05 14:45:10 -0500
nebbiolo2Linux (Ubuntu 22.04.3 LTS) / x86_64  OK    OK    TIMEOUT  
palomino4Windows Server 2022 Datacenter / x64  OK    OK    OK    OK  UNNEEDED, same version is already published
lconwaymacOS 12.7.1 Monterey / x86_64  OK    OK    OK    OK  UNNEEDED, same version is already published
kjohnson1macOS 13.6.1 Ventura / arm64see weekly results here
Package 29/32HostnameOS / ArchINSTALLBUILDCHECKBUILD BIN
SingleR 2.4.1  (landing page)
Aaron Lun
git_last_commit: fab56fd
git_last_commit_date: 2024-01-05 19:00:37 -0500
nebbiolo2Linux (Ubuntu 22.04.3 LTS) / x86_64  OK    OK    WARNINGS  UNNEEDED, same version is already published
palomino4Windows Server 2022 Datacenter / x64  OK    OK    OK    OK  UNNEEDED, same version is already published
lconwaymacOS 12.7.1 Monterey / x86_64  OK    OK    WARNINGS    OK  UNNEEDED, same version is already published
kjohnson1macOS 13.6.1 Ventura / arm64see weekly results here
Package 30/32HostnameOS / ArchINSTALLBUILDCHECKBUILD BIN
sparrow 1.8.0  (landing page)
Steve Lianoglou
git_last_commit: 115a98f
git_last_commit_date: 2023-10-24 11:36:55 -0500
nebbiolo2Linux (Ubuntu 22.04.3 LTS) / x86_64  OK    OK    OK  UNNEEDED, same version is already published
palomino4Windows Server 2022 Datacenter / x64  OK    OK    OK    OK  UNNEEDED, same version is already published
lconwaymacOS 12.7.1 Monterey / x86_64  OK    OK    OK    OK  UNNEEDED, same version is already published
kjohnson1macOS 13.6.1 Ventura / arm64see weekly results here
Package 31/32HostnameOS / ArchINSTALLBUILDCHECKBUILD BIN
SpliceWiz 1.4.1  (landing page)
Alex Chit Hei Wong
git_last_commit: e98216c
git_last_commit_date: 2024-01-04 23:20:45 -0500
nebbiolo2Linux (Ubuntu 22.04.3 LTS) / x86_64  OK    OK    OK  UNNEEDED, same version is already published
palomino4Windows Server 2022 Datacenter / x64  OK    OK    OK    OK  UNNEEDED, same version is already published
lconwaymacOS 12.7.1 Monterey / x86_64  OK    OK    OK    OK  UNNEEDED, same version is already published
kjohnson1macOS 13.6.1 Ventura / arm64see weekly results here
Package 32/32HostnameOS / ArchINSTALLBUILDCHECKBUILD BIN
weitrix 1.14.0  (landing page)
Paul Harrison
git_last_commit: 2633120
git_last_commit_date: 2023-10-24 11:22:20 -0500
nebbiolo2Linux (Ubuntu 22.04.3 LTS) / x86_64  OK    OK    OK  UNNEEDED, same version is already published
palomino4Windows Server 2022 Datacenter / x64  OK    OK    OK    OK  UNNEEDED, same version is already published
lconwaymacOS 12.7.1 Monterey / x86_64  OK    OK    OK    OK  UNNEEDED, same version is already published
kjohnson1macOS 13.6.1 Ventura / arm64see weekly results here