Back to Multiple platform build/check report for BioC 3.19:   simplified   long
ABCDEFGHIJKLMNOPQR[S]TUVWXYZ

This page was generated on 2024-06-11 14:39 -0400 (Tue, 11 Jun 2024).

HostnameOSArch (*)R versionInstalled pkgs
nebbiolo1Linux (Ubuntu 22.04.3 LTS)x86_644.4.0 (2024-04-24) -- "Puppy Cup" 4757
palomino3Windows Server 2022 Datacenterx644.4.0 (2024-04-24 ucrt) -- "Puppy Cup" 4491
lconwaymacOS 12.7.1 Montereyx86_644.4.0 (2024-04-24) -- "Puppy Cup" 4522
kjohnson3macOS 13.6.5 Venturaarm644.4.0 (2024-04-24) -- "Puppy Cup" 4468
Click on any hostname to see more info about the system (e.g. compilers)      (*) as reported by 'uname -p', except on Windows and Mac OS X

All results for package scater


To the developers/maintainers of the scater package:
- Allow up to 24 hours (and sometimes 48 hours) for your latest push to git@git.bioconductor.org:packages/scater.git to reflect on this report. See Troubleshooting Build Report for more information.
- Use the following Renviron settings to reproduce errors and warnings.
- If 'R CMD check' started to fail recently on the Linux builder(s) over a missing dependency, add the missing dependency to 'Suggests:' in your DESCRIPTION file. See Renviron.bioc for more information.

raw results

Package 1876/2300HostnameOS / ArchINSTALLBUILDCHECKBUILD BIN
scater 1.32.0  (landing page)
Alan O'Callaghan
Snapshot Date: 2024-06-09 14:00 -0400 (Sun, 09 Jun 2024)
git_url: https://git.bioconductor.org/packages/scater
git_branch: RELEASE_3_19
git_last_commit: 8256e28
git_last_commit_date: 2024-04-30 10:48:21 -0400 (Tue, 30 Apr 2024)
nebbiolo1Linux (Ubuntu 22.04.3 LTS) / x86_64  OK    OK    OK  UNNEEDED, same version is already published
palomino3Windows Server 2022 Datacenter / x64  OK    OK    OK    OK  UNNEEDED, same version is already published
lconwaymacOS 12.7.1 Monterey / x86_64  OK    OK    OK    OK  UNNEEDED, same version is already published
kjohnson3macOS 13.6.5 Ventura / arm64  OK    OK    ERROR    OK  



Results for Bioconductor software packages that depend directly on package scater

QUICK STATSOS / ArchINSTALLBUILDCHECKBUILD BIN
nebbiolo1Linux (Ubuntu 22.04.3 LTS) / x86_64
0030
0129
00227
palomino3Windows Server 2022 Datacenter / x64
0028
0127
00225
0027
lconwaymacOS 12.7.1 Monterey / x86_64
0030
0228
00226
0028
kjohnson3macOS 13.6.5 Ventura / arm64
0129
0426
01322
0026
Package 1/30HostnameOS / ArchINSTALLBUILDCHECKBUILD BIN
airpart 1.12.0  (landing page)
Wancen Mu
git_last_commit: 41e1b1b
git_last_commit_date: 2024-04-30 11:32:40 -0400
nebbiolo1Linux (Ubuntu 22.04.3 LTS) / x86_64  OK    OK    OK  UNNEEDED, same version is already published
palomino3Windows Server 2022 Datacenter / x64  OK    OK    OK    OK  UNNEEDED, same version is already published
lconwaymacOS 12.7.1 Monterey / x86_64  OK    OK    OK    OK  UNNEEDED, same version is already published
kjohnson3macOS 13.6.5 Ventura / arm64  OK    OK    OK    OK  UNNEEDED, same version is already published
Package 2/30HostnameOS / ArchINSTALLBUILDCHECKBUILD BIN
BayesSpace 1.14.0  (landing page)
Matt Stone
git_last_commit: 0016140
git_last_commit_date: 2024-04-30 11:27:53 -0400
nebbiolo1Linux (Ubuntu 22.04.3 LTS) / x86_64  OK    OK    OK  UNNEEDED, same version is already published
palomino3Windows Server 2022 Datacenter / x64  OK    OK    OK    OK  UNNEEDED, same version is already published
lconwaymacOS 12.7.1 Monterey / x86_64  OK    OK    OK    OK  UNNEEDED, same version is already published
kjohnson3macOS 13.6.5 Ventura / arm64  OK    OK    OK    OK  UNNEEDED, same version is already published
Package 3/30HostnameOS / ArchINSTALLBUILDCHECKBUILD BIN
CATALYST 1.28.0  (landing page)
Helena L. Crowell
git_last_commit: 1c6f8e1
git_last_commit_date: 2024-04-30 10:57:37 -0400
nebbiolo1Linux (Ubuntu 22.04.3 LTS) / x86_64  OK    OK    OK  UNNEEDED, same version is already published
palomino3Windows Server 2022 Datacenter / x64  OK    OK    OK    OK  UNNEEDED, same version is already published
lconwaymacOS 12.7.1 Monterey / x86_64  OK    OK    OK    OK  UNNEEDED, same version is already published
kjohnson3macOS 13.6.5 Ventura / arm64  OK    OK    ERROR    OK  
Package 4/30HostnameOS / ArchINSTALLBUILDCHECKBUILD BIN
celda 1.20.0  (landing page)
Joshua Campbell
git_last_commit: 7e5755c
git_last_commit_date: 2024-04-30 11:14:54 -0400
nebbiolo1Linux (Ubuntu 22.04.3 LTS) / x86_64  OK    OK    OK  UNNEEDED, same version is already published
palomino3Windows Server 2022 Datacenter / x64  OK    OK    OK    OK  UNNEEDED, same version is already published
lconwaymacOS 12.7.1 Monterey / x86_64  OK    OK    OK    OK  UNNEEDED, same version is already published
kjohnson3macOS 13.6.5 Ventura / arm64  OK    OK    OK    OK  UNNEEDED, same version is already published
Package 5/30HostnameOS / ArchINSTALLBUILDCHECKBUILD BIN
CelliD 1.12.0  (landing page)
Akira Cortal
git_last_commit: 32cdf76
git_last_commit_date: 2024-04-30 11:32:13 -0400
nebbiolo1Linux (Ubuntu 22.04.3 LTS) / x86_64  OK    OK    WARNINGS  UNNEEDED, same version is already published
palomino3Windows Server 2022 Datacenter / x64  OK    OK    WARNINGS    OK  UNNEEDED, same version is already published
lconwaymacOS 12.7.1 Monterey / x86_64  OK    OK    WARNINGS    OK  UNNEEDED, same version is already published
kjohnson3macOS 13.6.5 Ventura / arm64  OK    OK    WARNINGS    OK  UNNEEDED, same version is already published
Package 6/30HostnameOS / ArchINSTALLBUILDCHECKBUILD BIN
CellMixS 1.20.0  (landing page)
Almut Lütge
git_last_commit: 6f961ce
git_last_commit_date: 2024-04-30 11:13:44 -0400
nebbiolo1Linux (Ubuntu 22.04.3 LTS) / x86_64  OK    OK    OK  UNNEEDED, same version is already published
palomino3Windows Server 2022 Datacenter / x64  OK    OK    OK    OK  UNNEEDED, same version is already published
lconwaymacOS 12.7.1 Monterey / x86_64  OK    OK    OK    OK  UNNEEDED, same version is already published
kjohnson3macOS 13.6.5 Ventura / arm64  OK    OK    OK    OK  UNNEEDED, same version is already published
Package 7/30HostnameOS / ArchINSTALLBUILDCHECKBUILD BIN
ChromSCape 1.14.0  (landing page)
Pacome Prompsy
git_last_commit: ecb3c51
git_last_commit_date: 2024-04-30 11:27:45 -0400
nebbiolo1Linux (Ubuntu 22.04.3 LTS) / x86_64  OK    OK    WARNINGS  UNNEEDED, same version is already published
palomino3Windows Server 2022 Datacenter / x64  OK    OK    WARNINGS    OK  UNNEEDED, same version is already published
lconwaymacOS 12.7.1 Monterey / x86_64  OK    OK    WARNINGS    OK  UNNEEDED, same version is already published
kjohnson3macOS 13.6.5 Ventura / arm64  OK    OK    WARNINGS    OK  UNNEEDED, same version is already published
Package 8/30HostnameOS / ArchINSTALLBUILDCHECKBUILD BIN
decontX 1.2.0  (landing page)
Yuan Yin
git_last_commit: c25cf57
git_last_commit_date: 2024-04-30 11:52:45 -0400
nebbiolo1Linux (Ubuntu 22.04.3 LTS) / x86_64  OK    OK    OK  UNNEEDED, same version is already published
palomino3Windows Server 2022 Datacenter / x64  OK    OK    OK    OK  UNNEEDED, same version is already published
lconwaymacOS 12.7.1 Monterey / x86_64  OK    OK    OK    OK  UNNEEDED, same version is already published
kjohnson3macOS 13.6.5 Ventura / arm64  OK    OK    WARNINGS    OK  UNNEEDED, same version is already published
Package 9/30HostnameOS / ArchINSTALLBUILDCHECKBUILD BIN
distinct 1.16.0  (landing page)
Simone Tiberi
git_last_commit: 08e8e0b
git_last_commit_date: 2024-04-30 11:22:44 -0400
nebbiolo1Linux (Ubuntu 22.04.3 LTS) / x86_64  OK    OK    OK  UNNEEDED, same version is already published
palomino3Windows Server 2022 Datacenter / x64  OK    OK    OK    OK  UNNEEDED, same version is already published
lconwaymacOS 12.7.1 Monterey / x86_64  OK    OK    OK    OK  UNNEEDED, same version is already published
kjohnson3macOS 13.6.5 Ventura / arm64  OK    OK    OK    OK  UNNEEDED, same version is already published
Package 10/30HostnameOS / ArchINSTALLBUILDCHECKBUILD BIN
epiregulon.extra 1.0.0  (landing page)
Xiaosai Yao
git_last_commit: fbbe371
git_last_commit_date: 2024-04-30 11:56:37 -0400
nebbiolo1Linux (Ubuntu 22.04.3 LTS) / x86_64  OK    OK    OK  UNNEEDED, same version is already published
palomino3Windows Server 2022 Datacenter / x64  OK    OK    OK    OK  UNNEEDED, same version is already published
lconwaymacOS 12.7.1 Monterey / x86_64  OK    OK    OK    OK  UNNEEDED, same version is already published
kjohnson3macOS 13.6.5 Ventura / arm64  OK    OK    OK    OK  UNNEEDED, same version is already published
Package 11/30HostnameOS / ArchINSTALLBUILDCHECKBUILD BIN
FLAMES 1.10.0  (landing page)
Changqing Wang
git_last_commit: bd149f9
git_last_commit_date: 2024-04-30 11:35:54 -0400
nebbiolo1Linux (Ubuntu 22.04.3 LTS) / x86_64  OK    OK    OK  UNNEEDED, same version is already published
palomino3Windows Server 2022 Datacenter / x64... NOT SUPPORTED ...
lconwaymacOS 12.7.1 Monterey / x86_64  OK    OK    OK    OK  UNNEEDED, same version is already published
kjohnson3macOS 13.6.5 Ventura / arm64  ERROR    ERROR  skippedskipped
Package 12/30HostnameOS / ArchINSTALLBUILDCHECKBUILD BIN
IRISFGM 1.12.0  (landing page)
Yuzhou Chang
git_last_commit: 2cf5874
git_last_commit_date: 2024-04-30 11:31:21 -0400
nebbiolo1Linux (Ubuntu 22.04.3 LTS) / x86_64  OK    ERROR  skipped
palomino3Windows Server 2022 Datacenter / x64  OK    ERROR  skippedskipped
lconwaymacOS 12.7.1 Monterey / x86_64  OK    ERROR  skippedskipped
kjohnson3macOS 13.6.5 Ventura / arm64  OK    ERROR  skippedskipped
Package 13/30HostnameOS / ArchINSTALLBUILDCHECKBUILD BIN
M3Drop 1.30.0  (landing page)
Tallulah Andrews
git_last_commit: a0bf0c3
git_last_commit_date: 2024-04-30 10:54:44 -0400
nebbiolo1Linux (Ubuntu 22.04.3 LTS) / x86_64  OK    OK    OK  UNNEEDED, same version is already published
palomino3Windows Server 2022 Datacenter / x64  OK    OK    OK    OK  UNNEEDED, same version is already published
lconwaymacOS 12.7.1 Monterey / x86_64  OK    OK    OK    OK  UNNEEDED, same version is already published
kjohnson3macOS 13.6.5 Ventura / arm64  OK    OK    OK    OK  UNNEEDED, same version is already published
Package 14/30HostnameOS / ArchINSTALLBUILDCHECKBUILD BIN
MEB 1.18.0  (landing page)
Jiadi Zhu
git_last_commit: 920079b
git_last_commit_date: 2024-04-30 11:17:45 -0400
nebbiolo1Linux (Ubuntu 22.04.3 LTS) / x86_64  OK    OK    OK  UNNEEDED, same version is already published
palomino3Windows Server 2022 Datacenter / x64  OK    OK    OK    OK  UNNEEDED, same version is already published
lconwaymacOS 12.7.1 Monterey / x86_64  OK    OK    OK    OK  UNNEEDED, same version is already published
kjohnson3macOS 13.6.5 Ventura / arm64  OK    OK    OK    OK  UNNEEDED, same version is already published
Package 15/30HostnameOS / ArchINSTALLBUILDCHECKBUILD BIN
mia 1.12.0  (landing page)
Tuomas Borman
git_last_commit: 38dad1b
git_last_commit_date: 2024-04-30 11:32:24 -0400
nebbiolo1Linux (Ubuntu 22.04.3 LTS) / x86_64  OK    OK    OK  UNNEEDED, same version is already published
palomino3Windows Server 2022 Datacenter / x64  OK    OK    OK    OK  UNNEEDED, same version is already published
lconwaymacOS 12.7.1 Monterey / x86_64  OK    OK    OK    OK  UNNEEDED, same version is already published
kjohnson3macOS 13.6.5 Ventura / arm64  OK    OK    OK    OK  UNNEEDED, same version is already published
Package 16/30HostnameOS / ArchINSTALLBUILDCHECKBUILD BIN
miaViz 1.12.0  (landing page)
Tuomas Borman
git_last_commit: 945b0cc
git_last_commit_date: 2024-04-30 11:32:37 -0400
nebbiolo1Linux (Ubuntu 22.04.3 LTS) / x86_64  OK    OK    OK  UNNEEDED, same version is already published
palomino3Windows Server 2022 Datacenter / x64  OK    OK    OK    OK  UNNEEDED, same version is already published
lconwaymacOS 12.7.1 Monterey / x86_64  OK    OK    OK    OK  UNNEEDED, same version is already published
kjohnson3macOS 13.6.5 Ventura / arm64  OK    OK    OK    OK  UNNEEDED, same version is already published
Package 17/30HostnameOS / ArchINSTALLBUILDCHECKBUILD BIN
muscat 1.18.0  (landing page)
Helena L. Crowell
git_last_commit: b9fcf7f
git_last_commit_date: 2024-04-30 11:16:47 -0400
nebbiolo1Linux (Ubuntu 22.04.3 LTS) / x86_64  OK    OK    OK  UNNEEDED, same version is already published
palomino3Windows Server 2022 Datacenter / x64  OK    OK    OK    OK  UNNEEDED, same version is already published
lconwaymacOS 12.7.1 Monterey / x86_64  OK    OK    OK    OK  UNNEEDED, same version is already published
kjohnson3macOS 13.6.5 Ventura / arm64  OK    ERROR  skippedskipped
Package 18/30HostnameOS / ArchINSTALLBUILDCHECKBUILD BIN
netSmooth 1.24.0  (landing page)
Jonathan Ronen
git_last_commit: 6323412
git_last_commit_date: 2024-04-30 11:06:35 -0400
nebbiolo1Linux (Ubuntu 22.04.3 LTS) / x86_64  OK    OK    OK  UNNEEDED, same version is already published
palomino3Windows Server 2022 Datacenter / x64  OK    OK    OK    OK  UNNEEDED, same version is already published
lconwaymacOS 12.7.1 Monterey / x86_64  OK    OK    OK    OK  UNNEEDED, same version is already published
kjohnson3macOS 13.6.5 Ventura / arm64  OK    OK    OK    OK  UNNEEDED, same version is already published
Package 19/30HostnameOS / ArchINSTALLBUILDCHECKBUILD BIN
peco 1.16.0  (landing page)
Chiaowen Joyce Hsiao
git_last_commit: 9f5b8e3
git_last_commit_date: 2024-04-30 11:22:28 -0400
nebbiolo1Linux (Ubuntu 22.04.3 LTS) / x86_64  OK    OK    OK  UNNEEDED, same version is already published
palomino3Windows Server 2022 Datacenter / x64  OK    OK    OK    OK  UNNEEDED, same version is already published
lconwaymacOS 12.7.1 Monterey / x86_64  OK    OK    OK    OK  UNNEEDED, same version is already published
kjohnson3macOS 13.6.5 Ventura / arm64  OK    OK    OK    OK  UNNEEDED, same version is already published
Package 20/30HostnameOS / ArchINSTALLBUILDCHECKBUILD BIN
pipeComp 1.14.0  (landing page)
Pierre-Luc Germain
git_last_commit: ca9f09f
git_last_commit_date: 2024-04-30 11:25:00 -0400
nebbiolo1Linux (Ubuntu 22.04.3 LTS) / x86_64  OK    OK    OK  UNNEEDED, same version is already published
palomino3Windows Server 2022 Datacenter / x64  OK    OK    OK    OK  UNNEEDED, same version is already published
lconwaymacOS 12.7.1 Monterey / x86_64  OK    OK    OK    OK  UNNEEDED, same version is already published
kjohnson3macOS 13.6.5 Ventura / arm64  OK    OK    OK    OK  UNNEEDED, same version is already published
Package 21/30HostnameOS / ArchINSTALLBUILDCHECKBUILD BIN
RegionalST 1.2.0  (landing page)
Ziyi Li
git_last_commit: 4a6fc9d
git_last_commit_date: 2024-04-30 11:50:45 -0400
nebbiolo1Linux (Ubuntu 22.04.3 LTS) / x86_64  OK    OK    OK  UNNEEDED, same version is already published
palomino3Windows Server 2022 Datacenter / x64  OK    OK    OK    OK  UNNEEDED, same version is already published
lconwaymacOS 12.7.1 Monterey / x86_64  OK    OK    OK    OK  UNNEEDED, same version is already published
kjohnson3macOS 13.6.5 Ventura / arm64  OK    OK    OK    OK  UNNEEDED, same version is already published
Package 22/30HostnameOS / ArchINSTALLBUILDCHECKBUILD BIN
scDblFinder 1.18.0  (landing page)
Pierre-Luc Germain
git_last_commit: 226a100
git_last_commit_date: 2024-04-30 11:18:45 -0400
nebbiolo1Linux (Ubuntu 22.04.3 LTS) / x86_64  OK    OK    OK  UNNEEDED, same version is already published
palomino3Windows Server 2022 Datacenter / x64  OK    OK    OK    OK  UNNEEDED, same version is already published
lconwaymacOS 12.7.1 Monterey / x86_64  OK    OK    OK    OK  UNNEEDED, same version is already published
kjohnson3macOS 13.6.5 Ventura / arm64  OK    OK    OK    OK  UNNEEDED, same version is already published
Package 23/30HostnameOS / ArchINSTALLBUILDCHECKBUILD BIN
scMerge 1.20.0  (landing page)
Yingxin Lin
git_last_commit: 0b5d058
git_last_commit_date: 2024-04-30 11:14:29 -0400
nebbiolo1Linux (Ubuntu 22.04.3 LTS) / x86_64  OK    OK    OK  UNNEEDED, same version is already published
palomino3Windows Server 2022 Datacenter / x64  OK    OK    OK    OK  UNNEEDED, same version is already published
lconwaymacOS 12.7.1 Monterey / x86_64  OK    OK    OK    OK  UNNEEDED, same version is already published
kjohnson3macOS 13.6.5 Ventura / arm64  OK    OK    OK    OK  UNNEEDED, same version is already published
Package 24/30HostnameOS / ArchINSTALLBUILDCHECKBUILD BIN
scTreeViz 1.10.0  (landing page)
Jayaram Kancherla
git_last_commit: 2f5ac29
git_last_commit_date: 2024-04-30 11:37:42 -0400
nebbiolo1Linux (Ubuntu 22.04.3 LTS) / x86_64  OK    OK    OK  UNNEEDED, same version is already published
palomino3Windows Server 2022 Datacenter / x64  OK    OK    OK    OK  UNNEEDED, same version is already published
lconwaymacOS 12.7.1 Monterey / x86_64  OK    OK    OK    OK  UNNEEDED, same version is already published
kjohnson3macOS 13.6.5 Ventura / arm64  OK    OK    OK    OK  UNNEEDED, same version is already published
Package 25/30HostnameOS / ArchINSTALLBUILDCHECKBUILD BIN
scviR 1.4.0  (landing page)
Vincent Carey
git_last_commit: c432439
git_last_commit_date: 2024-04-30 11:47:51 -0400
nebbiolo1Linux (Ubuntu 22.04.3 LTS) / x86_64  OK    OK    OK  UNNEEDED, same version is already published
palomino3Windows Server 2022 Datacenter / x64... NOT SUPPORTED ...
lconwaymacOS 12.7.1 Monterey / x86_64  OK    ERROR  skippedskipped
kjohnson3macOS 13.6.5 Ventura / arm64  OK    OK    OK    OK  UNNEEDED, same version is already published
Package 26/30HostnameOS / ArchINSTALLBUILDCHECKBUILD BIN
singleCellTK 2.14.0  (landing page)
Joshua David Campbell
git_last_commit: cd29b84
git_last_commit_date: 2024-04-30 11:06:02 -0400
nebbiolo1Linux (Ubuntu 22.04.3 LTS) / x86_64  OK    OK    OK  UNNEEDED, same version is already published
palomino3Windows Server 2022 Datacenter / x64  OK    OK    OK    OK  UNNEEDED, same version is already published
lconwaymacOS 12.7.1 Monterey / x86_64  OK    OK    OK    OK  UNNEEDED, same version is already published
kjohnson3macOS 13.6.5 Ventura / arm64  OK    OK    OK    OK  UNNEEDED, same version is already published
Package 27/30HostnameOS / ArchINSTALLBUILDCHECKBUILD BIN
Spaniel 1.18.0  (landing page)
Rachel Queen
git_last_commit: d05a808
git_last_commit_date: 2024-04-30 11:17:35 -0400
nebbiolo1Linux (Ubuntu 22.04.3 LTS) / x86_64  OK    OK    OK  UNNEEDED, same version is already published
palomino3Windows Server 2022 Datacenter / x64  OK    OK    OK    OK  UNNEEDED, same version is already published
lconwaymacOS 12.7.1 Monterey / x86_64  OK    OK    OK    OK  UNNEEDED, same version is already published
kjohnson3macOS 13.6.5 Ventura / arm64  OK    OK    OK    OK  UNNEEDED, same version is already published
Package 28/30HostnameOS / ArchINSTALLBUILDCHECKBUILD BIN
spatialHeatmap 2.10.0  (landing page)
Jianhai Zhang
git_last_commit: 59bbb65
git_last_commit_date: 2024-04-30 11:27:48 -0400
nebbiolo1Linux (Ubuntu 22.04.3 LTS) / x86_64  OK    OK    OK  UNNEEDED, same version is already published
palomino3Windows Server 2022 Datacenter / x64  OK    OK    OK    OK  UNNEEDED, same version is already published
lconwaymacOS 12.7.1 Monterey / x86_64  OK    OK    OK    OK  UNNEEDED, same version is already published
kjohnson3macOS 13.6.5 Ventura / arm64  OK    OK    OK    OK  UNNEEDED, same version is already published
Package 29/30HostnameOS / ArchINSTALLBUILDCHECKBUILD BIN
tricycle 1.12.0  (landing page)
Shijie Zheng
git_last_commit: b8b8f3b
git_last_commit_date: 2024-04-30 11:33:19 -0400
nebbiolo1Linux (Ubuntu 22.04.3 LTS) / x86_64  OK    OK    OK  UNNEEDED, same version is already published
palomino3Windows Server 2022 Datacenter / x64  OK    OK    OK    OK  UNNEEDED, same version is already published
lconwaymacOS 12.7.1 Monterey / x86_64  OK    OK    OK    OK  UNNEEDED, same version is already published
kjohnson3macOS 13.6.5 Ventura / arm64  OK    OK    OK    OK  UNNEEDED, same version is already published
Package 30/30HostnameOS / ArchINSTALLBUILDCHECKBUILD BIN
VAExprs 1.10.0  (landing page)
Dongmin Jung
git_last_commit: e637622
git_last_commit_date: 2024-04-30 11:36:10 -0400
nebbiolo1Linux (Ubuntu 22.04.3 LTS) / x86_64  OK    OK    OK  UNNEEDED, same version is already published
palomino3Windows Server 2022 Datacenter / x64  OK    OK    OK    OK  UNNEEDED, same version is already published
lconwaymacOS 12.7.1 Monterey / x86_64  OK    OK    OK    OK  UNNEEDED, same version is already published
kjohnson3macOS 13.6.5 Ventura / arm64  OK    ERROR  skippedskipped