Back to Multiple platform build/check report for BioC 3.14
ABCDE[F]GHIJKLMNOPQRSTUVWXYZ

This page was generated on 2021-10-26 14:05:41 -0400 (Tue, 26 Oct 2021).

All results for package flowWorkspace

To the developers/maintainers of the flowWorkspace package:
- Please allow up to 24 hours (and sometimes 48 hours) for your latest push to git@git.bioconductor.org:packages/flowWorkspace.git to
reflect on this report. See How and When does the builder pull? When will my changes propagate? here for more information.
- Make sure to use the following settings in order to reproduce any error or warning you see on this page.

raw results

Package 678/2083HostnameOS / ArchINSTALLBUILDCHECKBUILD BIN
flowWorkspace 4.5.3  (landing page)
Greg Finak , Mike Jiang
Snapshot Date: 2021-10-25 14:50:11 -0400 (Mon, 25 Oct 2021)
git_url: https://git.bioconductor.org/packages/flowWorkspace
git_branch: master
git_last_commit: c85799e7
git_last_commit_date: 2021-07-30 13:33:21 -0400 (Fri, 30 Jul 2021)
nebbiolo2Linux (Ubuntu 20.04.2 LTS) / x86_64  OK    OK    WARNINGS  UNNEEDED, same version is already published
riesling1Windows Server 2019 Standard / x64  OK    OK    WARNINGS    OK  UNNEEDED, same version is already published
merida1macOS 10.14.6 Mojave / x86_64  OK    OK    WARNINGS    OK  UNNEEDED, same version is already published
machv2macOS 10.14.6 Mojave / x86_64  OK    OK    WARNINGS    OK  

Results for Bioconductor software packages that depend directly on package flowWorkspace

QUICK STATSOS / ArchINSTALLBUILDCHECKBUILD BIN
nebbiolo2Linux (Ubuntu 20.04.2 LTS) / x86_64
008
008
0026
riesling1Windows Server 2019 Standard / x64
008
008
0026
008
merida1macOS 10.14.6 Mojave / x86_64
008
008
0026
008
machv2macOS 10.14.6 Mojave / x86_64
008
008
0026
008
Package 1/8HostnameOS / ArchINSTALLBUILDCHECKBUILD BIN
CytoML 2.5.4  (landing page)
Mike Jiang
git_last_commit: 25aee0d
git_last_commit_date: 2021-08-02 13:10:43 -0400
nebbiolo2Linux (Ubuntu 20.04.2 LTS) / x86_64  OK    OK    WARNINGS  UNNEEDED, same version is already published
riesling1Windows Server 2019 Standard / x64  OK    OK    WARNINGS    OK  UNNEEDED, same version is already published
merida1macOS 10.14.6 Mojave / x86_64  OK    OK    WARNINGS    OK  UNNEEDED, same version is already published
machv2macOS 10.14.6 Mojave / x86_64  OK    OK    WARNINGS    OK  
Package 2/8HostnameOS / ArchINSTALLBUILDCHECKBUILD BIN
flowDensity 1.27.2  (landing page)
Mehrnoush Malek
git_last_commit: 47fb2ff8
git_last_commit_date: 2021-08-06 12:18:05 -0400
nebbiolo2Linux (Ubuntu 20.04.2 LTS) / x86_64  OK    OK    WARNINGS  UNNEEDED, same version is already published
riesling1Windows Server 2019 Standard / x64  OK    OK    WARNINGS    OK  UNNEEDED, same version is already published
merida1macOS 10.14.6 Mojave / x86_64  OK    OK    WARNINGS    OK  UNNEEDED, same version is already published
machv2macOS 10.14.6 Mojave / x86_64  OK    OK    WARNINGS    OK  
Package 3/8HostnameOS / ArchINSTALLBUILDCHECKBUILD BIN
FlowSOM 2.1.24  (landing page)
Sofie Van Gassen
git_last_commit: 2da26cf
git_last_commit_date: 2021-10-20 11:08:54 -0400
nebbiolo2Linux (Ubuntu 20.04.2 LTS) / x86_64  OK    OK    OK  UNNEEDED, same version is already published
riesling1Windows Server 2019 Standard / x64  OK    OK    OK    OK  UNNEEDED, same version is already published
merida1macOS 10.14.6 Mojave / x86_64  OK    OK    OK    OK  UNNEEDED, same version is already published
machv2macOS 10.14.6 Mojave / x86_64  OK    OK    OK    OK  
Package 4/8HostnameOS / ArchINSTALLBUILDCHECKBUILD BIN
flowStats 4.5.1  (landing page)
Greg Finak , Mike Jiang , Jake Wagner
git_last_commit: 5932e47
git_last_commit_date: 2021-07-30 14:05:12 -0400
nebbiolo2Linux (Ubuntu 20.04.2 LTS) / x86_64  OK    OK    OK  UNNEEDED, same version is already published
riesling1Windows Server 2019 Standard / x64  OK    OK    OK    OK  UNNEEDED, same version is already published
merida1macOS 10.14.6 Mojave / x86_64  OK    OK    OK    OK  UNNEEDED, same version is already published
machv2macOS 10.14.6 Mojave / x86_64  OK    OK    OK    OK  
Package 5/8HostnameOS / ArchINSTALLBUILDCHECKBUILD BIN
ggcyto 1.21.0  (landing page)
Mike Jiang ,Jake Wagner
git_last_commit: 834a4c4
git_last_commit_date: 2021-05-19 12:17:22 -0400
nebbiolo2Linux (Ubuntu 20.04.2 LTS) / x86_64  OK    OK    OK  UNNEEDED, same version is already published
riesling1Windows Server 2019 Standard / x64  OK    OK    OK    OK  UNNEEDED, same version is already published
merida1macOS 10.14.6 Mojave / x86_64  OK    OK    OK    OK  UNNEEDED, same version is already published
machv2macOS 10.14.6 Mojave / x86_64  OK    OK    OK    OK  
Package 6/8HostnameOS / ArchINSTALLBUILDCHECKBUILD BIN
ImmuneSpaceR 1.21.0  (landing page)
ImmuneSpace Package Maintainer
git_last_commit: 94ad26e
git_last_commit_date: 2021-05-19 12:20:27 -0400
nebbiolo2Linux (Ubuntu 20.04.2 LTS) / x86_64  OK    OK    OK  UNNEEDED, same version is already published
riesling1Windows Server 2019 Standard / x64  OK    OK    OK    OK  UNNEEDED, same version is already published
merida1macOS 10.14.6 Mojave / x86_64  OK    OK    OK    OK  UNNEEDED, same version is already published
machv2macOS 10.14.6 Mojave / x86_64  OK    OK    OK    OK  
Package 7/8HostnameOS / ArchINSTALLBUILDCHECKBUILD BIN
openCyto 2.5.4  (landing page)
Mike Jiang ,Jake Wagner
git_last_commit: 22c609b
git_last_commit_date: 2021-07-30 13:41:51 -0400
nebbiolo2Linux (Ubuntu 20.04.2 LTS) / x86_64  OK    OK    OK  UNNEEDED, same version is already published
riesling1Windows Server 2019 Standard / x64  OK    OK    OK    OK  UNNEEDED, same version is already published
merida1macOS 10.14.6 Mojave / x86_64  OK    OK    OK    OK  UNNEEDED, same version is already published
machv2macOS 10.14.6 Mojave / x86_64  OK    OK    OK    OK  
Package 8/8HostnameOS / ArchINSTALLBUILDCHECKBUILD BIN
PeacoQC 1.3.3  (landing page)
Annelies Emmaneel
git_last_commit: 34dfeb5
git_last_commit_date: 2021-08-23 10:24:13 -0400
nebbiolo2Linux (Ubuntu 20.04.2 LTS) / x86_64  OK    OK    OK  UNNEEDED, same version is already published
riesling1Windows Server 2019 Standard / x64  OK    OK    OK    OK  UNNEEDED, same version is already published
merida1macOS 10.14.6 Mojave / x86_64  OK    OK    OK    OK  UNNEEDED, same version is already published
machv2macOS 10.14.6 Mojave / x86_64  OK    OK    OK    OK