Back to Mac ARM64 build report for BioC 3.18
ABCDEFGHIJKLMNOPQ[R]STUVWXYZ

This page was generated on 2024-03-28 11:32:28 -0400 (Thu, 28 Mar 2024).

HostnameOSArch (*)R versionInstalled pkgs
kjohnson1macOS 13.6.1 Venturaarm644.3.3 (2024-02-29) -- "Angel Food Cake" 4376
Click on any hostname to see more info about the system (e.g. compilers)      (*) as reported by 'uname -p', except on Windows and Mac OS X

Package 1660/2266HostnameOS / ArchINSTALLBUILDCHECKBUILD BIN
RareVariantVis 2.30.0  (landing page)
Tomasz Stokowy
Snapshot Date: 2024-03-26 09:00:03 -0400 (Tue, 26 Mar 2024)
git_url: https://git.bioconductor.org/packages/RareVariantVis
git_branch: RELEASE_3_18
git_last_commit: 3234d00
git_last_commit_date: 2023-10-24 10:43:51 -0400 (Tue, 24 Oct 2023)
kjohnson1macOS 13.6.1 Ventura / arm64  OK    OK    OK    OK  UNNEEDED, same version is already published

BUILD results for RareVariantVis on kjohnson1


To the developers/maintainers of the RareVariantVis package:
- Use the following Renviron settings to reproduce errors and warnings.
- If 'R CMD check' started to fail recently on the Linux builder(s) over a missing dependency, add the missing dependency to 'Suggests:' in your DESCRIPTION file. See Renviron.bioc for more information.

raw results


Summary

Package: RareVariantVis
Version: 2.30.0
Command: /Library/Frameworks/R.framework/Resources/bin/R CMD build --keep-empty-dirs --no-resave-data RareVariantVis
StartedAt: 2024-03-27 00:18:10 -0400 (Wed, 27 Mar 2024)
EndedAt: 2024-03-27 00:19:21 -0400 (Wed, 27 Mar 2024)
EllapsedTime: 70.7 seconds
RetCode: 0
Status:   OK  
PackageFile: RareVariantVis_2.30.0.tar.gz
PackageFileSize: 2.756 MiB

Command output

##############################################################################
##############################################################################
###
### Running command:
###
###   /Library/Frameworks/R.framework/Resources/bin/R CMD build --keep-empty-dirs --no-resave-data RareVariantVis
###
##############################################################################
##############################################################################


* checking for file ‘RareVariantVis/DESCRIPTION’ ... OK
* preparing ‘RareVariantVis’:
* checking DESCRIPTION meta-information ... OK
* installing the package to build vignettes
* creating vignettes ... OK
* checking for LF line-endings in source and make files and shell scripts
* checking for empty or unneeded directories
Omitted ‘LazyData’ from DESCRIPTION
* building ‘RareVariantVis_2.30.0.tar.gz’