Back to Mac ARM64 build report for BioC 3.18
A[B]CDEFGHIJKLMNOPQRSTUVWXYZ

This page was generated on 2024-03-28 11:32:17 -0400 (Thu, 28 Mar 2024).

HostnameOSArch (*)R versionInstalled pkgs
kjohnson1macOS 13.6.1 Venturaarm644.3.3 (2024-02-29) -- "Angel Food Cake" 4376
Click on any hostname to see more info about the system (e.g. compilers)      (*) as reported by 'uname -p', except on Windows and Mac OS X

Package 220/2266HostnameOS / ArchINSTALLBUILDCHECKBUILD BIN
biovizBase 1.50.0  (landing page)
Michael Lawrence
Snapshot Date: 2024-03-26 09:00:03 -0400 (Tue, 26 Mar 2024)
git_url: https://git.bioconductor.org/packages/biovizBase
git_branch: RELEASE_3_18
git_last_commit: c961633
git_last_commit_date: 2023-10-24 09:48:08 -0400 (Tue, 24 Oct 2023)
kjohnson1macOS 13.6.1 Ventura / arm64  OK    OK    WARNINGS    OK  UNNEEDED, same version is already published

BUILD BIN results for biovizBase on kjohnson1


To the developers/maintainers of the biovizBase package:
- Use the following Renviron settings to reproduce errors and warnings.
- If 'R CMD check' started to fail recently on the Linux builder(s) over a missing dependency, add the missing dependency to 'Suggests:' in your DESCRIPTION file. See Renviron.bioc for more information.

raw results


Summary

Package: biovizBase
Version: 1.50.0
Command: rm -rf biovizBase.buildbin-libdir && mkdir biovizBase.buildbin-libdir && /Users/biocbuild/BBS/utils/build-universal.sh biovizBase_1.50.0.tar.gz /Library/Frameworks/R.framework/Resources/bin/R biovizBase.buildbin-libdir
StartedAt: 2024-03-28 07:17:53 -0400 (Thu, 28 Mar 2024)
EndedAt: 2024-03-28 07:19:06 -0400 (Thu, 28 Mar 2024)
EllapsedTime: 72.8 seconds
RetCode: 0
Status:   OK  
PackageFile: biovizBase_1.50.0.tgz
PackageFileSize: 2.748 MiB

Command output

##############################################################################
##############################################################################
###
### Running command:
###
###   rm -rf biovizBase.buildbin-libdir && mkdir biovizBase.buildbin-libdir && /Users/biocbuild/BBS/utils/build-universal.sh biovizBase_1.50.0.tar.gz /Library/Frameworks/R.framework/Resources/bin/R biovizBase.buildbin-libdir
###
##############################################################################
##############################################################################


>>>>>>> 
>>>>>>> INSTALLATION WITH 'R CMD INSTALL --preclean --no-multiarch --library=biovizBase.buildbin-libdir biovizBase_1.50.0.tar.gz'
>>>>>>> 

* installing *source* package ‘biovizBase’ ...
** using staged installation
** libs
using C compiler: ‘Apple clang version 15.0.0 (clang-1500.0.40.1)’
using SDK: ‘MacOSX11.3.sdk’
clang -arch arm64 -I"/Library/Frameworks/R.framework/Resources/include" -DNDEBUG   -I/opt/R/arm64/include    -fPIC  -falign-functions=64 -Wall -g -O2  -c R_init_biovizBase.c -o R_init_biovizBase.o
clang -arch arm64 -I"/Library/Frameworks/R.framework/Resources/include" -DNDEBUG   -I/opt/R/arm64/include    -fPIC  -falign-functions=64 -Wall -g -O2  -c bin_offsets.c -o bin_offsets.o
bin_offsets.c:57:15: warning: passing 'Rbyte *' (aka 'unsigned char *') to parameter of type 'const char *' converts between pointers to integer types where one is of the unique plain 'char' type and the other is not [-Wpointer-sign]
  if (strncmp(b, "BAI\1", 4))
              ^
/Library/Developer/CommandLineTools/SDKs/MacOSX11.sdk/usr/include/string.h:84:26: note: passing argument to parameter '__s1' here
int      strncmp(const char *__s1, const char *__s2, size_t __n);
                             ^
1 warning generated.
clang -arch arm64 -dynamiclib -Wl,-headerpad_max_install_names -undefined dynamic_lookup -L/Library/Frameworks/R.framework/Resources/lib -L/opt/R/arm64/lib -o biovizBase.so R_init_biovizBase.o bin_offsets.o -F/Library/Frameworks/R.framework/.. -framework R -Wl,-framework -Wl,CoreFoundation
installing to /Users/biocbuild/bbs-3.18-bioc-mac-arm64/meat/biovizBase.buildbin-libdir/00LOCK-biovizBase/00new/biovizBase/libs
** R
** data
*** moving datasets to lazyload DB
** inst
** byte-compile and prepare package for lazy loading
** help
*** installing help indices
** building package indices
** installing vignettes
** testing if installed package can be loaded from temporary location
** checking absolute paths in shared objects and dynamic libraries
** testing if installed package can be loaded from final location
** testing if installed package keeps a record of temporary installation path
* DONE (biovizBase)


>>>>>>> 
>>>>>>> FIXING PATHS TO DYNAMIC LIBRARIES FOR biovizBase.buildbin-libdir/biovizBase/libs/biovizBase.so
>>>>>>> 

>>>>>>> Paths before fix:
biovizBase.buildbin-libdir/biovizBase/libs/biovizBase.so:
	biovizBase.so (compatibility version 0.0.0, current version 0.0.0)
	/Library/Frameworks/R.framework/Versions/4.3-arm64/Resources/lib/libR.dylib (compatibility version 4.3.0, current version 4.3.3)
	/System/Library/Frameworks/CoreFoundation.framework/Versions/A/CoreFoundation (compatibility version 150.0.0, current version 1775.118.101)
	/usr/lib/libSystem.B.dylib (compatibility version 1.0.0, current version 1292.100.5)

>>>>>>> Fix with install_name_tool:
install_name_tool -change "/usr/local/lib/libgcc_s.1.1.dylib" "/Library/Frameworks/R.framework/Versions/4.3-arm64/Resources/lib/libgcc_s.1.1.dylib" "biovizBase.buildbin-libdir/biovizBase/libs/biovizBase.so"
install_name_tool -change "/usr/local/lib/libgfortran.5.dylib" "/Library/Frameworks/R.framework/Versions/4.3-arm64/Resources/lib/libgfortran.5.dylib" "biovizBase.buildbin-libdir/biovizBase/libs/biovizBase.so"
install_name_tool -change "/usr/local/lib/libquadmath.0.dylib" "/Library/Frameworks/R.framework/Versions/4.3-arm64/Resources/lib/libquadmath.0.dylib" "biovizBase.buildbin-libdir/biovizBase/libs/biovizBase.so"

>>>>>>> Paths after fix:
biovizBase.buildbin-libdir/biovizBase/libs/biovizBase.so:
	biovizBase.so (compatibility version 0.0.0, current version 0.0.0)
	/Library/Frameworks/R.framework/Versions/4.3-arm64/Resources/lib/libR.dylib (compatibility version 4.3.0, current version 4.3.3)
	/System/Library/Frameworks/CoreFoundation.framework/Versions/A/CoreFoundation (compatibility version 150.0.0, current version 1775.118.101)
	/usr/lib/libSystem.B.dylib (compatibility version 1.0.0, current version 1292.100.5)