Back to Mac ARM64 build report for BioC 3.18
AB[C]DEFGHIJKLMNOPQRSTUVWXYZ

This page was generated on 2024-03-28 11:32:18 -0400 (Thu, 28 Mar 2024).

HostnameOSArch (*)R versionInstalled pkgs
kjohnson1macOS 13.6.1 Venturaarm644.3.3 (2024-02-29) -- "Angel Food Cake" 4376
Click on any hostname to see more info about the system (e.g. compilers)      (*) as reported by 'uname -p', except on Windows and Mac OS X

Package 388/2266HostnameOS / ArchINSTALLBUILDCHECKBUILD BIN
CNVfilteR 1.16.0  (landing page)
Jose Marcos Moreno-Cabrera
Snapshot Date: 2024-03-26 09:00:03 -0400 (Tue, 26 Mar 2024)
git_url: https://git.bioconductor.org/packages/CNVfilteR
git_branch: RELEASE_3_18
git_last_commit: b3a6913
git_last_commit_date: 2023-10-24 11:17:02 -0400 (Tue, 24 Oct 2023)
kjohnson1macOS 13.6.1 Ventura / arm64  OK    OK    OK    OK  UNNEEDED, same version is already published

BUILD BIN results for CNVfilteR on kjohnson1


To the developers/maintainers of the CNVfilteR package:
- Use the following Renviron settings to reproduce errors and warnings.
- If 'R CMD check' started to fail recently on the Linux builder(s) over a missing dependency, add the missing dependency to 'Suggests:' in your DESCRIPTION file. See Renviron.bioc for more information.

raw results


Summary

Package: CNVfilteR
Version: 1.16.0
Command: rm -rf CNVfilteR.buildbin-libdir && mkdir CNVfilteR.buildbin-libdir && /Users/biocbuild/BBS/utils/build-universal.sh CNVfilteR_1.16.0.tar.gz /Library/Frameworks/R.framework/Resources/bin/R CNVfilteR.buildbin-libdir
StartedAt: 2024-03-28 07:34:08 -0400 (Thu, 28 Mar 2024)
EndedAt: 2024-03-28 07:35:21 -0400 (Thu, 28 Mar 2024)
EllapsedTime: 73.2 seconds
RetCode: 0
Status:   OK  
PackageFile: CNVfilteR_1.16.0.tgz
PackageFileSize: 1.096 MiB

Command output

##############################################################################
##############################################################################
###
### Running command:
###
###   rm -rf CNVfilteR.buildbin-libdir && mkdir CNVfilteR.buildbin-libdir && /Users/biocbuild/BBS/utils/build-universal.sh CNVfilteR_1.16.0.tar.gz /Library/Frameworks/R.framework/Resources/bin/R CNVfilteR.buildbin-libdir
###
##############################################################################
##############################################################################


>>>>>>> 
>>>>>>> INSTALLATION WITH 'R CMD INSTALL --preclean --no-multiarch --library=CNVfilteR.buildbin-libdir CNVfilteR_1.16.0.tar.gz'
>>>>>>> 

* installing *source* package ‘CNVfilteR’ ...
** using staged installation
** R
** inst
** byte-compile and prepare package for lazy loading
** help
*** installing help indices
** building package indices
** installing vignettes
** testing if installed package can be loaded from temporary location
** testing if installed package can be loaded from final location
** testing if installed package keeps a record of temporary installation path
* DONE (CNVfilteR)