Back to Mac ARM64 build report for BioC 3.18
ABCDEFGHIJKLMNOPQR[S]TUVWXYZ

This page was generated on 2024-03-28 11:32:32 -0400 (Thu, 28 Mar 2024).

HostnameOSArch (*)R versionInstalled pkgs
kjohnson1macOS 13.6.1 Venturaarm644.3.3 (2024-02-29) -- "Angel Food Cake" 4376
Click on any hostname to see more info about the system (e.g. compilers)      (*) as reported by 'uname -p', except on Windows and Mac OS X

Package 2045/2266HostnameOS / ArchINSTALLBUILDCHECKBUILD BIN
srnadiff 1.22.2  (landing page)
Zytnicki Matthias
Snapshot Date: 2024-03-26 09:00:03 -0400 (Tue, 26 Mar 2024)
git_url: https://git.bioconductor.org/packages/srnadiff
git_branch: RELEASE_3_18
git_last_commit: 7ddd95f
git_last_commit_date: 2024-03-07 15:02:50 -0400 (Thu, 07 Mar 2024)
kjohnson1macOS 13.6.1 Ventura / arm64  OK    OK    WARNINGS    OK  UNNEEDED, same version is already published

BUILD results for srnadiff on kjohnson1


To the developers/maintainers of the srnadiff package:
- Use the following Renviron settings to reproduce errors and warnings.
- If 'R CMD check' started to fail recently on the Linux builder(s) over a missing dependency, add the missing dependency to 'Suggests:' in your DESCRIPTION file. See Renviron.bioc for more information.

raw results


Summary

Package: srnadiff
Version: 1.22.2
Command: /Library/Frameworks/R.framework/Resources/bin/R CMD build --keep-empty-dirs --no-resave-data srnadiff
StartedAt: 2024-03-27 03:13:51 -0400 (Wed, 27 Mar 2024)
EndedAt: 2024-03-27 03:16:44 -0400 (Wed, 27 Mar 2024)
EllapsedTime: 173.2 seconds
RetCode: 0
Status:   OK  
PackageFile: srnadiff_1.22.2.tar.gz
PackageFileSize: 2.302 MiB

Command output

##############################################################################
##############################################################################
###
### Running command:
###
###   /Library/Frameworks/R.framework/Resources/bin/R CMD build --keep-empty-dirs --no-resave-data srnadiff
###
##############################################################################
##############################################################################


* checking for file ‘srnadiff/DESCRIPTION’ ... OK
* preparing ‘srnadiff’:
* checking DESCRIPTION meta-information ... OK
* cleaning src
* installing the package to build vignettes
* creating vignettes ... OK
* cleaning src
* checking for LF line-endings in source and make files and shell scripts
* checking for empty or unneeded directories
Omitted ‘LazyData’ from DESCRIPTION
* building ‘srnadiff_1.22.2.tar.gz’