Back to Mac ARM64 build report for BioC 3.18
ABCDEFGHIJKLM[N]OPQRSTUVWXYZ

This page was generated on 2024-03-28 11:32:25 -0400 (Thu, 28 Mar 2024).

HostnameOSArch (*)R versionInstalled pkgs
kjohnson1macOS 13.6.1 Venturaarm644.3.3 (2024-02-29) -- "Angel Food Cake" 4376
Click on any hostname to see more info about the system (e.g. compilers)      (*) as reported by 'uname -p', except on Windows and Mac OS X

Package 1383/2266HostnameOS / ArchINSTALLBUILDCHECKBUILD BIN
NADfinder 1.26.0  (landing page)
Jianhong Ou
Snapshot Date: 2024-03-26 09:00:03 -0400 (Tue, 26 Mar 2024)
git_url: https://git.bioconductor.org/packages/NADfinder
git_branch: RELEASE_3_18
git_last_commit: d34108b
git_last_commit_date: 2023-10-24 10:56:31 -0400 (Tue, 24 Oct 2023)
kjohnson1macOS 13.6.1 Ventura / arm64  OK    OK    OK    OK  UNNEEDED, same version is already published

BUILD results for NADfinder on kjohnson1


To the developers/maintainers of the NADfinder package:
- Use the following Renviron settings to reproduce errors and warnings.
- If 'R CMD check' started to fail recently on the Linux builder(s) over a missing dependency, add the missing dependency to 'Suggests:' in your DESCRIPTION file. See Renviron.bioc for more information.

raw results


Summary

Package: NADfinder
Version: 1.26.0
Command: /Library/Frameworks/R.framework/Resources/bin/R CMD build --keep-empty-dirs --no-resave-data NADfinder
StartedAt: 2024-03-26 22:27:56 -0400 (Tue, 26 Mar 2024)
EndedAt: 2024-03-26 22:31:28 -0400 (Tue, 26 Mar 2024)
EllapsedTime: 212.6 seconds
RetCode: 0
Status:   OK  
PackageFile: NADfinder_1.26.0.tar.gz
PackageFileSize: 6.013 MiB

Command output

##############################################################################
##############################################################################
###
### Running command:
###
###   /Library/Frameworks/R.framework/Resources/bin/R CMD build --keep-empty-dirs --no-resave-data NADfinder
###
##############################################################################
##############################################################################


* checking for file ‘NADfinder/DESCRIPTION’ ... OK
* preparing ‘NADfinder’:
* checking DESCRIPTION meta-information ... OK
* installing the package to build vignettes
* creating vignettes ... OK
* checking for LF line-endings in source and make files and shell scripts
* checking for empty or unneeded directories
  NB: this package now depends on R (>= 3.5.0)
  WARNING: Added dependency on R >= 3.5.0 because serialized objects in
  serialize/load version 3 cannot be read in older versions of R.
  File(s) containing such objects:
    ‘NADfinder/data/single.count.rda’
    ‘NADfinder/data/triplicate.count.rda’
    ‘NADfinder/inst/extdata/ideo.mm10.rds’
* building ‘NADfinder_1.26.0.tar.gz’