Back to Mac ARM64 build report for BioC 3.18
ABC[D]EFGHIJKLMNOPQRSTUVWXYZ

This page was generated on 2024-03-28 11:32:19 -0400 (Thu, 28 Mar 2024).

HostnameOSArch (*)R versionInstalled pkgs
kjohnson1macOS 13.6.1 Venturaarm644.3.3 (2024-02-29) -- "Angel Food Cake" 4376
Click on any hostname to see more info about the system (e.g. compilers)      (*) as reported by 'uname -p', except on Windows and Mac OS X

Package 513/2266HostnameOS / ArchINSTALLBUILDCHECKBUILD BIN
decompTumor2Sig 2.18.0  (landing page)
Rosario M. Piro
Snapshot Date: 2024-03-26 09:00:03 -0400 (Tue, 26 Mar 2024)
git_url: https://git.bioconductor.org/packages/decompTumor2Sig
git_branch: RELEASE_3_18
git_last_commit: d01f0b5
git_last_commit_date: 2023-10-24 11:09:45 -0400 (Tue, 24 Oct 2023)
kjohnson1macOS 13.6.1 Ventura / arm64  OK    TIMEOUT  skippedskipped

BUILD results for decompTumor2Sig on kjohnson1


To the developers/maintainers of the decompTumor2Sig package:
- Use the following Renviron settings to reproduce errors and warnings.
- If 'R CMD check' started to fail recently on the Linux builder(s) over a missing dependency, add the missing dependency to 'Suggests:' in your DESCRIPTION file. See Renviron.bioc for more information.

raw results


Summary

Package: decompTumor2Sig
Version: 2.18.0
Command: /Library/Frameworks/R.framework/Resources/bin/R CMD build --keep-empty-dirs --no-resave-data decompTumor2Sig
StartedAt: 2024-03-26 16:29:24 -0400 (Tue, 26 Mar 2024)
EndedAt: 2024-03-26 17:09:24 -0400 (Tue, 26 Mar 2024)
EllapsedTime: 2400.7 seconds
RetCode: None
Status:   TIMEOUT  
PackageFile: None
PackageFileSize: NA

Command output

##############################################################################
##############################################################################
###
### Running command:
###
###   /Library/Frameworks/R.framework/Resources/bin/R CMD build --keep-empty-dirs --no-resave-data decompTumor2Sig
###
##############################################################################
##############################################################################


* checking for file ‘decompTumor2Sig/DESCRIPTION’ ... OK
* preparing ‘decompTumor2Sig’:
* checking DESCRIPTION meta-information ... OK
* installing the package to build vignettes
* creating vignettes ...