Back to Mac ARM64 build report for BioC 3.18
ABCDEFGHIJKLMNOPQRSTU[V]WXYZ

This page was generated on 2024-03-28 11:32:35 -0400 (Thu, 28 Mar 2024).

HostnameOSArch (*)R versionInstalled pkgs
kjohnson1macOS 13.6.1 Venturaarm644.3.3 (2024-02-29) -- "Angel Food Cake" 4376
Click on any hostname to see more info about the system (e.g. compilers)      (*) as reported by 'uname -p', except on Windows and Mac OS X

Package 2218/2266HostnameOS / ArchINSTALLBUILDCHECKBUILD BIN
VariantFiltering 1.38.0  (landing page)
Robert Castelo
Snapshot Date: 2024-03-26 09:00:03 -0400 (Tue, 26 Mar 2024)
git_url: https://git.bioconductor.org/packages/VariantFiltering
git_branch: RELEASE_3_18
git_last_commit: fa37d53
git_last_commit_date: 2023-10-24 09:58:34 -0400 (Tue, 24 Oct 2023)
kjohnson1macOS 13.6.1 Ventura / arm64  OK    OK    OK    OK  UNNEEDED, same version is already published

INSTALL results for VariantFiltering on kjohnson1


To the developers/maintainers of the VariantFiltering package:
- Use the following Renviron settings to reproduce errors and warnings.
- If 'R CMD check' started to fail recently on the Linux builder(s) over a missing dependency, add the missing dependency to 'Suggests:' in your DESCRIPTION file. See Renviron.bioc for more information.

raw results


Summary

Package: VariantFiltering
Version: 1.38.0
Command: /Library/Frameworks/R.framework/Resources/bin/R CMD INSTALL VariantFiltering
StartedAt: 2024-03-26 13:03:41 -0400 (Tue, 26 Mar 2024)
EndedAt: 2024-03-26 13:04:58 -0400 (Tue, 26 Mar 2024)
EllapsedTime: 76.4 seconds
RetCode: 0
Status:   OK  

Command output

##############################################################################
##############################################################################
###
### Running command:
###
###   /Library/Frameworks/R.framework/Resources/bin/R CMD INSTALL VariantFiltering
###
##############################################################################
##############################################################################


* installing to library ‘/Library/Frameworks/R.framework/Versions/4.3-arm64/Resources/library’
* installing *source* package ‘VariantFiltering’ ...
** using staged installation
** libs
using C compiler: ‘Apple clang version 15.0.0 (clang-1500.0.40.1)’
using SDK: ‘MacOSX11.3.sdk’
clang -arch arm64 -I"/Library/Frameworks/R.framework/Resources/include" -DNDEBUG  -I'/Library/Frameworks/R.framework/Versions/4.3-arm64/Resources/library/S4Vectors/include' -I'/Library/Frameworks/R.framework/Versions/4.3-arm64/Resources/library/IRanges/include' -I'/Library/Frameworks/R.framework/Versions/4.3-arm64/Resources/library/XVector/include' -I'/Library/Frameworks/R.framework/Versions/4.3-arm64/Resources/library/Biostrings/include' -I/opt/R/arm64/include    -fPIC  -falign-functions=64 -Wall -g -O2  -c Biostrings_stubs.c -o Biostrings_stubs.o
clang -arch arm64 -I"/Library/Frameworks/R.framework/Resources/include" -DNDEBUG  -I'/Library/Frameworks/R.framework/Versions/4.3-arm64/Resources/library/S4Vectors/include' -I'/Library/Frameworks/R.framework/Versions/4.3-arm64/Resources/library/IRanges/include' -I'/Library/Frameworks/R.framework/Versions/4.3-arm64/Resources/library/XVector/include' -I'/Library/Frameworks/R.framework/Versions/4.3-arm64/Resources/library/Biostrings/include' -I/opt/R/arm64/include    -fPIC  -falign-functions=64 -Wall -g -O2  -c R_init_VariantFiltering.c -o R_init_VariantFiltering.o
clang -arch arm64 -I"/Library/Frameworks/R.framework/Resources/include" -DNDEBUG  -I'/Library/Frameworks/R.framework/Versions/4.3-arm64/Resources/library/S4Vectors/include' -I'/Library/Frameworks/R.framework/Versions/4.3-arm64/Resources/library/IRanges/include' -I'/Library/Frameworks/R.framework/Versions/4.3-arm64/Resources/library/XVector/include' -I'/Library/Frameworks/R.framework/Versions/4.3-arm64/Resources/library/Biostrings/include' -I/opt/R/arm64/include    -fPIC  -falign-functions=64 -Wall -g -O2  -c methods-WeightMatrix.c -o methods-WeightMatrix.o
methods-WeightMatrix.c:341:9: warning: variable 'line' set but not used [-Wunused-but-set-variable]
  int   line=1;
        ^
methods-WeightMatrix.c:546:11: warning: variable 'line' set but not used [-Wunused-but-set-variable]
  int     line=1;
          ^
2 warnings generated.
clang -arch arm64 -dynamiclib -Wl,-headerpad_max_install_names -undefined dynamic_lookup -L/Library/Frameworks/R.framework/Resources/lib -L/opt/R/arm64/lib -o VariantFiltering.so Biostrings_stubs.o R_init_VariantFiltering.o methods-WeightMatrix.o -F/Library/Frameworks/R.framework/.. -framework R -Wl,-framework -Wl,CoreFoundation
installing to /Library/Frameworks/R.framework/Versions/4.3-arm64/Resources/library/00LOCK-VariantFiltering/00new/VariantFiltering/libs
** R
** inst
** byte-compile and prepare package for lazy loading
** help
*** installing help indices
** building package indices
** installing vignettes
** testing if installed package can be loaded from temporary location
** checking absolute paths in shared objects and dynamic libraries
** testing if installed package can be loaded from final location
** testing if installed package keeps a record of temporary installation path
* DONE (VariantFiltering)