Back to Mac ARM64 build report for BioC 3.18
ABCDEFGHIJKLMNOPQR[S]TUVWXYZ

This page was generated on 2024-03-28 11:32:31 -0400 (Thu, 28 Mar 2024).

HostnameOSArch (*)R versionInstalled pkgs
kjohnson1macOS 13.6.1 Venturaarm644.3.3 (2024-02-29) -- "Angel Food Cake" 4376
Click on any hostname to see more info about the system (e.g. compilers)      (*) as reported by 'uname -p', except on Windows and Mac OS X

Package 1954/2266HostnameOS / ArchINSTALLBUILDCHECKBUILD BIN
SigsPack 1.16.0  (landing page)
Franziska Schumann
Snapshot Date: 2024-03-26 09:00:03 -0400 (Tue, 26 Mar 2024)
git_url: https://git.bioconductor.org/packages/SigsPack
git_branch: RELEASE_3_18
git_last_commit: bbf5709
git_last_commit_date: 2023-10-24 11:15:49 -0400 (Tue, 24 Oct 2023)
kjohnson1macOS 13.6.1 Ventura / arm64  OK    OK    OK    OK  UNNEEDED, same version is already published

BUILD results for SigsPack on kjohnson1


To the developers/maintainers of the SigsPack package:
- Use the following Renviron settings to reproduce errors and warnings.
- If 'R CMD check' started to fail recently on the Linux builder(s) over a missing dependency, add the missing dependency to 'Suggests:' in your DESCRIPTION file. See Renviron.bioc for more information.

raw results


Summary

Package: SigsPack
Version: 1.16.0
Command: /Library/Frameworks/R.framework/Resources/bin/R CMD build --keep-empty-dirs --no-resave-data SigsPack
StartedAt: 2024-03-27 02:28:18 -0400 (Wed, 27 Mar 2024)
EndedAt: 2024-03-27 02:30:42 -0400 (Wed, 27 Mar 2024)
EllapsedTime: 144.3 seconds
RetCode: 0
Status:   OK  
PackageFile: SigsPack_1.16.0.tar.gz
PackageFileSize: 525.9 KiB

Command output

##############################################################################
##############################################################################
###
### Running command:
###
###   /Library/Frameworks/R.framework/Resources/bin/R CMD build --keep-empty-dirs --no-resave-data SigsPack
###
##############################################################################
##############################################################################


* checking for file ‘SigsPack/DESCRIPTION’ ... OK
* preparing ‘SigsPack’:
* checking DESCRIPTION meta-information ... OK
* installing the package to build vignettes
* creating vignettes ... OK
* checking for LF line-endings in source and make files and shell scripts
* checking for empty or unneeded directories
* building ‘SigsPack_1.16.0.tar.gz’