Back to Mac ARM64 build report for BioC 3.18
ABCDEF[G]HIJKLMNOPQRSTUVWXYZ

This page was generated on 2024-03-28 11:32:21 -0400 (Thu, 28 Mar 2024).

HostnameOSArch (*)R versionInstalled pkgs
kjohnson1macOS 13.6.1 Venturaarm644.3.3 (2024-02-29) -- "Angel Food Cake" 4376
Click on any hostname to see more info about the system (e.g. compilers)      (*) as reported by 'uname -p', except on Windows and Mac OS X

Package 834/2266HostnameOS / ArchINSTALLBUILDCHECKBUILD BIN
GenVisR 1.34.0  (landing page)
Zachary Skidmore
Snapshot Date: 2024-03-26 09:00:03 -0400 (Tue, 26 Mar 2024)
git_url: https://git.bioconductor.org/packages/GenVisR
git_branch: RELEASE_3_18
git_last_commit: 99c427b
git_last_commit_date: 2023-10-24 10:47:14 -0400 (Tue, 24 Oct 2023)
kjohnson1macOS 13.6.1 Ventura / arm64  OK    OK    ERROR    OK  

BUILD results for GenVisR on kjohnson1


To the developers/maintainers of the GenVisR package:
- Use the following Renviron settings to reproduce errors and warnings.
- If 'R CMD check' started to fail recently on the Linux builder(s) over a missing dependency, add the missing dependency to 'Suggests:' in your DESCRIPTION file. See Renviron.bioc for more information.

raw results


Summary

Package: GenVisR
Version: 1.34.0
Command: /Library/Frameworks/R.framework/Resources/bin/R CMD build --keep-empty-dirs --no-resave-data GenVisR
StartedAt: 2024-03-26 18:40:55 -0400 (Tue, 26 Mar 2024)
EndedAt: 2024-03-26 18:43:50 -0400 (Tue, 26 Mar 2024)
EllapsedTime: 174.7 seconds
RetCode: 0
Status:   OK  
PackageFile: GenVisR_1.34.0.tar.gz
PackageFileSize: 5.067 MiB

Command output

##############################################################################
##############################################################################
###
### Running command:
###
###   /Library/Frameworks/R.framework/Resources/bin/R CMD build --keep-empty-dirs --no-resave-data GenVisR
###
##############################################################################
##############################################################################


* checking for file ‘GenVisR/DESCRIPTION’ ... OK
* preparing ‘GenVisR’:
* checking DESCRIPTION meta-information ... OK
* installing the package to build vignettes
* creating vignettes ... OK
* checking for LF line-endings in source and make files and shell scripts
* checking for empty or unneeded directories
* building ‘GenVisR_1.34.0.tar.gz’
Warning in utils::tar(filepath, pkgname, compression = compression, compression_level = 9L,  :
  storing paths of more than 100 bytes is not portable:
  ‘GenVisR/tests/testthat/_snaps/Waterfall-class/final-waterfall-and-left-sub-plot-alter-sectionwidth.svg’
Warning in utils::tar(filepath, pkgname, compression = compression, compression_level = 9L,  :
  storing paths of more than 100 bytes is not portable:
  ‘GenVisR/tests/testthat/_snaps/Waterfall-class/final-waterfall-and-top-and-left-and-bottom-sub-plot.svg’
Warning in utils::tar(filepath, pkgname, compression = compression, compression_level = 9L,  :
  storing paths of more than 100 bytes is not portable:
  ‘GenVisR/tests/testthat/_snaps/Waterfall-class/final-waterfall-and-top-sub-plot-alter-sectionheights.svg’