Back to Mac ARM64 build report for BioC 3.18
ABCDEFGHIJKL[M]NOPQRSTUVWXYZ

This page was generated on 2024-03-28 11:32:25 -0400 (Thu, 28 Mar 2024).

HostnameOSArch (*)R versionInstalled pkgs
kjohnson1macOS 13.6.1 Venturaarm644.3.3 (2024-02-29) -- "Angel Food Cake" 4376
Click on any hostname to see more info about the system (e.g. compilers)      (*) as reported by 'uname -p', except on Windows and Mac OS X

Package 1289/2266HostnameOS / ArchINSTALLBUILDCHECKBUILD BIN
MMDiff2 1.30.0  (landing page)
Gabriele Schweikert
Snapshot Date: 2024-03-26 09:00:03 -0400 (Tue, 26 Mar 2024)
git_url: https://git.bioconductor.org/packages/MMDiff2
git_branch: RELEASE_3_18
git_last_commit: 59a5822
git_last_commit_date: 2023-10-24 10:50:12 -0400 (Tue, 24 Oct 2023)
kjohnson1macOS 13.6.1 Ventura / arm64  OK    OK    OK    OK  UNNEEDED, same version is already published

BUILD BIN results for MMDiff2 on kjohnson1


To the developers/maintainers of the MMDiff2 package:
- Use the following Renviron settings to reproduce errors and warnings.
- If 'R CMD check' started to fail recently on the Linux builder(s) over a missing dependency, add the missing dependency to 'Suggests:' in your DESCRIPTION file. See Renviron.bioc for more information.

raw results


Summary

Package: MMDiff2
Version: 1.30.0
Command: rm -rf MMDiff2.buildbin-libdir && mkdir MMDiff2.buildbin-libdir && /Users/biocbuild/BBS/utils/build-universal.sh MMDiff2_1.30.0.tar.gz /Library/Frameworks/R.framework/Resources/bin/R MMDiff2.buildbin-libdir
StartedAt: 2024-03-28 08:58:25 -0400 (Thu, 28 Mar 2024)
EndedAt: 2024-03-28 08:59:20 -0400 (Thu, 28 Mar 2024)
EllapsedTime: 55.4 seconds
RetCode: 0
Status:   OK  
PackageFile: MMDiff2_1.30.0.tgz
PackageFileSize: 3.076 MiB

Command output

##############################################################################
##############################################################################
###
### Running command:
###
###   rm -rf MMDiff2.buildbin-libdir && mkdir MMDiff2.buildbin-libdir && /Users/biocbuild/BBS/utils/build-universal.sh MMDiff2_1.30.0.tar.gz /Library/Frameworks/R.framework/Resources/bin/R MMDiff2.buildbin-libdir
###
##############################################################################
##############################################################################


>>>>>>> 
>>>>>>> INSTALLATION WITH 'R CMD INSTALL --preclean --no-multiarch --library=MMDiff2.buildbin-libdir MMDiff2_1.30.0.tar.gz'
>>>>>>> 

* installing *source* package ‘MMDiff2’ ...
** using staged installation
** R
** data
** inst
** byte-compile and prepare package for lazy loading
** help
*** installing help indices
** building package indices
** installing vignettes
** testing if installed package can be loaded from temporary location
** testing if installed package can be loaded from final location
** testing if installed package keeps a record of temporary installation path
* DONE (MMDiff2)