Back to Mac ARM64 build report for BioC 3.18
ABCDEFGHIJKLMNOPQRSTU[V]WXYZ

This page was generated on 2024-03-28 11:32:35 -0400 (Thu, 28 Mar 2024).

HostnameOSArch (*)R versionInstalled pkgs
kjohnson1macOS 13.6.1 Venturaarm644.3.3 (2024-02-29) -- "Angel Food Cake" 4376
Click on any hostname to see more info about the system (e.g. compilers)      (*) as reported by 'uname -p', except on Windows and Mac OS X

Package 2219/2266HostnameOS / ArchINSTALLBUILDCHECKBUILD BIN
VariantTools 1.44.0  (landing page)
Michael Lawrence
Snapshot Date: 2024-03-26 09:00:03 -0400 (Tue, 26 Mar 2024)
git_url: https://git.bioconductor.org/packages/VariantTools
git_branch: RELEASE_3_18
git_last_commit: 905b2d2
git_last_commit_date: 2023-10-24 09:51:46 -0400 (Tue, 24 Oct 2023)
kjohnson1macOS 13.6.1 Ventura / arm64  OK    OK    WARNINGS    OK  UNNEEDED, same version is already published

BUILD BIN results for VariantTools on kjohnson1


To the developers/maintainers of the VariantTools package:
- Use the following Renviron settings to reproduce errors and warnings.
- If 'R CMD check' started to fail recently on the Linux builder(s) over a missing dependency, add the missing dependency to 'Suggests:' in your DESCRIPTION file. See Renviron.bioc for more information.

raw results


Summary

Package: VariantTools
Version: 1.44.0
Command: rm -rf VariantTools.buildbin-libdir && mkdir VariantTools.buildbin-libdir && /Users/biocbuild/BBS/utils/build-universal.sh VariantTools_1.44.0.tar.gz /Library/Frameworks/R.framework/Resources/bin/R VariantTools.buildbin-libdir
StartedAt: 2024-03-28 10:25:54 -0400 (Thu, 28 Mar 2024)
EndedAt: 2024-03-28 10:26:58 -0400 (Thu, 28 Mar 2024)
EllapsedTime: 64.3 seconds
RetCode: 0
Status:   OK  
PackageFile: VariantTools_1.44.0.tgz
PackageFileSize: 6.292 MiB

Command output

##############################################################################
##############################################################################
###
### Running command:
###
###   rm -rf VariantTools.buildbin-libdir && mkdir VariantTools.buildbin-libdir && /Users/biocbuild/BBS/utils/build-universal.sh VariantTools_1.44.0.tar.gz /Library/Frameworks/R.framework/Resources/bin/R VariantTools.buildbin-libdir
###
##############################################################################
##############################################################################


>>>>>>> 
>>>>>>> INSTALLATION WITH 'R CMD INSTALL --preclean --no-multiarch --library=VariantTools.buildbin-libdir VariantTools_1.44.0.tar.gz'
>>>>>>> 

* installing *source* package ‘VariantTools’ ...
** using staged installation
** R
** data
** inst
** byte-compile and prepare package for lazy loading
** help
*** installing help indices
** building package indices
** installing vignettes
** testing if installed package can be loaded from temporary location
** testing if installed package can be loaded from final location
** testing if installed package keeps a record of temporary installation path
* DONE (VariantTools)