Back to Mac ARM64 build report for BioC 3.18
ABCDEFGHIJKLMNOPQR[S]TUVWXYZ

This page was generated on 2024-03-28 11:32:32 -0400 (Thu, 28 Mar 2024).

HostnameOSArch (*)R versionInstalled pkgs
kjohnson1macOS 13.6.1 Venturaarm644.3.3 (2024-02-29) -- "Angel Food Cake" 4376
Click on any hostname to see more info about the system (e.g. compilers)      (*) as reported by 'uname -p', except on Windows and Mac OS X

Package 2006/2266HostnameOS / ArchINSTALLBUILDCHECKBUILD BIN
SparseSignatures 2.12.0  (landing page)
Luca De Sano
Snapshot Date: 2024-03-26 09:00:03 -0400 (Tue, 26 Mar 2024)
git_url: https://git.bioconductor.org/packages/SparseSignatures
git_branch: RELEASE_3_18
git_last_commit: 761604b
git_last_commit_date: 2023-10-24 11:04:29 -0400 (Tue, 24 Oct 2023)
kjohnson1macOS 13.6.1 Ventura / arm64  OK    OK    OK    OK  UNNEEDED, same version is already published

CHECK results for SparseSignatures on kjohnson1


To the developers/maintainers of the SparseSignatures package:
- Use the following Renviron settings to reproduce errors and warnings.
- If 'R CMD check' started to fail recently on the Linux builder(s) over a missing dependency, add the missing dependency to 'Suggests:' in your DESCRIPTION file. See Renviron.bioc for more information.

raw results


Summary

Package: SparseSignatures
Version: 2.12.0
Command: /Library/Frameworks/R.framework/Resources/bin/R CMD check --install=check:SparseSignatures.install-out.txt --library=/Library/Frameworks/R.framework/Resources/library --no-vignettes --timings SparseSignatures_2.12.0.tar.gz
StartedAt: 2024-03-28 03:38:48 -0400 (Thu, 28 Mar 2024)
EndedAt: 2024-03-28 03:49:03 -0400 (Thu, 28 Mar 2024)
EllapsedTime: 615.3 seconds
RetCode: 0
Status:   OK  
CheckDir: SparseSignatures.Rcheck
Warnings: 0

Command output

##############################################################################
##############################################################################
###
### Running command:
###
###   /Library/Frameworks/R.framework/Resources/bin/R CMD check --install=check:SparseSignatures.install-out.txt --library=/Library/Frameworks/R.framework/Resources/library --no-vignettes --timings SparseSignatures_2.12.0.tar.gz
###
##############################################################################
##############################################################################


* using log directory ‘/Users/biocbuild/bbs-3.18-bioc-mac-arm64/meat/SparseSignatures.Rcheck’
* using R version 4.3.3 (2024-02-29)
* using platform: aarch64-apple-darwin20 (64-bit)
* R was compiled by
    Apple clang version 14.0.0 (clang-1400.0.29.202)
    GNU Fortran (GCC) 12.2.0
* running under: macOS Ventura 13.6.1
* using session charset: UTF-8
* using option ‘--no-vignettes’
* checking for file ‘SparseSignatures/DESCRIPTION’ ... OK
* this is package ‘SparseSignatures’ version ‘2.12.0’
* package encoding: UTF-8
* checking package namespace information ... OK
* checking package dependencies ... OK
* checking if this is a source package ... OK
* checking if there is a namespace ... OK
* checking for hidden files and directories ... OK
* checking for portable file names ... OK
* checking for sufficient/correct file permissions ... OK
* checking whether package ‘SparseSignatures’ can be installed ... OK
* checking installed package size ... OK
* checking package directory ... OK
* checking ‘build’ directory ... OK
* checking DESCRIPTION meta-information ... OK
* checking top-level files ... OK
* checking for left-over files ... OK
* checking index information ... OK
* checking package subdirectories ... OK
* checking R files for non-ASCII characters ... OK
* checking R files for syntax errors ... OK
* checking whether the package can be loaded ... OK
* checking whether the package can be loaded with stated dependencies ... OK
* checking whether the package can be unloaded cleanly ... OK
* checking whether the namespace can be loaded with stated dependencies ... OK
* checking whether the namespace can be unloaded cleanly ... OK
* checking dependencies in R code ... OK
* checking S3 generic/method consistency ... OK
* checking replacement functions ... OK
* checking foreign function calls ... OK
* checking R code for possible problems ... NOTE
import.trinucleotides.counts: no visible global function definition for
  ‘.’
patients.plot: no visible binding for global variable ‘Context’
patients.plot: no visible binding for global variable ‘alt’
patients.plot: no visible binding for global variable ‘patient’
patients.plot: no visible binding for global variable ‘value’
signatures.plot: no visible binding for global variable ‘Context’
signatures.plot: no visible binding for global variable ‘alt’
signatures.plot: no visible binding for global variable ‘value’
Undefined global functions or variables:
  . Context alt patient value
* checking Rd files ... OK
* checking Rd metadata ... OK
* checking Rd cross-references ... OK
* checking for missing documentation entries ... OK
* checking for code/documentation mismatches ... OK
* checking Rd \usage sections ... OK
* checking Rd contents ... OK
* checking for unstated dependencies in examples ... OK
* checking contents of ‘data’ directory ... OK
* checking data for non-ASCII characters ... OK
* checking data for ASCII and uncompressed saves ... OK
* checking files in ‘vignettes’ ... OK
* checking examples ... OK
Examples with CPU (user + system) or elapsed time > 5s
                              user system elapsed
lambdaRangeBetaEvaluation  104.208  8.555 114.433
lambdaRangeAlphaEvaluation  96.116  7.985 105.388
nmfLassoCV                  17.947  1.054  19.280
nmfLassoBootstrap           16.519  2.129  18.942
nmfLasso                     6.165  0.424   6.791
* checking for unstated dependencies in ‘tests’ ... OK
* checking tests ...
  Running ‘testthat.R’
 OK
* checking for unstated dependencies in vignettes ... OK
* checking package vignettes in ‘inst/doc’ ... OK
* checking running R code from vignettes ... SKIPPED
* checking re-building of vignette outputs ... SKIPPED
* checking PDF version of manual ... OK
* DONE

Status: 1 NOTE
See
  ‘/Users/biocbuild/bbs-3.18-bioc-mac-arm64/meat/SparseSignatures.Rcheck/00check.log’
for details.



Installation output

SparseSignatures.Rcheck/00install.out

##############################################################################
##############################################################################
###
### Running command:
###
###   /Library/Frameworks/R.framework/Resources/bin/R CMD INSTALL SparseSignatures
###
##############################################################################
##############################################################################


* installing to library ‘/Library/Frameworks/R.framework/Versions/4.3-arm64/Resources/library’
* installing *source* package ‘SparseSignatures’ ...
** using staged installation
** R
** data
** inst
** byte-compile and prepare package for lazy loading
** help
*** installing help indices
** building package indices
** installing vignettes
** testing if installed package can be loaded from temporary location
** testing if installed package can be loaded from final location
** testing if installed package keeps a record of temporary installation path
* DONE (SparseSignatures)

Tests output

SparseSignatures.Rcheck/tests/testthat.Rout


R version 4.3.3 (2024-02-29) -- "Angel Food Cake"
Copyright (C) 2024 The R Foundation for Statistical Computing
Platform: aarch64-apple-darwin20 (64-bit)

R is free software and comes with ABSOLUTELY NO WARRANTY.
You are welcome to redistribute it under certain conditions.
Type 'license()' or 'licence()' for distribution details.

R is a collaborative project with many contributors.
Type 'contributors()' for more information and
'citation()' on how to cite R or R packages in publications.

Type 'demo()' for some demos, 'help()' for on-line help, or
'help.start()' for an HTML browser interface to help.
Type 'q()' to quit R.

> Sys.setenv("R_TESTS" = "")
> 
> library("testthat")
> library("SparseSignatures")
Loading required package: NMF
Loading required package: registry
Loading required package: rngtools
Loading required package: cluster
NMF - BioConductor layer [OK] | Shared memory capabilities [NO: synchronicity] | Cores 2/2
  To enable shared memory capabilities, try: install.extras('
NMF
')

Attaching package: 'NMF'

The following object is masked from 'package:testthat':

    compare

> 
> test_check("SparseSignatures")
[ FAIL 0 | WARN 0 | SKIP 0 | PASS 1 ]
> 
> proc.time()
   user  system elapsed 
 14.858   0.620  15.660 

Example timings

SparseSignatures.Rcheck/SparseSignatures-Ex.timings

nameusersystemelapsed
import.trinucleotides.counts1.7080.7293.690
lambdaRangeAlphaEvaluation 96.116 7.985105.388
lambdaRangeBetaEvaluation104.208 8.555114.433
nmfLasso6.1650.4246.791
nmfLassoBootstrap16.519 2.12918.942
nmfLassoCV17.947 1.05419.280
patients.plot1.3390.0371.389
sigAssignmentCV0.1000.0070.108
sigAssignmentEvaluation2.3930.1852.591
sigAssignmentLasso0.7530.0660.825
signatures.plot2.2980.0292.360
startingBetaEstimation4.8700.0924.993