Back to Multiple platform build/check report for BioC 3.19:   simplified   long
A[B]CDEFGHIJKLMNOPQRSTUVWXYZ

This page was generated on 2024-03-28 11:37:21 -0400 (Thu, 28 Mar 2024).

HostnameOSArch (*)R versionInstalled pkgs
nebbiolo1Linux (Ubuntu 22.04.3 LTS)x86_64R Under development (unstable) (2024-03-18 r86148) -- "Unsuffered Consequences" 4708
palomino3Windows Server 2022 Datacenterx64R Under development (unstable) (2024-03-16 r86144 ucrt) -- "Unsuffered Consequences" 4446
lconwaymacOS 12.7.1 Montereyx86_64R Under development (unstable) (2024-03-18 r86148) -- "Unsuffered Consequences" 4471
kunpeng2Linux (openEuler 22.03 LTS-SP1)aarch64R Under development (unstable) (2024-03-19 r86153) -- "Unsuffered Consequences" 4426
Click on any hostname to see more info about the system (e.g. compilers)      (*) as reported by 'uname -p', except on Windows and Mac OS X

Package 139/2270HostnameOS / ArchINSTALLBUILDCHECKBUILD BIN
BayesSpace 1.13.0  (landing page)
Matt Stone
Snapshot Date: 2024-03-27 14:00:18 -0400 (Wed, 27 Mar 2024)
git_url: https://git.bioconductor.org/packages/BayesSpace
git_branch: devel
git_last_commit: 66e4609
git_last_commit_date: 2023-10-24 11:26:25 -0400 (Tue, 24 Oct 2023)
nebbiolo1Linux (Ubuntu 22.04.3 LTS) / x86_64  OK    OK    OK  UNNEEDED, same version is already published
palomino3Windows Server 2022 Datacenter / x64  OK    OK    OK    OK  UNNEEDED, same version is already published
lconwaymacOS 12.7.1 Monterey / x86_64  OK    OK    OK    OK  UNNEEDED, same version is already published
kunpeng2Linux (openEuler 22.03 LTS-SP1) / aarch64  OK    OK    OK  

BUILD BIN results for BayesSpace on palomino3


To the developers/maintainers of the BayesSpace package:
- Allow up to 24 hours (and sometimes 48 hours) for your latest push to git@git.bioconductor.org:packages/BayesSpace.git to reflect on this report. See Troubleshooting Build Report for more information.
- Use the following Renviron settings to reproduce errors and warnings.
- If 'R CMD check' started to fail recently on the Linux builder(s) over a missing dependency, add the missing dependency to 'Suggests:' in your DESCRIPTION file. See Renviron.bioc for more information.

raw results


Summary

Package: BayesSpace
Version: 1.13.0
Command: rm -rf BayesSpace.buildbin-libdir && mkdir BayesSpace.buildbin-libdir && F:\biocbuild\bbs-3.19-bioc\R\bin\R.exe CMD INSTALL --build --library=BayesSpace.buildbin-libdir BayesSpace_1.13.0.tar.gz
StartedAt: 2024-03-28 08:21:24 -0400 (Thu, 28 Mar 2024)
EndedAt: 2024-03-28 08:22:48 -0400 (Thu, 28 Mar 2024)
EllapsedTime: 84.0 seconds
RetCode: 0
Status:   OK  
PackageFile: BayesSpace_1.13.0.zip
PackageFileSize: 1.577 MiB

Command output

##############################################################################
##############################################################################
###
### Running command:
###
###   rm -rf BayesSpace.buildbin-libdir && mkdir BayesSpace.buildbin-libdir && F:\biocbuild\bbs-3.19-bioc\R\bin\R.exe CMD INSTALL --build --library=BayesSpace.buildbin-libdir BayesSpace_1.13.0.tar.gz
###
##############################################################################
##############################################################################


* installing *source* package 'BayesSpace' ...
** using staged installation
** libs
using C++ compiler: 'G__~1.EXE (GCC) 13.2.0'
using C++11
g++  -std=gnu++11 -I"F:/biocbuild/bbs-3.19-bioc/R/include" -DNDEBUG  -I'F:/biocbuild/bbs-3.19-bioc/R/library/Rcpp/include' -I'F:/biocbuild/bbs-3.19-bioc/R/library/RcppArmadillo/include' -I'F:/biocbuild/bbs-3.19-bioc/R/library/RcppDist/include' -I'F:/biocbuild/bbs-3.19-bioc/R/library/RcppProgress/include'   -I"C:/rtools44/x86_64-w64-mingw32.static.posix/include"  -fopenmp    -O2 -Wall  -mfpmath=sse -msse2 -mstackrealign  -c RcppExports.cpp -o RcppExports.o
g++  -std=gnu++11 -I"F:/biocbuild/bbs-3.19-bioc/R/include" -DNDEBUG  -I'F:/biocbuild/bbs-3.19-bioc/R/library/Rcpp/include' -I'F:/biocbuild/bbs-3.19-bioc/R/library/RcppArmadillo/include' -I'F:/biocbuild/bbs-3.19-bioc/R/library/RcppDist/include' -I'F:/biocbuild/bbs-3.19-bioc/R/library/RcppProgress/include'   -I"C:/rtools44/x86_64-w64-mingw32.static.posix/include"  -fopenmp    -O2 -Wall  -mfpmath=sse -msse2 -mstackrealign  -c cluster.cpp -o cluster.o
g++ -shared -s -static-libgcc -o BayesSpace.dll tmp.def RcppExports.o cluster.o -fopenmp -LF:/biocbuild/bbs-3.19-bioc/R/bin/x64 -lRlapack -LF:/biocbuild/bbs-3.19-bioc/R/bin/x64 -lRblas -lgfortran -lm -lquadmath -LC:/rtools44/x86_64-w64-mingw32.static.posix/lib/x64 -LC:/rtools44/x86_64-w64-mingw32.static.posix/lib -LF:/biocbuild/bbs-3.19-bioc/R/bin/x64 -lR
installing to F:/biocbuild/bbs-3.19-bioc/meat/BayesSpace.buildbin-libdir/00LOCK-BayesSpace/00new/BayesSpace/libs/x64
** R
** inst
** byte-compile and prepare package for lazy loading
** help
*** installing help indices
** building package indices
** installing vignettes
** testing if installed package can be loaded from temporary location
** testing if installed package can be loaded from final location
** testing if installed package keeps a record of temporary installation path
* MD5 sums
packaged installation of 'BayesSpace' as BayesSpace_1.13.0.zip
* DONE (BayesSpace)