Back to Multiple platform build/check report for BioC 3.17 |
|
This page was generated on 2023-01-27 11:07:51 -0500 (Fri, 27 Jan 2023).
Hostname | OS | Arch (*) | R version | Installed pkgs |
---|---|---|---|---|
nebbiolo1 | Linux (Ubuntu 22.04.1 LTS) | x86_64 | R Under development (unstable) (2023-01-10 r83596) -- "Unsuffered Consequences" | 4465 |
palomino3 | Windows Server 2022 Datacenter | x64 | R Under development (unstable) (2023-01-10 r83596 ucrt) -- "Unsuffered Consequences" | 4246 |
merida1 | macOS 10.14.6 Mojave | x86_64 | R Under development (unstable) (2023-01-10 r83596) -- "Unsuffered Consequences" | 4269 |
Click on any hostname to see more info about the system (e.g. compilers) (*) as reported by 'uname -p', except on Windows and Mac OS X |
To the developers/maintainers of the MEDIPS package: - Please allow up to 24 hours (and sometimes 48 hours) for your latest push to git@git.bioconductor.org:packages/MEDIPS.git to reflect on this report. See How and When does the builder pull? When will my changes propagate? for more information. - Make sure to use the following settings in order to reproduce any error or warning you see on this page. |
Package 1111/2162 | Hostname | OS / Arch | INSTALL | BUILD | CHECK | BUILD BIN | ||||||||
MEDIPS 1.51.0 (landing page) Lukas Chavez
| nebbiolo1 | Linux (Ubuntu 22.04.1 LTS) / x86_64 | OK | OK | OK | ![]() | ||||||||
palomino3 | Windows Server 2022 Datacenter / x64 | OK | OK | OK | OK | ![]() | ||||||||
merida1 | macOS 10.14.6 Mojave / x86_64 | OK | OK | OK | OK | ![]() | ||||||||
Package: MEDIPS |
Version: 1.51.0 |
Command: rm -rf MEDIPS.buildbin-libdir && mkdir MEDIPS.buildbin-libdir && F:\biocbuild\bbs-3.17-bioc\R\bin\R.exe CMD INSTALL --build --library=MEDIPS.buildbin-libdir MEDIPS_1.51.0.tar.gz |
StartedAt: 2023-01-27 08:18:43 -0500 (Fri, 27 Jan 2023) |
EndedAt: 2023-01-27 08:19:34 -0500 (Fri, 27 Jan 2023) |
EllapsedTime: 51.1 seconds |
RetCode: 0 |
Status: OK |
PackageFile: MEDIPS_1.51.0.zip |
PackageFileSize: 755.7 KiB |
############################################################################## ############################################################################## ### ### Running command: ### ### rm -rf MEDIPS.buildbin-libdir && mkdir MEDIPS.buildbin-libdir && F:\biocbuild\bbs-3.17-bioc\R\bin\R.exe CMD INSTALL --build --library=MEDIPS.buildbin-libdir MEDIPS_1.51.0.tar.gz ### ############################################################################## ############################################################################## * installing *source* package 'MEDIPS' ... ** using staged installation ** R ** inst ** byte-compile and prepare package for lazy loading No methods found in package 'IRanges' for request: 'values' when loading 'MEDIPS' ** help *** installing help indices ** building package indices ** installing vignettes ** testing if installed package can be loaded from temporary location No methods found in package 'IRanges' for request: 'values' when loading 'MEDIPS' ** testing if installed package can be loaded from final location No methods found in package 'IRanges' for request: 'values' when loading 'MEDIPS' ** testing if installed package keeps a record of temporary installation path * MD5 sums packaged installation of 'MEDIPS' as MEDIPS_1.51.0.zip * DONE (MEDIPS)