Back to Multiple platform build/check report for BioC 3.17:   simplified   long
AB[C]DEFGHIJKLMNOPQRSTUVWXYZ

This page was generated on 2023-02-04 11:05:25 -0500 (Sat, 04 Feb 2023).

HostnameOSArch (*)R versionInstalled pkgs
nebbiolo1Linux (Ubuntu 22.04.1 LTS)x86_64R Under development (unstable) (2023-01-10 r83596) -- "Unsuffered Consequences" 4483
palomino3Windows Server 2022 Datacenterx64R Under development (unstable) (2023-01-10 r83596 ucrt) -- "Unsuffered Consequences" 4249
merida1macOS 10.14.6 Mojavex86_64R Under development (unstable) (2023-01-10 r83596) -- "Unsuffered Consequences" 4272
Click on any hostname to see more info about the system (e.g. compilers)      (*) as reported by 'uname -p', except on Windows and Mac OS X

BUILD results for CRImage on palomino3


To the developers/maintainers of the CRImage package:
- Please allow up to 24 hours (and sometimes 48 hours) for your latest push to git@git.bioconductor.org:packages/CRImage.git to
reflect on this report. See How and When does the builder pull? When will my changes propagate? for more information.
- Make sure to use the following settings in order to reproduce any error or warning you see on this page.

raw results

Package 426/2164HostnameOS / ArchINSTALLBUILDCHECKBUILD BIN
CRImage 1.47.0  (landing page)
Henrik Failmezger , Yinyin Yuan
Snapshot Date: 2023-02-03 14:00:22 -0500 (Fri, 03 Feb 2023)
git_url: https://git.bioconductor.org/packages/CRImage
git_branch: master
git_last_commit: 447a17a
git_last_commit_date: 2022-11-01 11:05:21 -0500 (Tue, 01 Nov 2022)
nebbiolo1Linux (Ubuntu 22.04.1 LTS) / x86_64  OK    OK    OK  UNNEEDED, same version is already published
palomino3Windows Server 2022 Datacenter / x64  OK    OK    OK    OK  UNNEEDED, same version is already published
merida1macOS 10.14.6 Mojave / x86_64  OK    OK    OK    OK  UNNEEDED, same version is already published

Summary

Package: CRImage
Version: 1.47.0
Command: chmod a+r CRImage -R && F:\biocbuild\bbs-3.17-bioc\R\bin\R.exe CMD build --keep-empty-dirs --no-resave-data CRImage
StartedAt: 2023-02-03 18:06:09 -0500 (Fri, 03 Feb 2023)
EndedAt: 2023-02-03 18:06:41 -0500 (Fri, 03 Feb 2023)
EllapsedTime: 32.6 seconds
RetCode: 0
Status:   OK  
PackageFile: CRImage_1.47.0.tar.gz
PackageFileSize: 7.554 MiB

Command output

##############################################################################
##############################################################################
###
### Running command:
###
###   chmod a+r CRImage -R && F:\biocbuild\bbs-3.17-bioc\R\bin\R.exe CMD build --keep-empty-dirs --no-resave-data CRImage
###
##############################################################################
##############################################################################


* checking for file 'CRImage/DESCRIPTION' ... OK
* preparing 'CRImage':
* checking DESCRIPTION meta-information ... OK
* installing the package to build vignettes
* creating vignettes ... OK
* checking for LF line-endings in source and make files and shell scripts
* checking for empty or unneeded directories
* building 'CRImage_1.47.0.tar.gz'