Back to Multiple platform build/check report for BioC 3.19:   simplified   long
[A]BCDEFGHIJKLMNOPQRSTUVWXYZ

This page was generated on 2024-02-28 11:36:12 -0500 (Wed, 28 Feb 2024).

HostnameOSArch (*)R versionInstalled pkgs
nebbiolo1Linux (Ubuntu 22.04.3 LTS)x86_64R Under development (unstable) (2024-01-16 r85808) -- "Unsuffered Consequences" 4671
palomino3Windows Server 2022 Datacenterx64R Under development (unstable) (2024-01-14 r85805 ucrt) -- "Unsuffered Consequences" 4411
merida1macOS 12.7.1 Montereyx86_64R Under development (unstable) (2024-01-16 r85808) -- "Unsuffered Consequences" 4438
kunpeng2Linux (openEuler 22.03 LTS-SP1)aarch64R Under development (unstable) (2024-01-16 r85812) -- "Unsuffered Consequences" 4414
Click on any hostname to see more info about the system (e.g. compilers)      (*) as reported by 'uname -p', except on Windows and Mac OS X

Package 14/2251HostnameOS / ArchINSTALLBUILDCHECKBUILD BIN
ADaCGH2 2.43.1  (landing page)
Ramon Diaz-Uriarte
Snapshot Date: 2024-02-26 14:39:26 -0500 (Mon, 26 Feb 2024)
git_url: https://git.bioconductor.org/packages/ADaCGH2
git_branch: devel
git_last_commit: 55eb160
git_last_commit_date: 2024-02-05 17:27:51 -0500 (Mon, 05 Feb 2024)
nebbiolo1Linux (Ubuntu 22.04.3 LTS) / x86_64  OK    OK    OK  UNNEEDED, same version is already published
palomino3Windows Server 2022 Datacenter / x64  OK    OK    OK    OK  UNNEEDED, same version is already published
merida1macOS 12.7.1 Monterey / x86_64  OK    OK    OK    OK  UNNEEDED, same version is already published
kunpeng2Linux (openEuler 22.03 LTS-SP1) / aarch64  OK    OK    OK  

CHECK results for ADaCGH2 on nebbiolo1


To the developers/maintainers of the ADaCGH2 package:
- Allow up to 24 hours (and sometimes 48 hours) for your latest push to git@git.bioconductor.org:packages/ADaCGH2.git to reflect on this report. See Troubleshooting Build Report for more information.
- Use the following Renviron settings to reproduce errors and warnings.
- If 'R CMD check' started to fail recently on the Linux builder(s) over a missing dependency, add the missing dependency to 'Suggests:' in your DESCRIPTION file. See Renviron.bioc for more information.

raw results


Summary

Package: ADaCGH2
Version: 2.43.1
Command: /home/biocbuild/bbs-3.19-bioc/R/bin/R CMD check --install=check:ADaCGH2.install-out.txt --library=/home/biocbuild/bbs-3.19-bioc/R/site-library --timings ADaCGH2_2.43.1.tar.gz
StartedAt: 2024-02-26 20:20:20 -0500 (Mon, 26 Feb 2024)
EndedAt: 2024-02-26 20:25:39 -0500 (Mon, 26 Feb 2024)
EllapsedTime: 318.6 seconds
RetCode: 0
Status:   OK  
CheckDir: ADaCGH2.Rcheck
Warnings: 0

Command output

##############################################################################
##############################################################################
###
### Running command:
###
###   /home/biocbuild/bbs-3.19-bioc/R/bin/R CMD check --install=check:ADaCGH2.install-out.txt --library=/home/biocbuild/bbs-3.19-bioc/R/site-library --timings ADaCGH2_2.43.1.tar.gz
###
##############################################################################
##############################################################################


* using log directory ‘/home/biocbuild/bbs-3.19-bioc/meat/ADaCGH2.Rcheck’
* using R Under development (unstable) (2024-01-16 r85808)
* using platform: x86_64-pc-linux-gnu
* R was compiled by
    gcc (Ubuntu 11.4.0-1ubuntu1~22.04) 11.4.0
    GNU Fortran (Ubuntu 11.4.0-1ubuntu1~22.04) 11.4.0
* running under: Ubuntu 22.04.3 LTS
* using session charset: UTF-8
* checking for file ‘ADaCGH2/DESCRIPTION’ ... OK
* this is package ‘ADaCGH2’ version ‘2.43.1’
* checking package namespace information ... OK
* checking package dependencies ... OK
* checking if this is a source package ... OK
* checking if there is a namespace ... OK
* checking for hidden files and directories ... OK
* checking for portable file names ... OK
* checking for sufficient/correct file permissions ... OK
* checking whether package ‘ADaCGH2’ can be installed ... OK
* used C compiler: ‘gcc (Ubuntu 11.4.0-1ubuntu1~22.04) 11.4.0’
* checking installed package size ... OK
* checking package directory ... OK
* checking ‘build’ directory ... OK
* checking DESCRIPTION meta-information ... OK
* checking top-level files ... OK
* checking for left-over files ... OK
* checking index information ... OK
* checking package subdirectories ... OK
* checking R files for non-ASCII characters ... OK
* checking R files for syntax errors ... OK
* checking whether the package can be loaded ... OK
* checking whether the package can be loaded with stated dependencies ... OK
* checking whether the package can be unloaded cleanly ... OK
* checking whether the namespace can be loaded with stated dependencies ... OK
* checking whether the namespace can be unloaded cleanly ... OK
* checking loading without being on the library search path ... OK
* checking dependencies in R code ... OK
* checking S3 generic/method consistency ... OK
* checking replacement functions ... OK
* checking foreign function calls ... OK
* checking R code for possible problems ... OK
* checking Rd files ... OK
* checking Rd metadata ... OK
* checking Rd cross-references ... OK
* checking for missing documentation entries ... OK
* checking for code/documentation mismatches ... OK
* checking Rd \usage sections ... OK
* checking Rd contents ... OK
* checking for unstated dependencies in examples ... OK
* checking contents of ‘data’ directory ... OK
* checking data for non-ASCII characters ... OK
* checking data for ASCII and uncompressed saves ... OK
* checking line endings in C/C++/Fortran sources/headers ... OK
* checking compiled code ... NOTE
Note: information on .o files is not available
* checking installed files from ‘inst/doc’ ... OK
* checking files in ‘vignettes’ ... OK
* checking examples ... OK
Examples with CPU (user + system) or elapsed time > 5s
                     user system elapsed
pChromPlot         27.338 14.653  21.081
pSegment           35.777  3.765  33.730
outputToCGHregions 24.888  2.106  16.231
inputToADaCGH       5.958  0.680   6.519
* checking for unstated dependencies in vignettes ... OK
* checking package vignettes ... OK
* checking re-building of vignette outputs ... OK
* checking PDF version of manual ... OK
* DONE

Status: 1 NOTE
See
  ‘/home/biocbuild/bbs-3.19-bioc/meat/ADaCGH2.Rcheck/00check.log’
for details.



Installation output

ADaCGH2.Rcheck/00install.out

##############################################################################
##############################################################################
###
### Running command:
###
###   /home/biocbuild/bbs-3.19-bioc/R/bin/R CMD INSTALL ADaCGH2
###
##############################################################################
##############################################################################


* installing to library ‘/home/biocbuild/bbs-3.19-bioc/R/site-library’
* installing *source* package ‘ADaCGH2’ ...
** using staged installation
** libs
using C compiler: ‘gcc (Ubuntu 11.4.0-1ubuntu1~22.04) 11.4.0’
gcc -I"/home/biocbuild/bbs-3.19-bioc/R/include" -DNDEBUG   -I/usr/local/include    -fpic  -g -O2  -Wall -c init.c -o init.o
gcc -I"/home/biocbuild/bbs-3.19-bioc/R/include" -DNDEBUG   -I/usr/local/include    -fpic  -g -O2  -Wall -c r_haarseg.c -o r_haarseg.o
r_haarseg.c: In function ‘ad_HaarConv’:
r_haarseg.c:65:12: warning: unused variable ‘totalNorm’ [-Wunused-variable]
   65 |     double totalNorm;
      |            ^~~~~~~~~
r_haarseg.c: In function ‘ad_FindLocalPeaks’:
r_haarseg.c:152:43: warning: "/*" within comment [-Wcomment]
  152 |                                          }/* for j */
      |                                            
r_haarseg.c:176:43: warning: "/*" within comment [-Wcomment]
  176 |                                          }/* for j */
      |                                            
r_haarseg.c:128:16: warning: unused variable ‘j’ [-Wunused-variable]
  128 |          int k,j;
      |                ^
r_haarseg.c: In function ‘ad_HaarConv’:
r_haarseg.c:97:27: warning: ‘highNonNormed’ may be used uninitialized in this function [-Wmaybe-uninitialized]
   97 |             highNonNormed += signal[highEnd]*weight[highEnd] - signal[k-1]*weight[k-1];
      |             ~~~~~~~~~~~~~~^~~~~~~~~~~~~~~~~~~~~~~~~~~~~~~~~~~~~~~~~~~~~~~~~~~~~~~~~~~~
r_haarseg.c:98:26: warning: ‘lowWeightSum’ may be used uninitialized in this function [-Wmaybe-uninitialized]
   98 |             lowWeightSum += weight[k-1] - weight[lowEnd];
      |             ~~~~~~~~~~~~~^~~~~~~~~~~~~~~~~~~~~~~~~~~~~~~
r_haarseg.c:99:27: warning: ‘highWeightSum’ may be used uninitialized in this function [-Wmaybe-uninitialized]
   99 |             highWeightSum += weight[highEnd] - weight[k-1];
      |             ~~~~~~~~~~~~~~^~~~~~~~~~~~~~~~~~~~~~~~~~~~~~~~
r_haarseg.c:96:26: warning: ‘lowNonNormed’ may be used uninitialized in this function [-Wmaybe-uninitialized]
   96 |             lowNonNormed += signal[lowEnd]*weight[lowEnd] - signal[k-1]*weight[k-1];
      |             ~~~~~~~~~~~~~^~~~~~~~~~~~~~~~~~~~~~~~~~~~~~~~~~~~~~~~~~~~~~~~~~~~~~~~~~
gcc -shared -L/home/biocbuild/bbs-3.19-bioc/R/lib -L/usr/local/lib -o ADaCGH2.so init.o r_haarseg.o -L/home/biocbuild/bbs-3.19-bioc/R/lib -lR
installing to /home/biocbuild/bbs-3.19-bioc/R/site-library/00LOCK-ADaCGH2/00new/ADaCGH2/libs
** R
** data
** inst
** byte-compile and prepare package for lazy loading
** help
*** installing help indices
** building package indices
** installing vignettes
** testing if installed package can be loaded from temporary location
** checking absolute paths in shared objects and dynamic libraries
** testing if installed package can be loaded from final location
** testing if installed package keeps a record of temporary installation path
* DONE (ADaCGH2)

Tests output


Example timings

ADaCGH2.Rcheck/ADaCGH2-Ex.timings

nameusersystemelapsed
cutFile0.0390.0252.111
inputToADaCGH5.9580.6806.519
outputToCGHregions24.888 2.10616.231
pChromPlot27.33814.65321.081
pSegment35.777 3.76533.730