Back to Multiple platform build/check report for BioC 3.15
ABCDEFGHIJKLMNOPQ[R]STUVWXYZ

This page was generated on 2022-01-18 11:06:17 -0500 (Tue, 18 Jan 2022).

HostnameOSArch (*)R versionInstalled pkgs
nebbiolo1Linux (Ubuntu 20.04.4 LTS)x86_64R Under development (unstable) (2022-01-05 r81451) -- "Unsuffered Consequences" 4161
riesling1Windows Server 2019 Standardx64R Under development (unstable) (2021-11-21 r81221) -- "Unsuffered Consequences" 4056
palomino3Windows Server 2022 Datacenterx64R Under development (unstable) (2021-12-21 r81400 ucrt) -- "Unsuffered Consequences" 3998
merida1macOS 10.14.6 Mojavex86_64R Under development (unstable) (2022-01-05 r81451) -- "Unsuffered Consequences" 4115
Click on any hostname to see more info about the system (e.g. compilers)      (*) as reported by 'uname -p', except on Windows and Mac OS X

CHECK results for rCGH on nebbiolo1


To the developers/maintainers of the rCGH package:
- Please allow up to 24 hours (and sometimes 48 hours) for your latest push to git@git.bioconductor.org:packages/rCGH.git to
reflect on this report. See How and When does the builder pull? When will my changes propagate? here for more information.
- Make sure to use the following settings in order to reproduce any error or warning you see on this page.

raw results

Package 1538/2074HostnameOS / ArchINSTALLBUILDCHECKBUILD BIN
rCGH 1.25.0  (landing page)
Frederic Commo
Snapshot Date: 2022-01-17 13:55:17 -0500 (Mon, 17 Jan 2022)
git_url: https://git.bioconductor.org/packages/rCGH
git_branch: master
git_last_commit: d1738e8
git_last_commit_date: 2021-10-26 12:21:28 -0500 (Tue, 26 Oct 2021)
nebbiolo1Linux (Ubuntu 20.04.4 LTS) / x86_64  OK    OK    OK  UNNEEDED, same version is already published
riesling1Windows Server 2019 Standard / x64  OK    OK    OK    OK  
palomino3Windows Server 2022 Datacenter / x64  OK    OK    OK    OK  NO, package depends on 'affy' which is not available
merida1macOS 10.14.6 Mojave / x86_64  OK    OK    OK    OK  UNNEEDED, same version is already published

Summary

Package: rCGH
Version: 1.25.0
Command: /home/biocbuild/bbs-3.15-bioc/R/bin/R CMD check --install=check:rCGH.install-out.txt --library=/home/biocbuild/bbs-3.15-bioc/R/library --no-vignettes --timings rCGH_1.25.0.tar.gz
StartedAt: 2022-01-17 20:37:12 -0500 (Mon, 17 Jan 2022)
EndedAt: 2022-01-17 20:42:33 -0500 (Mon, 17 Jan 2022)
EllapsedTime: 320.8 seconds
RetCode: 0
Status:   OK  
CheckDir: rCGH.Rcheck
Warnings: 0

Command output

##############################################################################
##############################################################################
###
### Running command:
###
###   /home/biocbuild/bbs-3.15-bioc/R/bin/R CMD check --install=check:rCGH.install-out.txt --library=/home/biocbuild/bbs-3.15-bioc/R/library --no-vignettes --timings rCGH_1.25.0.tar.gz
###
##############################################################################
##############################################################################


* using log directory ‘/home/biocbuild/bbs-3.15-bioc/meat/rCGH.Rcheck’
* using R Under development (unstable) (2022-01-05 r81451)
* using platform: x86_64-pc-linux-gnu (64-bit)
* using session charset: UTF-8
* using option ‘--no-vignettes’
* checking for file ‘rCGH/DESCRIPTION’ ... OK
* checking extension type ... Package
* this is package ‘rCGH’ version ‘1.25.0’
* checking package namespace information ... OK
* checking package dependencies ... OK
* checking if this is a source package ... OK
* checking if there is a namespace ... OK
* checking for hidden files and directories ... OK
* checking for portable file names ... OK
* checking for sufficient/correct file permissions ... OK
* checking whether package ‘rCGH’ can be installed ... OK
* checking installed package size ... OK
* checking package directory ... OK
* checking ‘build’ directory ... OK
* checking DESCRIPTION meta-information ... OK
* checking top-level files ... OK
* checking for left-over files ... OK
* checking index information ... OK
* checking package subdirectories ... OK
* checking R files for non-ASCII characters ... OK
* checking R files for syntax errors ... OK
* checking whether the package can be loaded ... OK
* checking whether the package can be loaded with stated dependencies ... OK
* checking whether the package can be unloaded cleanly ... OK
* checking whether the namespace can be loaded with stated dependencies ... OK
* checking whether the namespace can be unloaded cleanly ... OK
* checking dependencies in R code ... OK
* checking S3 generic/method consistency ... OK
* checking replacement functions ... OK
* checking foreign function calls ... OK
* checking R code for possible problems ... OK
* checking Rd files ... OK
* checking Rd metadata ... OK
* checking Rd cross-references ... OK
* checking for missing documentation entries ... OK
* checking for code/documentation mismatches ... OK
* checking Rd \usage sections ... OK
* checking Rd contents ... OK
* checking for unstated dependencies in examples ... OK
* checking contents of ‘data’ directory ... OK
* checking data for non-ASCII characters ... OK
* checking LazyData ... OK
* checking data for ASCII and uncompressed saves ... OK
* checking installed files from ‘inst/doc’ ... OK
* checking files in ‘vignettes’ ... NOTE
The following directory looks like a leftover from 'knitr':
  ‘figure’
Please remove from your package.
* checking examples ... OK
Examples with CPU (user + system) or elapsed time > 5s
              user system elapsed
byGeneTable  9.491  0.171   9.700
multiplot    7.541  0.092   7.649
plotProfile  7.506  0.096   7.632
rCGH-package 5.854  0.188   6.056
recenter     5.234  0.381   5.651
EMnormalize  5.541  0.065   5.645
plotDensity  5.041  0.051   5.129
plotLOH      5.030  0.060   5.121
* checking for unstated dependencies in ‘tests’ ... OK
* checking tests ...
  Running ‘runTests.R’
 OK
* checking for unstated dependencies in vignettes ... OK
* checking package vignettes in ‘inst/doc’ ... OK
* checking running R code from vignettes ... SKIPPED
* checking re-building of vignette outputs ... SKIPPED
* checking PDF version of manual ... OK
* DONE

Status: 1 NOTE
See
  ‘/home/biocbuild/bbs-3.15-bioc/meat/rCGH.Rcheck/00check.log’
for details.



Installation output

rCGH.Rcheck/00install.out

##############################################################################
##############################################################################
###
### Running command:
###
###   /home/biocbuild/bbs-3.15-bioc/R/bin/R CMD INSTALL rCGH
###
##############################################################################
##############################################################################


* installing to library ‘/home/biocbuild/bbs-3.15-bioc/R/library’
* installing *source* package ‘rCGH’ ...
** using staged installation
** R
** data
*** moving datasets to lazyload DB
** inst
** byte-compile and prepare package for lazy loading
** help
*** installing help indices
** building package indices
** installing vignettes
** testing if installed package can be loaded from temporary location
** testing if installed package can be loaded from final location
** testing if installed package keeps a record of temporary installation path
* DONE (rCGH)

Tests output

rCGH.Rcheck/tests/runTests.Rout


R Under development (unstable) (2022-01-05 r81451) -- "Unsuffered Consequences"
Copyright (C) 2022 The R Foundation for Statistical Computing
Platform: x86_64-pc-linux-gnu (64-bit)

R is free software and comes with ABSOLUTELY NO WARRANTY.
You are welcome to redistribute it under certain conditions.
Type 'license()' or 'licence()' for distribution details.

R is a collaborative project with many contributors.
Type 'contributors()' for more information and
'citation()' on how to cite R or R packages in publications.

Type 'demo()' for some demos, 'help()' for on-line help, or
'help.start()' for an HTML browser interface to help.
Type 'q()' to quit R.

> BiocGenerics:::testPackage("rCGH")

	********************************************************
	Current version: 1.25.0
	This version may contain important changes.
	Use news(Version == '1.25.0', package = 'rCGH').
	********************************************************

SNP probes will be used.
Reading information...
Reading values...
Adding presettings...
Genome build: hg19
Log2Ratios QCs:
	dLRs: 0.162
	MAD: 0.128

Scaling...
Signal filtering...
Modeling allelic Difference...
Computing LRR segmentation using UndoSD: 0.179
Merging segments shorter than 10Kb.
Number of segments: 25
Merging peaks closer than 0.1 ...
Gaussian mixture estimation:
n.peaks =  3

Group parameters:
Grp 1:
prop: 0.504,	mean: -0.061,	Sd: 0.149,	peak height: 1.344
Grp 2:
prop: 0.481,	mean: 0.861,	Sd: 0.149,	peak height: 1.284
Grp 3:
prop: 0.015,	mean: 2.04,	Sd: 0.149,	peak height: 0.041

Correction value:  -0.061
Use plotDensity() to visualize the LRR densities.
  403 genes were dropped because they have exons located on both strands
  of the same reference sequence or on more than one reference sequence,
  so cannot be represented by a single genomic range.
  Use 'single.strand.genes.only=FALSE' to get all the genes in a
  GRangesList object, or use suppressMessages() to suppress this message.
Creating byGene table...
SNP probes will be used.
Reading information...
Reading values...
Adding presettings...
Genome build: hg19
SNP probes will be used.
Reading information...
Reading values...
Adding presettings...
Genome build: hg19


RUNIT TEST PROTOCOL -- Mon Jan 17 20:42:29 2022 
*********************************************** 
Number of test functions: 11 
Number of errors: 0 
Number of failures: 0 

 
1 Test Suite : 
rCGH RUnit Tests - 11 test functions, 0 errors, 0 failures
Number of test functions: 11 
Number of errors: 0 
Number of failures: 0 
> 
> proc.time()
   user  system elapsed 
 22.547   0.771  23.328 

Example timings

rCGH.Rcheck/rCGH-Ex.timings

nameusersystemelapsed
AllAccessors0.4920.0120.507
EMnormalize5.5410.0655.645
adjustSignal3.7640.0333.795
byGeneTable9.4910.1719.700
hg180.0030.0010.003
hg190.0000.0020.003
hg380.0000.0030.002
multiplot7.5410.0927.649
plotDensity5.0410.0515.129
plotLOH5.0300.0605.121
plotProfile7.5060.0967.632
rCGH-Agilent-class0.0000.0020.001
rCGH-SNP6-class0.0000.0010.001
rCGH-class0.0000.0010.001
rCGH-cytoScan-class0.0000.0010.001
rCGH-generic-class000
rCGH-oncoScan-class000
rCGH-package5.8540.1886.056
readAffyCytoScan0.3950.0570.452
readAffyOncoScan0.0240.0050.029
readAffySNP60.4760.1120.590
readAgilent0.4620.0520.513
readGeneric0.0110.0000.012
recenter5.2340.3815.651
segmentCGH4.4560.0434.513
setInfo0.4570.0000.456
view4.6300.0204.667