Back to Multiple platform build/check report for BioC 3.17:   simplified   long
AB[C]DEFGHIJKLMNOPQRSTUVWXYZ

This page was generated on 2023-02-03 11:05:07 -0500 (Fri, 03 Feb 2023).

HostnameOSArch (*)R versionInstalled pkgs
nebbiolo1Linux (Ubuntu 22.04.1 LTS)x86_64R Under development (unstable) (2023-01-10 r83596) -- "Unsuffered Consequences" 4483
palomino3Windows Server 2022 Datacenterx64R Under development (unstable) (2023-01-10 r83596 ucrt) -- "Unsuffered Consequences" 4249
merida1macOS 10.14.6 Mojavex86_64R Under development (unstable) (2023-01-10 r83596) -- "Unsuffered Consequences" 4272
Click on any hostname to see more info about the system (e.g. compilers)      (*) as reported by 'uname -p', except on Windows and Mac OS X

CHECK results for CRImage on nebbiolo1


To the developers/maintainers of the CRImage package:
- Please allow up to 24 hours (and sometimes 48 hours) for your latest push to git@git.bioconductor.org:packages/CRImage.git to
reflect on this report. See How and When does the builder pull? When will my changes propagate? for more information.
- Make sure to use the following settings in order to reproduce any error or warning you see on this page.

raw results

Package 426/2164HostnameOS / ArchINSTALLBUILDCHECKBUILD BIN
CRImage 1.47.0  (landing page)
Henrik Failmezger , Yinyin Yuan
Snapshot Date: 2023-02-02 14:00:21 -0500 (Thu, 02 Feb 2023)
git_url: https://git.bioconductor.org/packages/CRImage
git_branch: master
git_last_commit: 447a17a
git_last_commit_date: 2022-11-01 11:05:21 -0500 (Tue, 01 Nov 2022)
nebbiolo1Linux (Ubuntu 22.04.1 LTS) / x86_64  OK    OK    OK  UNNEEDED, same version is already published
palomino3Windows Server 2022 Datacenter / x64  OK    OK    OK    OK  UNNEEDED, same version is already published
merida1macOS 10.14.6 Mojave / x86_64  OK    OK    OK    OK  UNNEEDED, same version is already published

Summary

Package: CRImage
Version: 1.47.0
Command: /home/biocbuild/bbs-3.17-bioc/R/bin/R CMD check --install=check:CRImage.install-out.txt --library=/home/biocbuild/bbs-3.17-bioc/R/library --timings CRImage_1.47.0.tar.gz
StartedAt: 2023-02-02 19:55:21 -0500 (Thu, 02 Feb 2023)
EndedAt: 2023-02-02 19:56:55 -0500 (Thu, 02 Feb 2023)
EllapsedTime: 94.4 seconds
RetCode: 0
Status:   OK  
CheckDir: CRImage.Rcheck
Warnings: 0

Command output

##############################################################################
##############################################################################
###
### Running command:
###
###   /home/biocbuild/bbs-3.17-bioc/R/bin/R CMD check --install=check:CRImage.install-out.txt --library=/home/biocbuild/bbs-3.17-bioc/R/library --timings CRImage_1.47.0.tar.gz
###
##############################################################################
##############################################################################


* using log directory ‘/home/biocbuild/bbs-3.17-bioc/meat/CRImage.Rcheck’
* using R Under development (unstable) (2023-01-10 r83596)
* using platform: x86_64-pc-linux-gnu (64-bit)
* R was compiled by
    gcc (Ubuntu 11.3.0-1ubuntu1~22.04) 11.3.0
    GNU Fortran (Ubuntu 11.3.0-1ubuntu1~22.04) 11.3.0
* running under: Ubuntu 22.04.1 LTS
* using session charset: UTF-8
* checking for file ‘CRImage/DESCRIPTION’ ... OK
* checking extension type ... Package
* this is package ‘CRImage’ version ‘1.47.0’
* checking package namespace information ... OK
* checking package dependencies ... OK
* checking if this is a source package ... OK
* checking if there is a namespace ... OK
* checking for hidden files and directories ... OK
* checking for portable file names ... OK
* checking for sufficient/correct file permissions ... OK
* checking whether package ‘CRImage’ can be installed ... OK
* checking installed package size ... NOTE
  installed size is  5.6Mb
  sub-directories of 1Mb or more:
    extdata   5.3Mb
* checking package directory ... OK
* checking ‘build’ directory ... OK
* checking DESCRIPTION meta-information ... OK
* checking top-level files ... OK
* checking for left-over files ... OK
* checking index information ... OK
* checking package subdirectories ... OK
* checking R files for non-ASCII characters ... OK
* checking R files for syntax errors ... OK
* checking whether the package can be loaded ... OK
* checking whether the package can be loaded with stated dependencies ... OK
* checking whether the package can be unloaded cleanly ... OK
* checking whether the namespace can be loaded with stated dependencies ... OK
* checking whether the namespace can be unloaded cleanly ... OK
* checking dependencies in R code ... NOTE
'library' or 'require' calls to packages already attached by Depends:
  ‘DNAcopy’ ‘aCGH’
  Please remove these calls from your code.
':::' call which should be '::': ‘aCGH:::combine.func’
  See the note in ?`:::` about the use of this operator.
* checking S3 generic/method consistency ... OK
* checking replacement functions ... OK
* checking foreign function calls ... OK
* checking R code for possible problems ... NOTE
Phansalkar_threshold: no visible global function definition for ‘sd’
SauvolaThreshold: no visible global function definition for ‘sd’
calculateMeanStdTarget: no visible global function definition for ‘sd’
calculateOtsu: no visible global function definition for ‘optimize’
classificationAperio: no visible global function definition for
  ‘write.table’
classificationAperio: no visible global function definition for
  ‘read.table’
classifyCells: no visible global function definition for ‘predict’
classifyPen: no visible global function definition for ‘predict’
colorCorrection: no visible global function definition for ‘sd’
correctCopyNumber : Myansari.test.default: no visible global function
  definition for ‘complete.cases’
correctCopyNumber : Myansari.test.default: no visible global function
  definition for ‘pnorm’
correctCopyNumber : Myansari.test.default : ccia: no visible global
  function definition for ‘qnorm’
correctCopyNumber : Myansari.test.default : ccia: no visible global
  function definition for ‘uniroot’
correctCopyNumber : Myansari.test.default: no visible global function
  definition for ‘uniroot’
correctCopyNumber: no visible global function definition for ‘quantile’
correctCopyNumber: no visible global function definition for ‘median’
determineCellularity: no visible global function definition for
  ‘colorRampPalette’
determineCellularity: no visible global function definition for
  ‘col2rgb’
findSlices: no visible global function definition for ‘cutree’
findSlices: no visible global function definition for ‘hclust’
findSlices: no visible global function definition for ‘dist’
findSlices: no visible global function definition for ‘col2rgb’
kernelSmoother: no visible global function definition for ‘dist’
labelCells: no visible global function definition for ‘points’
labelCells: no visible global function definition for ‘title’
labelCells : refresh: no visible global function definition for
  ‘points’
labelCells : refresh: no visible global function definition for ‘title’
labelCells : refresh: no visible global function definition for
  ‘write.table’
labelCells : keydown: no visible global function definition for
  ‘write.table’
labelCells : keydown: no visible global function definition for ‘title’
labelCells : dragmousedown: no visible global function definition for
  ‘grconvertX’
labelCells : dragmousedown: no visible global function definition for
  ‘grconvertY’
labelCells : dragmousemove: no visible global function definition for
  ‘grconvertX’
labelCells : dragmousemove: no visible global function definition for
  ‘grconvertY’
labelCells : dragmousemove: no visible global function definition for
  ‘lines’
labelCells : dragmouseup: no visible global function definition for
  ‘chull’
labelCells : dragmouseup: no visible global function definition for
  ‘grconvertX’
labelCells : dragmouseup: no visible global function definition for
  ‘grconvertY’
labelCells: no visible global function definition for
  ‘setGraphicsEventHandlers’
labelCells: no visible global function definition for
  ‘getGraphicsEvent’
numberOfNeighbors: no visible global function definition for ‘dist’
plotCorrectedCN: no visible global function definition for ‘par’
plotCorrectedCN: no visible global function definition for ‘segments’
plotCorrectedCN: no visible global function definition for ‘title’
plotImage: no visible global function definition for ‘grey’
plotImage: no visible global function definition for ‘rgb’
processAperio: no visible global function definition for ‘write.table’
processAperio: no visible global function definition for ‘col2rgb’
segmentStructures: no visible global function definition for ‘predict’
Undefined global functions or variables:
  chull col2rgb colorRampPalette complete.cases cutree dist
  getGraphicsEvent grconvertX grconvertY grey hclust lines median
  optimize par pnorm points predict qnorm quantile read.table rgb sd
  segments setGraphicsEventHandlers title uniroot write.table
Consider adding
  importFrom("grDevices", "chull", "col2rgb", "colorRampPalette",
             "getGraphicsEvent", "grey", "rgb",
             "setGraphicsEventHandlers")
  importFrom("graphics", "grconvertX", "grconvertY", "lines", "par",
             "points", "segments", "title")
  importFrom("stats", "complete.cases", "cutree", "dist", "hclust",
             "median", "optimize", "pnorm", "predict", "qnorm",
             "quantile", "sd", "uniroot")
  importFrom("utils", "read.table", "write.table")
to your NAMESPACE file.
* checking Rd files ... OK
* checking Rd metadata ... OK
* checking Rd cross-references ... OK
* checking for missing documentation entries ... OK
* checking for code/documentation mismatches ... OK
* checking Rd \usage sections ... OK
* checking Rd contents ... OK
* checking for unstated dependencies in examples ... OK
* checking files in ‘vignettes’ ... OK
* checking examples ... OK
* checking for unstated dependencies in vignettes ... OK
* checking package vignettes in ‘inst/doc’ ... OK
* checking running R code from vignettes ...
  ‘CRImage.Rnw’... OK
 OK
* checking re-building of vignette outputs ... OK
* checking PDF version of manual ... OK
* DONE

Status: 3 NOTEs
See
  ‘/home/biocbuild/bbs-3.17-bioc/meat/CRImage.Rcheck/00check.log’
for details.



Installation output

CRImage.Rcheck/00install.out

##############################################################################
##############################################################################
###
### Running command:
###
###   /home/biocbuild/bbs-3.17-bioc/R/bin/R CMD INSTALL CRImage
###
##############################################################################
##############################################################################


* installing to library ‘/home/biocbuild/bbs-3.17-bioc/R/library’
* installing *source* package ‘CRImage’ ...
** using staged installation
** R
** inst
** byte-compile and prepare package for lazy loading
** help
*** installing help indices
** building package indices
** installing vignettes
** testing if installed package can be loaded from temporary location
** testing if installed package can be loaded from final location
** testing if installed package keeps a record of temporary installation path
* DONE (CRImage)

Tests output


Example timings

CRImage.Rcheck/CRImage-Ex.timings

nameusersystemelapsed
CRImage-package0.1400.0110.154
SauvolaThreshold0.2230.0110.235
calculateCellularity2.3140.0842.399
calculateMeanStdTarget0.8010.0970.896
calculateOtsu0.0380.0000.038
classifyCells1.8900.0121.902
colorCorrection0.8420.0240.866
convertHSVToRGB0.3270.0160.343
convertLABToRGB0.1190.0160.135
convertRGBToHSV2.1990.0522.251
convertRGBToLAB0.3160.0160.332
correctCopyNumber0.3760.0320.408
createBinaryImage0.7780.0040.782
createClassifier0.1140.0000.114
labelCells000
plotCorrectedCN0.0890.0040.093
processAperio0.0090.0030.014
segmentImage000