Back to Multiple platform build/check report for BioC 3.17: simplified long |
|
This page was generated on 2023-02-07 11:05:07 -0500 (Tue, 07 Feb 2023).
Hostname | OS | Arch (*) | R version | Installed pkgs |
---|---|---|---|---|
nebbiolo1 | Linux (Ubuntu 22.04.1 LTS) | x86_64 | R Under development (unstable) (2023-01-10 r83596) -- "Unsuffered Consequences" | 4483 |
palomino3 | Windows Server 2022 Datacenter | x64 | R Under development (unstable) (2023-01-10 r83596 ucrt) -- "Unsuffered Consequences" | 4249 |
merida1 | macOS 10.14.6 Mojave | x86_64 | R Under development (unstable) (2023-01-10 r83596) -- "Unsuffered Consequences" | 4272 |
Click on any hostname to see more info about the system (e.g. compilers) (*) as reported by 'uname -p', except on Windows and Mac OS X |
To the developers/maintainers of the ChAMP package: - Please allow up to 24 hours (and sometimes 48 hours) for your latest push to git@git.bioconductor.org:packages/ChAMP.git to reflect on this report. See How and When does the builder pull? When will my changes propagate? for more information. - Make sure to use the following settings in order to reproduce any error or warning you see on this page. |
Package 297/2164 | Hostname | OS / Arch | INSTALL | BUILD | CHECK | BUILD BIN | ||||||||
ChAMP 2.29.0 (landing page) Yuan Tian
| nebbiolo1 | Linux (Ubuntu 22.04.1 LTS) / x86_64 | OK | OK | WARNINGS | ![]() | ||||||||
palomino3 | Windows Server 2022 Datacenter / x64 | OK | OK | WARNINGS | OK | ![]() | ||||||||
merida1 | macOS 10.14.6 Mojave / x86_64 | OK | OK | WARNINGS | OK | ![]() | ||||||||
Package: ChAMP |
Version: 2.29.0 |
Command: /home/biocbuild/bbs-3.17-bioc/R/bin/R CMD INSTALL ChAMP |
StartedAt: 2023-02-06 15:47:25 -0500 (Mon, 06 Feb 2023) |
EndedAt: 2023-02-06 15:48:25 -0500 (Mon, 06 Feb 2023) |
EllapsedTime: 60.2 seconds |
RetCode: 0 |
Status: OK |
############################################################################## ############################################################################## ### ### Running command: ### ### /home/biocbuild/bbs-3.17-bioc/R/bin/R CMD INSTALL ChAMP ### ############################################################################## ############################################################################## * installing to library ‘/home/biocbuild/bbs-3.17-bioc/R/library’ * installing *source* package ‘ChAMP’ ... ** using staged installation ** R ** inst ** byte-compile and prepare package for lazy loading No methods found in package 'RSQLite' for request: 'dbListFields' when loading 'lumi' Warning: replacing previous import 'plyr::mutate' by 'plotly::mutate' when loading 'ChAMP' Warning: replacing previous import 'plyr::rename' by 'plotly::rename' when loading 'ChAMP' Warning: replacing previous import 'plyr::arrange' by 'plotly::arrange' when loading 'ChAMP' Warning: replacing previous import 'plyr::summarise' by 'plotly::summarise' when loading 'ChAMP' Warning: replacing previous import 'plotly::subplot' by 'Hmisc::subplot' when loading 'ChAMP' Warning: replacing previous import 'plyr::summarize' by 'Hmisc::summarize' when loading 'ChAMP' Warning: replacing previous import 'plyr::is.discrete' by 'Hmisc::is.discrete' when loading 'ChAMP' Warning: replacing previous import 'GenomicRanges::sort' by 'globaltest::sort' when loading 'ChAMP' Warning: replacing previous import 'plotly::last_plot' by 'ggplot2::last_plot' when loading 'ChAMP' Warning: replacing previous import 'globaltest::model.matrix' by 'stats::model.matrix' when loading 'ChAMP' Warning: replacing previous import 'globaltest::p.adjust' by 'stats::p.adjust' when loading 'ChAMP' Note: possible error in 'dmrcate(myannotation, ': unused argument (mc.cores = cores) ** help *** installing help indices ** building package indices ** installing vignettes ** testing if installed package can be loaded from temporary location No methods found in package 'RSQLite' for request: 'dbListFields' when loading 'lumi' Warning: replacing previous import 'plyr::mutate' by 'plotly::mutate' when loading 'ChAMP' Warning: replacing previous import 'plyr::rename' by 'plotly::rename' when loading 'ChAMP' Warning: replacing previous import 'plyr::arrange' by 'plotly::arrange' when loading 'ChAMP' Warning: replacing previous import 'plyr::summarise' by 'plotly::summarise' when loading 'ChAMP' Warning: replacing previous import 'plotly::subplot' by 'Hmisc::subplot' when loading 'ChAMP' Warning: replacing previous import 'plyr::summarize' by 'Hmisc::summarize' when loading 'ChAMP' Warning: replacing previous import 'plyr::is.discrete' by 'Hmisc::is.discrete' when loading 'ChAMP' Warning: replacing previous import 'GenomicRanges::sort' by 'globaltest::sort' when loading 'ChAMP' Warning: replacing previous import 'plotly::last_plot' by 'ggplot2::last_plot' when loading 'ChAMP' Warning: replacing previous import 'globaltest::model.matrix' by 'stats::model.matrix' when loading 'ChAMP' Warning: replacing previous import 'globaltest::p.adjust' by 'stats::p.adjust' when loading 'ChAMP' ** testing if installed package can be loaded from final location No methods found in package 'RSQLite' for request: 'dbListFields' when loading 'lumi' Warning: replacing previous import 'plyr::mutate' by 'plotly::mutate' when loading 'ChAMP' Warning: replacing previous import 'plyr::rename' by 'plotly::rename' when loading 'ChAMP' Warning: replacing previous import 'plyr::arrange' by 'plotly::arrange' when loading 'ChAMP' Warning: replacing previous import 'plyr::summarise' by 'plotly::summarise' when loading 'ChAMP' Warning: replacing previous import 'plotly::subplot' by 'Hmisc::subplot' when loading 'ChAMP' Warning: replacing previous import 'plyr::summarize' by 'Hmisc::summarize' when loading 'ChAMP' Warning: replacing previous import 'plyr::is.discrete' by 'Hmisc::is.discrete' when loading 'ChAMP' Warning: replacing previous import 'GenomicRanges::sort' by 'globaltest::sort' when loading 'ChAMP' Warning: replacing previous import 'plotly::last_plot' by 'ggplot2::last_plot' when loading 'ChAMP' Warning: replacing previous import 'globaltest::model.matrix' by 'stats::model.matrix' when loading 'ChAMP' Warning: replacing previous import 'globaltest::p.adjust' by 'stats::p.adjust' when loading 'ChAMP' ** testing if installed package keeps a record of temporary installation path * DONE (ChAMP)