Back to Multiple platform build/check report for BioC 3.17:   simplified   long
[A]BCDEFGHIJKLMNOPQRSTUVWXYZ

This page was generated on 2023-02-04 11:05:19 -0500 (Sat, 04 Feb 2023).

HostnameOSArch (*)R versionInstalled pkgs
nebbiolo1Linux (Ubuntu 22.04.1 LTS)x86_64R Under development (unstable) (2023-01-10 r83596) -- "Unsuffered Consequences" 4483
palomino3Windows Server 2022 Datacenterx64R Under development (unstable) (2023-01-10 r83596 ucrt) -- "Unsuffered Consequences" 4249
merida1macOS 10.14.6 Mojavex86_64R Under development (unstable) (2023-01-10 r83596) -- "Unsuffered Consequences" 4272
Click on any hostname to see more info about the system (e.g. compilers)      (*) as reported by 'uname -p', except on Windows and Mac OS X

INSTALL results for ADaCGH2 on palomino3


To the developers/maintainers of the ADaCGH2 package:
- Please allow up to 24 hours (and sometimes 48 hours) for your latest push to git@git.bioconductor.org:packages/ADaCGH2.git to
reflect on this report. See How and When does the builder pull? When will my changes propagate? for more information.
- Make sure to use the following settings in order to reproduce any error or warning you see on this page.

raw results

Package 14/2164HostnameOS / ArchINSTALLBUILDCHECKBUILD BIN
ADaCGH2 2.39.0  (landing page)
Ramon Diaz-Uriarte
Snapshot Date: 2023-02-03 14:00:22 -0500 (Fri, 03 Feb 2023)
git_url: https://git.bioconductor.org/packages/ADaCGH2
git_branch: master
git_last_commit: bedb582
git_last_commit_date: 2022-11-01 11:05:24 -0500 (Tue, 01 Nov 2022)
nebbiolo1Linux (Ubuntu 22.04.1 LTS) / x86_64  OK    OK    OK  UNNEEDED, same version is already published
palomino3Windows Server 2022 Datacenter / x64  OK    OK    OK    OK  UNNEEDED, same version is already published
merida1macOS 10.14.6 Mojave / x86_64  OK    OK    OK    OK  UNNEEDED, same version is already published

Summary

Package: ADaCGH2
Version: 2.39.0
Command: F:\biocbuild\bbs-3.17-bioc\R\bin\R.exe CMD INSTALL ADaCGH2
StartedAt: 2023-02-03 16:30:09 -0500 (Fri, 03 Feb 2023)
EndedAt: 2023-02-03 16:30:48 -0500 (Fri, 03 Feb 2023)
EllapsedTime: 39.3 seconds
RetCode: 0
Status:   OK  

Command output

##############################################################################
##############################################################################
###
### Running command:
###
###   F:\biocbuild\bbs-3.17-bioc\R\bin\R.exe CMD INSTALL ADaCGH2
###
##############################################################################
##############################################################################


* installing to library 'F:/biocbuild/bbs-3.17-bioc/R/library'
* installing *source* package 'ADaCGH2' ...
** using staged installation
** libs
using C compiler: 'gcc.exe (GCC) 12.2.0'
gcc  -I"F:/biocbuild/bbs-3.17-bioc/R/include" -DNDEBUG     -I"C:/rtools43/x86_64-w64-mingw32.static.posix/include"     -O2 -Wall  -mfpmath=sse -msse2 -mstackrealign  -c init.c -o init.o
gcc  -I"F:/biocbuild/bbs-3.17-bioc/R/include" -DNDEBUG     -I"C:/rtools43/x86_64-w64-mingw32.static.posix/include"     -O2 -Wall  -mfpmath=sse -msse2 -mstackrealign  -c r_haarseg.c -o r_haarseg.o
r_haarseg.c: In function 'ad_HaarConv':
r_haarseg.c:65:12: warning: unused variable 'totalNorm' [-Wunused-variable]
   65 |     double totalNorm;
      |            ^~~~~~~~~
r_haarseg.c: In function 'ad_FindLocalPeaks':
r_haarseg.c:152:43: warning: "/*" within comment [-Wcomment]
  152 |                                          }/* for j */
      |                                            
r_haarseg.c:176:43: warning: "/*" within comment [-Wcomment]
  176 |                                          }/* for j */
      |                                            
r_haarseg.c:128:16: warning: unused variable 'j' [-Wunused-variable]
  128 |          int k,j;
      |                ^
r_haarseg.c: In function 'ad_HaarConv':
r_haarseg.c:97:27: warning: 'highNonNormed' may be used uninitialized [-Wmaybe-uninitialized]
   97 |             highNonNormed += signal[highEnd]*weight[highEnd] - signal[k-1]*weight[k-1];
      |             ~~~~~~~~~~~~~~^~~~~~~~~~~~~~~~~~~~~~~~~~~~~~~~~~~~~~~~~~~~~~~~~~~~~~~~~~~~
r_haarseg.c:64:12: note: 'highNonNormed' was declared here
   64 |     double highNonNormed;
      |            ^~~~~~~~~~~~~
r_haarseg.c:96:26: warning: 'lowNonNormed' may be used uninitialized [-Wmaybe-uninitialized]
   96 |             lowNonNormed += signal[lowEnd]*weight[lowEnd] - signal[k-1]*weight[k-1];
      |             ~~~~~~~~~~~~~^~~~~~~~~~~~~~~~~~~~~~~~~~~~~~~~~~~~~~~~~~~~~~~~~~~~~~~~~~
r_haarseg.c:63:12: note: 'lowNonNormed' was declared here
   63 |     double lowNonNormed;
      |            ^~~~~~~~~~~~
r_haarseg.c:98:26: warning: 'lowWeightSum' may be used uninitialized [-Wmaybe-uninitialized]
   98 |             lowWeightSum += weight[k-1] - weight[lowEnd];
      |             ~~~~~~~~~~~~~^~~~~~~~~~~~~~~~~~~~~~~~~~~~~~~
r_haarseg.c:59:12: note: 'lowWeightSum' was declared here
   59 |     double lowWeightSum;
      |            ^~~~~~~~~~~~
gcc -shared -s -static-libgcc -o ADaCGH2.dll tmp.def init.o r_haarseg.o -LC:/rtools43/x86_64-w64-mingw32.static.posix/lib/x64 -LC:/rtools43/x86_64-w64-mingw32.static.posix/lib -LF:/biocbuild/bbs-3.17-bioc/R/bin/x64 -lR
installing to F:/biocbuild/bbs-3.17-bioc/R/library/00LOCK-ADaCGH2/00new/ADaCGH2/libs/x64
** R
** data
** inst
** byte-compile and prepare package for lazy loading
** help
*** installing help indices
** building package indices
** installing vignettes
** testing if installed package can be loaded from temporary location
** testing if installed package can be loaded from final location
** testing if installed package keeps a record of temporary installation path
* DONE (ADaCGH2)