Back to Multiple platform build/check report for BioC 3.18:   simplified   long
AB[C]DEFGHIJKLMNOPQRSTUVWXYZ

This page was generated on 2024-02-22 11:34:56 -0500 (Thu, 22 Feb 2024).

HostnameOSArch (*)R versionInstalled pkgs
nebbiolo2Linux (Ubuntu 22.04.3 LTS)x86_644.3.2 Patched (2023-11-13 r85521) -- "Eye Holes" 4691
palomino4Windows Server 2022 Datacenterx644.3.2 (2023-10-31 ucrt) -- "Eye Holes" 4444
lconwaymacOS 12.7.1 Montereyx86_644.3.2 Patched (2023-11-01 r85457) -- "Eye Holes" 4465
Click on any hostname to see more info about the system (e.g. compilers)      (*) as reported by 'uname -p', except on Windows and Mac OS X

All results for package ComplexHeatmap


To the developers/maintainers of the ComplexHeatmap package:
- Allow up to 24 hours (and sometimes 48 hours) for your latest push to git@git.bioconductor.org:packages/ComplexHeatmap.git to reflect on this report. See Troubleshooting Build Report for more information.
- Use the following Renviron settings to reproduce errors and warnings.
- If 'R CMD check' started to fail recently on the Linux builder(s) over a missing dependency, add the missing dependency to 'Suggests:' in your DESCRIPTION file. See Renviron.bioc for more information.

raw results

Package 415/2266HostnameOS / ArchINSTALLBUILDCHECKBUILD BIN
ComplexHeatmap 2.18.0  (landing page)
Zuguang Gu
Snapshot Date: 2024-02-21 14:05:05 -0500 (Wed, 21 Feb 2024)
git_url: https://git.bioconductor.org/packages/ComplexHeatmap
git_branch: RELEASE_3_18
git_last_commit: d3c15b6
git_last_commit_date: 2023-10-24 10:42:36 -0500 (Tue, 24 Oct 2023)
nebbiolo2Linux (Ubuntu 22.04.3 LTS) / x86_64  OK    OK    OK  UNNEEDED, same version is already published
palomino4Windows Server 2022 Datacenter / x64  OK    OK    OK    OK  UNNEEDED, same version is already published
lconwaymacOS 12.7.1 Monterey / x86_64  OK    OK    OK    OK  UNNEEDED, same version is already published
kjohnson1macOS 13.6.1 Ventura / arm64see weekly results here

Results for Bioconductor software packages that depend directly on package ComplexHeatmap

QUICK STATSOS / ArchINSTALLBUILDCHECKBUILD BIN
nebbiolo2Linux (Ubuntu 22.04.3 LTS) / x86_64
0264
0264
10657
palomino4Windows Server 2022 Datacenter / x64
0362
0362
01754
0062
lconwaymacOS 12.7.1 Monterey / x86_64
0363
0462
00656
0062
Package 1/66HostnameOS / ArchINSTALLBUILDCHECKBUILD BIN
airpart 1.10.0  (landing page)
Wancen Mu
git_last_commit: 7666c3b
git_last_commit_date: 2023-10-24 11:31:27 -0500
nebbiolo2Linux (Ubuntu 22.04.3 LTS) / x86_64  OK    OK    OK  UNNEEDED, same version is already published
palomino4Windows Server 2022 Datacenter / x64  OK    OK    OK    OK  UNNEEDED, same version is already published
lconwaymacOS 12.7.1 Monterey / x86_64  OK    OK    OK    OK  UNNEEDED, same version is already published
kjohnson1macOS 13.6.1 Ventura / arm64see weekly results here
Package 2/66HostnameOS / ArchINSTALLBUILDCHECKBUILD BIN
AMARETTO 1.18.0  (landing page)
Olivier Gevaert
git_last_commit: 3b428a9
git_last_commit_date: 2023-10-24 11:12:01 -0500
nebbiolo2Linux (Ubuntu 22.04.3 LTS) / x86_64  OK    OK    WARNINGS  UNNEEDED, same version is already published
palomino4Windows Server 2022 Datacenter / x64  OK    OK    WARNINGS    OK  UNNEEDED, same version is already published
lconwaymacOS 12.7.1 Monterey / x86_64  OK    OK    WARNINGS    OK  UNNEEDED, same version is already published
kjohnson1macOS 13.6.1 Ventura / arm64see weekly results here
Package 3/66HostnameOS / ArchINSTALLBUILDCHECKBUILD BIN
ASURAT 1.6.0  (landing page)
Keita Iida
git_last_commit: b1581b2
git_last_commit_date: 2023-10-24 11:40:38 -0500
nebbiolo2Linux (Ubuntu 22.04.3 LTS) / x86_64  OK    OK    OK  UNNEEDED, same version is already published
palomino4Windows Server 2022 Datacenter / x64  OK    OK    OK    OK  UNNEEDED, same version is already published
lconwaymacOS 12.7.1 Monterey / x86_64  OK    OK    OK    OK  UNNEEDED, same version is already published
kjohnson1macOS 13.6.1 Ventura / arm64see weekly results here
Package 4/66HostnameOS / ArchINSTALLBUILDCHECKBUILD BIN
BindingSiteFinder 2.0.0  (landing page)
Mirko Brüggemann
git_last_commit: 8a2c174
git_last_commit_date: 2023-10-24 11:35:05 -0500
nebbiolo2Linux (Ubuntu 22.04.3 LTS) / x86_64  OK    OK    OK  UNNEEDED, same version is already published
palomino4Windows Server 2022 Datacenter / x64  OK    OK    OK    OK  UNNEEDED, same version is already published
lconwaymacOS 12.7.1 Monterey / x86_64  OK    OK    OK    OK  UNNEEDED, same version is already published
kjohnson1macOS 13.6.1 Ventura / arm64see weekly results here
Package 5/66HostnameOS / ArchINSTALLBUILDCHECKBUILD BIN
BiocOncoTK 1.22.0  (landing page)
VJ Carey
git_last_commit: b9864a0
git_last_commit_date: 2023-10-24 11:05:15 -0500
nebbiolo2Linux (Ubuntu 22.04.3 LTS) / x86_64  ERROR    ERROR  skipped
palomino4Windows Server 2022 Datacenter / x64  ERROR    ERROR  skippedskipped
lconwaymacOS 12.7.1 Monterey / x86_64  ERROR    ERROR  skippedskipped
kjohnson1macOS 13.6.1 Ventura / arm64see weekly results here
Package 6/66HostnameOS / ArchINSTALLBUILDCHECKBUILD BIN
BioNERO 1.10.1  (landing page)
Fabricio Almeida-Silva
git_last_commit: 1a3c1ca
git_last_commit_date: 2024-02-07 06:26:43 -0500
nebbiolo2Linux (Ubuntu 22.04.3 LTS) / x86_64  OK    OK    OK  UNNEEDED, same version is already published
palomino4Windows Server 2022 Datacenter / x64  OK    OK    OK    OK  UNNEEDED, same version is already published
lconwaymacOS 12.7.1 Monterey / x86_64  OK    OK    OK    OK  UNNEEDED, same version is already published
kjohnson1macOS 13.6.1 Ventura / arm64see weekly results here
Package 7/66HostnameOS / ArchINSTALLBUILDCHECKBUILD BIN
blacksheepr 1.16.0  (landing page)
RugglesLab
git_last_commit: 9445c8f
git_last_commit_date: 2023-10-24 11:17:10 -0500
nebbiolo2Linux (Ubuntu 22.04.3 LTS) / x86_64  OK    OK    OK  UNNEEDED, same version is already published
palomino4Windows Server 2022 Datacenter / x64  OK    OK    OK    OK  UNNEEDED, same version is already published
lconwaymacOS 12.7.1 Monterey / x86_64  OK    OK    OK    OK  UNNEEDED, same version is already published
kjohnson1macOS 13.6.1 Ventura / arm64see weekly results here
Package 8/66HostnameOS / ArchINSTALLBUILDCHECKBUILD BIN
BloodGen3Module 1.10.0  (landing page)
Darawan Rinchai
git_last_commit: 388b9c6
git_last_commit_date: 2023-10-24 11:33:38 -0500
nebbiolo2Linux (Ubuntu 22.04.3 LTS) / x86_64  OK    OK    WARNINGS  UNNEEDED, same version is already published
palomino4Windows Server 2022 Datacenter / x64  OK    OK    WARNINGS    OK  UNNEEDED, same version is already published
lconwaymacOS 12.7.1 Monterey / x86_64  OK    OK    WARNINGS    OK  UNNEEDED, same version is already published
kjohnson1macOS 13.6.1 Ventura / arm64see weekly results here
Package 9/66HostnameOS / ArchINSTALLBUILDCHECKBUILD BIN
CATALYST 1.26.0  (landing page)
Helena L. Crowell
git_last_commit: 98fffcb
git_last_commit_date: 2023-10-24 10:56:46 -0500
nebbiolo2Linux (Ubuntu 22.04.3 LTS) / x86_64  OK    OK    OK  UNNEEDED, same version is already published
palomino4Windows Server 2022 Datacenter / x64  OK    OK    OK    OK  UNNEEDED, same version is already published
lconwaymacOS 12.7.1 Monterey / x86_64  OK    OK    OK    OK  UNNEEDED, same version is already published
kjohnson1macOS 13.6.1 Ventura / arm64see weekly results here
Package 10/66HostnameOS / ArchINSTALLBUILDCHECKBUILD BIN
CCPlotR 1.0.0  (landing page)
Sarah Ennis
git_last_commit: 560c3de
git_last_commit_date: 2023-10-24 11:51:50 -0500
nebbiolo2Linux (Ubuntu 22.04.3 LTS) / x86_64  OK    OK    OK  UNNEEDED, same version is already published
palomino4Windows Server 2022 Datacenter / x64  OK    OK    OK    OK  UNNEEDED, same version is already published
lconwaymacOS 12.7.1 Monterey / x86_64  OK    OK    OK    OK  UNNEEDED, same version is already published
kjohnson1macOS 13.6.1 Ventura / arm64see weekly results here
Package 11/66HostnameOS / ArchINSTALLBUILDCHECKBUILD BIN
celda 1.18.1  (landing page)
Joshua Campbell
git_last_commit: 50211da1
git_last_commit_date: 2023-11-04 19:06:00 -0500
nebbiolo2Linux (Ubuntu 22.04.3 LTS) / x86_64  OK    OK    OK  UNNEEDED, same version is already published
palomino4Windows Server 2022 Datacenter / x64  OK    OK    OK    OK  UNNEEDED, same version is already published
lconwaymacOS 12.7.1 Monterey / x86_64  OK    OK    OK    OK  UNNEEDED, same version is already published
kjohnson1macOS 13.6.1 Ventura / arm64see weekly results here
Package 12/66HostnameOS / ArchINSTALLBUILDCHECKBUILD BIN
CeTF 1.14.0  (landing page)
Carlos Alberto Oliveira de Biagi Junior
git_last_commit: a3be90f
git_last_commit_date: 2023-10-24 11:18:38 -0500
nebbiolo2Linux (Ubuntu 22.04.3 LTS) / x86_64  OK    OK    OK  UNNEEDED, same version is already published
palomino4Windows Server 2022 Datacenter / x64  OK    OK    OK    OK  UNNEEDED, same version is already published
lconwaymacOS 12.7.1 Monterey / x86_64  OK    OK    OK    OK  UNNEEDED, same version is already published
kjohnson1macOS 13.6.1 Ventura / arm64see weekly results here
Package 13/66HostnameOS / ArchINSTALLBUILDCHECKBUILD BIN
COCOA 2.16.0  (landing page)
John Lawson
git_last_commit: d18f2bc
git_last_commit_date: 2023-10-24 11:09:00 -0500
nebbiolo2Linux (Ubuntu 22.04.3 LTS) / x86_64  OK    OK    OK  UNNEEDED, same version is already published
palomino4Windows Server 2022 Datacenter / x64  OK    OK    OK    OK  UNNEEDED, same version is already published
lconwaymacOS 12.7.1 Monterey / x86_64  OK    OK    OK    OK  UNNEEDED, same version is already published
kjohnson1macOS 13.6.1 Ventura / arm64see weekly results here
Package 14/66HostnameOS / ArchINSTALLBUILDCHECKBUILD BIN
cola 2.8.0  (landing page)
Zuguang Gu
git_last_commit: 3c447b4
git_last_commit_date: 2023-10-24 11:10:27 -0500
nebbiolo2Linux (Ubuntu 22.04.3 LTS) / x86_64  OK    OK    OK  UNNEEDED, same version is already published
palomino4Windows Server 2022 Datacenter / x64  OK    OK    OK    OK  UNNEEDED, same version is already published
lconwaymacOS 12.7.1 Monterey / x86_64  OK    OK    OK    OK  UNNEEDED, same version is already published
kjohnson1macOS 13.6.1 Ventura / arm64see weekly results here
Package 15/66HostnameOS / ArchINSTALLBUILDCHECKBUILD BIN
COTAN 2.2.3  (landing page)
Galfrè Silvia Giulia
git_last_commit: 34a23a9
git_last_commit_date: 2024-01-02 10:25:21 -0500
nebbiolo2Linux (Ubuntu 22.04.3 LTS) / x86_64  OK    OK    OK  UNNEEDED, same version is already published
palomino4Windows Server 2022 Datacenter / x64  OK    OK    OK    OK  UNNEEDED, same version is already published
lconwaymacOS 12.7.1 Monterey / x86_64  OK    OK    OK    OK  UNNEEDED, same version is already published
kjohnson1macOS 13.6.1 Ventura / arm64see weekly results here
Package 16/66HostnameOS / ArchINSTALLBUILDCHECKBUILD BIN
cytoKernel 1.8.0  (landing page)
Tusharkanti Ghosh
git_last_commit: 7991fb2
git_last_commit_date: 2023-10-24 11:36:32 -0500
nebbiolo2Linux (Ubuntu 22.04.3 LTS) / x86_64  OK    OK    OK  UNNEEDED, same version is already published
palomino4Windows Server 2022 Datacenter / x64  OK    OK    OK    OK  UNNEEDED, same version is already published
lconwaymacOS 12.7.1 Monterey / x86_64  OK    OK    OK    OK  UNNEEDED, same version is already published
kjohnson1macOS 13.6.1 Ventura / arm64see weekly results here
Package 17/66HostnameOS / ArchINSTALLBUILDCHECKBUILD BIN
DEGreport 1.38.5  (landing page)
Lorena Pantano
git_last_commit: 672d8e5
git_last_commit_date: 2023-12-06 13:39:58 -0500
nebbiolo2Linux (Ubuntu 22.04.3 LTS) / x86_64  OK    OK    OK  UNNEEDED, same version is already published
palomino4Windows Server 2022 Datacenter / x64  OK    OK    OK    OK  UNNEEDED, same version is already published
lconwaymacOS 12.7.1 Monterey / x86_64  OK    OK    OK    OK  UNNEEDED, same version is already published
kjohnson1macOS 13.6.1 Ventura / arm64see weekly results here
Package 18/66HostnameOS / ArchINSTALLBUILDCHECKBUILD BIN
DEP 1.24.0  (landing page)
Arne Smits
git_last_commit: 3eedbc9
git_last_commit_date: 2023-10-24 10:58:53 -0500
nebbiolo2Linux (Ubuntu 22.04.3 LTS) / x86_64  OK    OK    WARNINGS  UNNEEDED, same version is already published
palomino4Windows Server 2022 Datacenter / x64  OK    OK    WARNINGS    OK  UNNEEDED, same version is already published
lconwaymacOS 12.7.1 Monterey / x86_64  OK    OK    WARNINGS    OK  UNNEEDED, same version is already published
kjohnson1macOS 13.6.1 Ventura / arm64see weekly results here
Package 19/66HostnameOS / ArchINSTALLBUILDCHECKBUILD BIN
diffcyt 1.22.0  (landing page)
Lukas M. Weber
git_last_commit: 6ec9e43
git_last_commit_date: 2023-10-24 11:04:15 -0500
nebbiolo2Linux (Ubuntu 22.04.3 LTS) / x86_64  OK    OK    OK  UNNEEDED, same version is already published
palomino4Windows Server 2022 Datacenter / x64  OK    OK    OK    OK  UNNEEDED, same version is already published
lconwaymacOS 12.7.1 Monterey / x86_64  OK    OK    OK    OK  UNNEEDED, same version is already published
kjohnson1macOS 13.6.1 Ventura / arm64see weekly results here
Package 20/66HostnameOS / ArchINSTALLBUILDCHECKBUILD BIN
diffUTR 1.10.0  (landing page)
Pierre-Luc Germain
git_last_commit: 90e9a90
git_last_commit_date: 2023-10-24 11:33:18 -0500
nebbiolo2Linux (Ubuntu 22.04.3 LTS) / x86_64  OK    OK    OK  UNNEEDED, same version is already published
palomino4Windows Server 2022 Datacenter / x64  OK    OK    OK    OK  UNNEEDED, same version is already published
lconwaymacOS 12.7.1 Monterey / x86_64  OK    OK    OK    OK  UNNEEDED, same version is already published
kjohnson1macOS 13.6.1 Ventura / arm64see weekly results here
Package 21/66HostnameOS / ArchINSTALLBUILDCHECKBUILD BIN
ELMER 2.26.0  (landing page)
Tiago Chedraoui Silva
git_last_commit: ceacb6a
git_last_commit_date: 2023-10-24 10:43:48 -0500
nebbiolo2Linux (Ubuntu 22.04.3 LTS) / x86_64  OK    OK    OK  UNNEEDED, same version is already published
palomino4Windows Server 2022 Datacenter / x64  OK    OK    OK    OK  UNNEEDED, same version is already published
lconwaymacOS 12.7.1 Monterey / x86_64  OK    OK    OK    OK  UNNEEDED, same version is already published
kjohnson1macOS 13.6.1 Ventura / arm64see weekly results here
Package 22/66HostnameOS / ArchINSTALLBUILDCHECKBUILD BIN
EnrichedHeatmap 1.32.0  (landing page)
Zuguang Gu
git_last_commit: 42e8bf6
git_last_commit_date: 2023-10-24 10:45:26 -0500
nebbiolo2Linux (Ubuntu 22.04.3 LTS) / x86_64  OK    OK    OK  UNNEEDED, same version is already published
palomino4Windows Server 2022 Datacenter / x64  OK    OK    OK    OK  UNNEEDED, same version is already published
lconwaymacOS 12.7.1 Monterey / x86_64  OK    OK    OK    OK  UNNEEDED, same version is already published
kjohnson1macOS 13.6.1 Ventura / arm64see weekly results here
Package 23/66HostnameOS / ArchINSTALLBUILDCHECKBUILD BIN
fCCAC 1.28.0  (landing page)
Pedro Madrigal
git_last_commit: 36ffa71
git_last_commit_date: 2023-10-24 10:54:04 -0500
nebbiolo2Linux (Ubuntu 22.04.3 LTS) / x86_64  OK    OK    OK  UNNEEDED, same version is already published
palomino4Windows Server 2022 Datacenter / x64  OK    OK    OK    OK  UNNEEDED, same version is already published
lconwaymacOS 12.7.1 Monterey / x86_64  OK    OK    OK    OK  UNNEEDED, same version is already published
kjohnson1macOS 13.6.1 Ventura / arm64see weekly results here
Package 24/66HostnameOS / ArchINSTALLBUILDCHECKBUILD BIN
FLAMES 1.8.0  (landing page)
Oliver Voogd
git_last_commit: 8b72098
git_last_commit_date: 2023-10-24 11:34:56 -0500
nebbiolo2Linux (Ubuntu 22.04.3 LTS) / x86_64  OK    OK    OK  UNNEEDED, same version is already published
palomino4Windows Server 2022 Datacenter / x64... NOT SUPPORTED ...
lconwaymacOS 12.7.1 Monterey / x86_64  OK    OK    OK    OK  UNNEEDED, same version is already published
kjohnson1macOS 13.6.1 Ventura / arm64see weekly results here
Package 25/66HostnameOS / ArchINSTALLBUILDCHECKBUILD BIN
gCrisprTools 2.8.0  (landing page)
Russell Bainer
git_last_commit: b31fbe6
git_last_commit_date: 2023-10-24 10:52:32 -0500
nebbiolo2Linux (Ubuntu 22.04.3 LTS) / x86_64  OK    OK    OK  UNNEEDED, same version is already published
palomino4Windows Server 2022 Datacenter / x64  OK    OK    OK    OK  UNNEEDED, same version is already published
lconwaymacOS 12.7.1 Monterey / x86_64  OK    OK    OK    OK  UNNEEDED, same version is already published
kjohnson1macOS 13.6.1 Ventura / arm64see weekly results here
Package 26/66HostnameOS / ArchINSTALLBUILDCHECKBUILD BIN
GeneTonic 2.6.0  (landing page)
Federico Marini
git_last_commit: c3f7778
git_last_commit_date: 2023-10-24 11:19:17 -0500
nebbiolo2Linux (Ubuntu 22.04.3 LTS) / x86_64  OK    OK    OK  UNNEEDED, same version is already published
palomino4Windows Server 2022 Datacenter / x64  OK    OK    OK    OK  UNNEEDED, same version is already published
lconwaymacOS 12.7.1 Monterey / x86_64  OK    OK    OK    OK  UNNEEDED, same version is already published
kjohnson1macOS 13.6.1 Ventura / arm64see weekly results here
Package 27/66HostnameOS / ArchINSTALLBUILDCHECKBUILD BIN
GenomicPlot 1.0.5  (landing page)
Shuye Pu
git_last_commit: 825d718
git_last_commit_date: 2024-02-20 21:31:33 -0500
nebbiolo2Linux (Ubuntu 22.04.3 LTS) / x86_64  OK    OK    OK  YES
palomino4Windows Server 2022 Datacenter / x64  OK    OK    OK    OK  YES
lconwaymacOS 12.7.1 Monterey / x86_64  OK    OK    OK    OK  YES
kjohnson1macOS 13.6.1 Ventura / arm64see weekly results here
Package 28/66HostnameOS / ArchINSTALLBUILDCHECKBUILD BIN
GenomicSuperSignature 1.10.0  (landing page)
Sehyun Oh
git_last_commit: 4f4ff12
git_last_commit_date: 2023-10-24 11:34:04 -0500
nebbiolo2Linux (Ubuntu 22.04.3 LTS) / x86_64  OK    OK    WARNINGS  UNNEEDED, same version is already published
palomino4Windows Server 2022 Datacenter / x64  OK    OK    WARNINGS    OK  UNNEEDED, same version is already published
lconwaymacOS 12.7.1 Monterey / x86_64  OK    OK    WARNINGS    OK  UNNEEDED, same version is already published
kjohnson1macOS 13.6.1 Ventura / arm64see weekly results here
Package 29/66HostnameOS / ArchINSTALLBUILDCHECKBUILD BIN
gmoviz 1.14.0  (landing page)
Kathleen Zeglinski
git_last_commit: 1bc517f
git_last_commit_date: 2023-10-24 11:20:31 -0500
nebbiolo2Linux (Ubuntu 22.04.3 LTS) / x86_64  OK    OK    OK  UNNEEDED, same version is already published
palomino4Windows Server 2022 Datacenter / x64  OK    OK    OK    OK  UNNEEDED, same version is already published
lconwaymacOS 12.7.1 Monterey / x86_64  OK    OK    OK    OK  UNNEEDED, same version is already published
kjohnson1macOS 13.6.1 Ventura / arm64see weekly results here
Package 30/66HostnameOS / ArchINSTALLBUILDCHECKBUILD BIN
GRaNIE 1.6.1  (landing page)
Christian Arnold
git_last_commit: 35f2aa9
git_last_commit_date: 2023-10-26 11:47:33 -0500
nebbiolo2Linux (Ubuntu 22.04.3 LTS) / x86_64  OK    OK    OK  UNNEEDED, same version is already published
palomino4Windows Server 2022 Datacenter / x64  OK    OK    WARNINGS    OK  UNNEEDED, same version is already published
lconwaymacOS 12.7.1 Monterey / x86_64  OK    OK    OK    OK  UNNEEDED, same version is already published
kjohnson1macOS 13.6.1 Ventura / arm64see weekly results here
Package 31/66HostnameOS / ArchINSTALLBUILDCHECKBUILD BIN
hermes 1.6.0  (landing page)
Daniel Sabanés Bové
git_last_commit: 068e897
git_last_commit_date: 2023-10-24 11:38:41 -0500
nebbiolo2Linux (Ubuntu 22.04.3 LTS) / x86_64  OK    OK    OK  UNNEEDED, same version is already published
palomino4Windows Server 2022 Datacenter / x64  OK    OK    OK    OK  UNNEEDED, same version is already published
lconwaymacOS 12.7.1 Monterey / x86_64  OK    OK    OK    OK  UNNEEDED, same version is already published
kjohnson1macOS 13.6.1 Ventura / arm64see weekly results here
Package 32/66HostnameOS / ArchINSTALLBUILDCHECKBUILD BIN
hoodscanR 1.0.0  (landing page)
Ning Liu
git_last_commit: 8d26dd1
git_last_commit_date: 2023-10-24 11:51:09 -0500
nebbiolo2Linux (Ubuntu 22.04.3 LTS) / x86_64  OK    OK    OK  UNNEEDED, same version is already published
palomino4Windows Server 2022 Datacenter / x64  OK    OK    OK    OK  UNNEEDED, same version is already published
lconwaymacOS 12.7.1 Monterey / x86_64  OK    OK    OK    OK  UNNEEDED, same version is already published
kjohnson1macOS 13.6.1 Ventura / arm64see weekly results here
Package 33/66HostnameOS / ArchINSTALLBUILDCHECKBUILD BIN
InteractiveComplexHeatmap 1.10.0  (landing page)
Zuguang Gu
git_last_commit: 020c73a
git_last_commit_date: 2023-10-24 11:29:13 -0500
nebbiolo2Linux (Ubuntu 22.04.3 LTS) / x86_64  OK    OK    OK  UNNEEDED, same version is already published
palomino4Windows Server 2022 Datacenter / x64  OK    OK    OK    OK  UNNEEDED, same version is already published
lconwaymacOS 12.7.1 Monterey / x86_64  OK    OK    OK    OK  UNNEEDED, same version is already published
kjohnson1macOS 13.6.1 Ventura / arm64see weekly results here
Package 34/66HostnameOS / ArchINSTALLBUILDCHECKBUILD BIN
InterCellar 2.8.0  (landing page)
Marta Interlandi
git_last_commit: f47528a
git_last_commit_date: 2023-10-24 11:30:50 -0500
nebbiolo2Linux (Ubuntu 22.04.3 LTS) / x86_64  OK    OK    OK  UNNEEDED, same version is already published
palomino4Windows Server 2022 Datacenter / x64  OK    OK    OK    OK  UNNEEDED, same version is already published
lconwaymacOS 12.7.1 Monterey / x86_64  OK    OK    OK    OK  UNNEEDED, same version is already published
kjohnson1macOS 13.6.1 Ventura / arm64see weekly results here
Package 35/66HostnameOS / ArchINSTALLBUILDCHECKBUILD BIN
iSEE 2.14.0  (landing page)
Kevin Rue-Albrecht
git_last_commit: 3e72e8d
git_last_commit_date: 2023-10-24 11:03:32 -0500
nebbiolo2Linux (Ubuntu 22.04.3 LTS) / x86_64  OK    OK    OK  UNNEEDED, same version is already published
palomino4Windows Server 2022 Datacenter / x64  OK    OK    OK    OK  UNNEEDED, same version is already published
lconwaymacOS 12.7.1 Monterey / x86_64  OK    OK    OK    OK  UNNEEDED, same version is already published
kjohnson1macOS 13.6.1 Ventura / arm64see weekly results here
Package 36/66HostnameOS / ArchINSTALLBUILDCHECKBUILD BIN
LineagePulse 1.22.0  (landing page)
David S Fischer
git_last_commit: ca1332d
git_last_commit_date: 2023-10-24 11:01:44 -0500
nebbiolo2Linux (Ubuntu 22.04.3 LTS) / x86_64  ERROR    ERROR  skipped
palomino4Windows Server 2022 Datacenter / x64  ERROR    ERROR  skippedskipped
lconwaymacOS 12.7.1 Monterey / x86_64  ERROR    ERROR  skippedskipped
kjohnson1macOS 13.6.1 Ventura / arm64see weekly results here
Package 37/66HostnameOS / ArchINSTALLBUILDCHECKBUILD BIN
MatrixQCvis 1.10.0  (landing page)
Thomas Naake
git_last_commit: 9124112
git_last_commit_date: 2023-10-24 11:33:30 -0500
nebbiolo2Linux (Ubuntu 22.04.3 LTS) / x86_64  OK    OK    OK  UNNEEDED, same version is already published
palomino4Windows Server 2022 Datacenter / x64  OK    OK    OK    OK  UNNEEDED, same version is already published
lconwaymacOS 12.7.1 Monterey / x86_64  OK    OK    OK    OK  UNNEEDED, same version is already published
kjohnson1macOS 13.6.1 Ventura / arm64see weekly results here
Package 38/66HostnameOS / ArchINSTALLBUILDCHECKBUILD BIN
MesKit 1.12.0  (landing page)
Mengni Liu
git_last_commit: cc0213f
git_last_commit_date: 2023-10-24 11:24:07 -0500
nebbiolo2Linux (Ubuntu 22.04.3 LTS) / x86_64  OK    OK    WARNINGS  UNNEEDED, same version is already published
palomino4Windows Server 2022 Datacenter / x64  OK    OK    WARNINGS    OK  UNNEEDED, same version is already published
lconwaymacOS 12.7.1 Monterey / x86_64  OK    OK    WARNINGS    OK  UNNEEDED, same version is already published
kjohnson1macOS 13.6.1 Ventura / arm64see weekly results here
Package 39/66HostnameOS / ArchINSTALLBUILDCHECKBUILD BIN
microbiomeMarker 1.8.0  (landing page)
Yang Cao
git_last_commit: 577f9da
git_last_commit_date: 2023-11-04 04:39:30 -0500
nebbiolo2Linux (Ubuntu 22.04.3 LTS) / x86_64  OK    OK    OK  UNNEEDED, same version is already published
palomino4Windows Server 2022 Datacenter / x64  OK    OK    OK    OK  UNNEEDED, same version is already published
lconwaymacOS 12.7.1 Monterey / x86_64  OK    OK    OK    OK  UNNEEDED, same version is already published
kjohnson1macOS 13.6.1 Ventura / arm64see weekly results here
Package 40/66HostnameOS / ArchINSTALLBUILDCHECKBUILD BIN
MOMA 1.14.0  (landing page)
Sunny Jones
git_last_commit: 4454582
git_last_commit_date: 2023-10-24 11:21:52 -0500
nebbiolo2Linux (Ubuntu 22.04.3 LTS) / x86_64  OK    OK    OK  UNNEEDED, same version is already published
palomino4Windows Server 2022 Datacenter / x64  OK    OK    OK    OK  UNNEEDED, same version is already published
lconwaymacOS 12.7.1 Monterey / x86_64  OK    OK    OK    OK  UNNEEDED, same version is already published
kjohnson1macOS 13.6.1 Ventura / arm64see weekly results here
Package 41/66HostnameOS / ArchINSTALLBUILDCHECKBUILD BIN
monaLisa 1.8.0  (landing page)
Michael Stadler
git_last_commit: 81a9ca4
git_last_commit_date: 2023-10-24 11:36:43 -0500
nebbiolo2Linux (Ubuntu 22.04.3 LTS) / x86_64  OK    OK    OK  UNNEEDED, same version is already published
palomino4Windows Server 2022 Datacenter / x64  OK    OK    OK    OK  UNNEEDED, same version is already published
lconwaymacOS 12.7.1 Monterey / x86_64  OK    OK    OK    OK  UNNEEDED, same version is already published
kjohnson1macOS 13.6.1 Ventura / arm64see weekly results here
Package 42/66HostnameOS / ArchINSTALLBUILDCHECKBUILD BIN
Moonlight2R 1.0.0  (landing page)
Matteo Tiberti
git_last_commit: f5bfcb9
git_last_commit_date: 2023-10-24 11:51:18 -0500
nebbiolo2Linux (Ubuntu 22.04.3 LTS) / x86_64  OK    OK    OK  UNNEEDED, same version is already published
palomino4Windows Server 2022 Datacenter / x64  OK    OK    ERROR    OK  
lconwaymacOS 12.7.1 Monterey / x86_64  OK    OK    OK    OK  UNNEEDED, same version is already published
kjohnson1macOS 13.6.1 Ventura / arm64see weekly results here
Package 43/66HostnameOS / ArchINSTALLBUILDCHECKBUILD BIN
MultiRNAflow 1.0.0  (landing page)
Rodolphe Loubaton
git_last_commit: c8ce17d
git_last_commit_date: 2023-10-24 11:50:52 -0500
nebbiolo2Linux (Ubuntu 22.04.3 LTS) / x86_64  OK    OK    OK  UNNEEDED, same version is already published
palomino4Windows Server 2022 Datacenter / x64  OK    OK    OK    OK  UNNEEDED, same version is already published
lconwaymacOS 12.7.1 Monterey / x86_64  OK    OK    OK    OK  UNNEEDED, same version is already published
kjohnson1macOS 13.6.1 Ventura / arm64see weekly results here
Package 44/66HostnameOS / ArchINSTALLBUILDCHECKBUILD BIN
muscat 1.16.0  (landing page)
Helena L. Crowell
git_last_commit: 448b1e8
git_last_commit_date: 2023-10-24 11:16:01 -0500
nebbiolo2Linux (Ubuntu 22.04.3 LTS) / x86_64  OK    OK    OK  UNNEEDED, same version is already published
palomino4Windows Server 2022 Datacenter / x64  OK    OK    OK    OK  UNNEEDED, same version is already published
lconwaymacOS 12.7.1 Monterey / x86_64  OK    ERROR  skippedskipped
kjohnson1macOS 13.6.1 Ventura / arm64see weekly results here
Package 45/66HostnameOS / ArchINSTALLBUILDCHECKBUILD BIN
musicatk 1.12.0  (landing page)
Aaron Chevalier
git_last_commit: 69a345e
git_last_commit_date: 2023-10-24 11:27:12 -0500
nebbiolo2Linux (Ubuntu 22.04.3 LTS) / x86_64  OK    OK    OK  UNNEEDED, same version is already published
palomino4Windows Server 2022 Datacenter / x64  OK    OK    OK    OK  UNNEEDED, same version is already published
lconwaymacOS 12.7.1 Monterey / x86_64  OK    OK    OK    OK  UNNEEDED, same version is already published
kjohnson1macOS 13.6.1 Ventura / arm64see weekly results here
Package 46/66HostnameOS / ArchINSTALLBUILDCHECKBUILD BIN
MWASTools 1.26.0  (landing page)
Andrea Rodriguez-Martinez , Rafael Ayala
git_last_commit: 14a0245
git_last_commit_date: 2023-10-24 10:54:16 -0500
nebbiolo2Linux (Ubuntu 22.04.3 LTS) / x86_64  OK    OK    OK  UNNEEDED, same version is already published
palomino4Windows Server 2022 Datacenter / x64  OK    OK    OK    OK  UNNEEDED, same version is already published
lconwaymacOS 12.7.1 Monterey / x86_64  OK    OK    OK    OK  UNNEEDED, same version is already published
kjohnson1macOS 13.6.1 Ventura / arm64see weekly results here
Package 47/66HostnameOS / ArchINSTALLBUILDCHECKBUILD BIN
nipalsMCIA 1.0.0  (landing page)
Maximilian Mattessich
git_last_commit: 70dd4bf
git_last_commit_date: 2023-10-24 11:51:20 -0500
nebbiolo2Linux (Ubuntu 22.04.3 LTS) / x86_64  OK    OK    OK  UNNEEDED, same version is already published
palomino4Windows Server 2022 Datacenter / x64  OK    OK    OK    OK  UNNEEDED, same version is already published
lconwaymacOS 12.7.1 Monterey / x86_64  OK    OK    OK    OK  UNNEEDED, same version is already published
kjohnson1macOS 13.6.1 Ventura / arm64see weekly results here
Package 48/66HostnameOS / ArchINSTALLBUILDCHECKBUILD BIN
PathoStat 1.28.0  (landing page)
Solaiappan Manimaran
git_last_commit: e517c5e
git_last_commit_date: 2023-10-24 10:53:23 -0500
nebbiolo2Linux (Ubuntu 22.04.3 LTS) / x86_64  OK    OK    OK  UNNEEDED, same version is already published
palomino4Windows Server 2022 Datacenter / x64  OK    OK    OK    OK  UNNEEDED, same version is already published
lconwaymacOS 12.7.1 Monterey / x86_64  OK    OK    OK    OK  UNNEEDED, same version is already published
kjohnson1macOS 13.6.1 Ventura / arm64see weekly results here
Package 49/66HostnameOS / ArchINSTALLBUILDCHECKBUILD BIN
PeacoQC 1.12.0  (landing page)
Annelies Emmaneel
git_last_commit: 181350f
git_last_commit_date: 2023-10-24 11:23:07 -0500
nebbiolo2Linux (Ubuntu 22.04.3 LTS) / x86_64  OK    OK    OK  UNNEEDED, same version is already published
palomino4Windows Server 2022 Datacenter / x64  OK    OK    OK    OK  UNNEEDED, same version is already published
lconwaymacOS 12.7.1 Monterey / x86_64  OK    OK    OK    OK  UNNEEDED, same version is already published
kjohnson1macOS 13.6.1 Ventura / arm64see weekly results here
Package 50/66HostnameOS / ArchINSTALLBUILDCHECKBUILD BIN
pipeComp 1.12.0  (landing page)
Pierre-Luc Germain
git_last_commit: b567066
git_last_commit_date: 2023-10-24 11:23:19 -0500
nebbiolo2Linux (Ubuntu 22.04.3 LTS) / x86_64  OK    OK    OK  UNNEEDED, same version is already published
palomino4Windows Server 2022 Datacenter / x64  OK    OK    OK    OK  UNNEEDED, same version is already published
lconwaymacOS 12.7.1 Monterey / x86_64  OK    OK    OK    OK  UNNEEDED, same version is already published
kjohnson1macOS 13.6.1 Ventura / arm64see weekly results here
Package 51/66HostnameOS / ArchINSTALLBUILDCHECKBUILD BIN
POMA 1.12.0  (landing page)
Pol Castellano-Escuder
git_last_commit: 6e2f5bc
git_last_commit_date: 2024-02-10 21:44:51 -0500
nebbiolo2Linux (Ubuntu 22.04.3 LTS) / x86_64  OK    OK    OK  UNNEEDED, same version is already published
palomino4Windows Server 2022 Datacenter / x64  OK    OK    OK    OK  UNNEEDED, same version is already published
lconwaymacOS 12.7.1 Monterey / x86_64  OK    OK    OK    OK  UNNEEDED, same version is already published
kjohnson1macOS 13.6.1 Ventura / arm64see weekly results here
Package 52/66HostnameOS / ArchINSTALLBUILDCHECKBUILD BIN
profileplyr 1.18.0  (landing page)
Tom Carroll , Doug Barrows
git_last_commit: 5470b48
git_last_commit_date: 2023-10-24 11:12:50 -0500
nebbiolo2Linux (Ubuntu 22.04.3 LTS) / x86_64  OK    OK    OK  UNNEEDED, same version is already published
palomino4Windows Server 2022 Datacenter / x64  OK    OK    OK    OK  UNNEEDED, same version is already published
lconwaymacOS 12.7.1 Monterey / x86_64  OK    OK    OK    OK  UNNEEDED, same version is already published
kjohnson1macOS 13.6.1 Ventura / arm64see weekly results here
Package 53/66HostnameOS / ArchINSTALLBUILDCHECKBUILD BIN
recoup 1.30.0  (landing page)
Panagiotis Moulos
git_last_commit: 0d1e96b
git_last_commit_date: 2023-10-24 10:48:52 -0500
nebbiolo2Linux (Ubuntu 22.04.3 LTS) / x86_64  OK    OK    OK  UNNEEDED, same version is already published
palomino4Windows Server 2022 Datacenter / x64  OK    OK    OK    OK  UNNEEDED, same version is already published
lconwaymacOS 12.7.1 Monterey / x86_64  OK    OK    OK    OK  UNNEEDED, same version is already published
kjohnson1macOS 13.6.1 Ventura / arm64see weekly results here
Package 54/66HostnameOS / ArchINSTALLBUILDCHECKBUILD BIN
RLSeq 1.8.0  (landing page)
Henry Miller
git_last_commit: 299fafc
git_last_commit_date: 2023-10-24 11:38:24 -0500
nebbiolo2Linux (Ubuntu 22.04.3 LTS) / x86_64  OK    OK    OK  NO, package depends on 'RLHub' which is not available
palomino4Windows Server 2022 Datacenter / x64  ERROR    ERROR  skippedskipped
lconwaymacOS 12.7.1 Monterey / x86_64  ERROR    ERROR  skippedskipped
kjohnson1macOS 13.6.1 Ventura / arm64see weekly results here
Package 55/66HostnameOS / ArchINSTALLBUILDCHECKBUILD BIN
scRNAseqApp 1.2.2  (landing page)
Jianhong Ou
git_last_commit: b792691
git_last_commit_date: 2023-11-01 16:18:44 -0500
nebbiolo2Linux (Ubuntu 22.04.3 LTS) / x86_64  OK    OK    OK  UNNEEDED, same version is already published
palomino4Windows Server 2022 Datacenter / x64  OK    OK    OK    OK  UNNEEDED, same version is already published
lconwaymacOS 12.7.1 Monterey / x86_64  OK    OK    OK    OK  UNNEEDED, same version is already published
kjohnson1macOS 13.6.1 Ventura / arm64see weekly results here
Package 56/66HostnameOS / ArchINSTALLBUILDCHECKBUILD BIN
sechm 1.10.0  (landing page)
Pierre-Luc Germain
git_last_commit: 576eb76
git_last_commit_date: 2023-10-24 11:32:02 -0500
nebbiolo2Linux (Ubuntu 22.04.3 LTS) / x86_64  OK    OK    OK  UNNEEDED, same version is already published
palomino4Windows Server 2022 Datacenter / x64  OK    OK    OK    OK  UNNEEDED, same version is already published
lconwaymacOS 12.7.1 Monterey / x86_64  OK    OK    OK    OK  UNNEEDED, same version is already published
kjohnson1macOS 13.6.1 Ventura / arm64see weekly results here
Package 57/66HostnameOS / ArchINSTALLBUILDCHECKBUILD BIN
segmenter 1.8.0  (landing page)
Mahmoud Ahmed
git_last_commit: 92d1bc1
git_last_commit_date: 2023-10-24 11:34:34 -0500
nebbiolo2Linux (Ubuntu 22.04.3 LTS) / x86_64  OK    OK    OK  UNNEEDED, same version is already published
palomino4Windows Server 2022 Datacenter / x64  OK    OK    OK    OK  UNNEEDED, same version is already published
lconwaymacOS 12.7.1 Monterey / x86_64  OK    OK    OK    OK  UNNEEDED, same version is already published
kjohnson1macOS 13.6.1 Ventura / arm64see weekly results here
Package 58/66HostnameOS / ArchINSTALLBUILDCHECKBUILD BIN
signifinder 1.4.0  (landing page)
Stefania Pirrotta
git_last_commit: b8e4f6d
git_last_commit_date: 2023-10-24 11:44:57 -0500
nebbiolo2Linux (Ubuntu 22.04.3 LTS) / x86_64  OK    OK    OK  UNNEEDED, same version is already published
palomino4Windows Server 2022 Datacenter / x64  OK    OK    OK    OK  UNNEEDED, same version is already published
lconwaymacOS 12.7.1 Monterey / x86_64  OK    OK    OK    OK  UNNEEDED, same version is already published
kjohnson1macOS 13.6.1 Ventura / arm64see weekly results here
Package 59/66HostnameOS / ArchINSTALLBUILDCHECKBUILD BIN
simona 1.0.10  (landing page)
Zuguang Gu
git_last_commit: 536fbce
git_last_commit_date: 2024-02-05 16:40:44 -0500
nebbiolo2Linux (Ubuntu 22.04.3 LTS) / x86_64  OK    OK    OK  UNNEEDED, same version is already published
palomino4Windows Server 2022 Datacenter / x64  OK    OK    OK    OK  UNNEEDED, same version is already published
lconwaymacOS 12.7.1 Monterey / x86_64  OK    OK    OK    OK  UNNEEDED, same version is already published
kjohnson1macOS 13.6.1 Ventura / arm64see weekly results here
Package 60/66HostnameOS / ArchINSTALLBUILDCHECKBUILD BIN
simplifyEnrichment 1.12.0  (landing page)
Zuguang Gu
git_last_commit: 32b08eb
git_last_commit_date: 2023-10-24 11:22:49 -0500
nebbiolo2Linux (Ubuntu 22.04.3 LTS) / x86_64  OK    OK    OK  UNNEEDED, same version is already published
palomino4Windows Server 2022 Datacenter / x64  OK    OK    OK    OK  UNNEEDED, same version is already published
lconwaymacOS 12.7.1 Monterey / x86_64  OK    OK    OK    OK  UNNEEDED, same version is already published
kjohnson1macOS 13.6.1 Ventura / arm64see weekly results here
Package 61/66HostnameOS / ArchINSTALLBUILDCHECKBUILD BIN
singleCellTK 2.12.2  (landing page)
Joshua David Campbell
git_last_commit: 14c92130
git_last_commit_date: 2024-02-05 14:45:10 -0500
nebbiolo2Linux (Ubuntu 22.04.3 LTS) / x86_64  OK    OK    TIMEOUT  
palomino4Windows Server 2022 Datacenter / x64  OK    OK    OK    OK  UNNEEDED, same version is already published
lconwaymacOS 12.7.1 Monterey / x86_64  OK    OK    OK    OK  UNNEEDED, same version is already published
kjohnson1macOS 13.6.1 Ventura / arm64see weekly results here
Package 62/66HostnameOS / ArchINSTALLBUILDCHECKBUILD BIN
sparrow 1.8.0  (landing page)
Steve Lianoglou
git_last_commit: 115a98f
git_last_commit_date: 2023-10-24 11:36:55 -0500
nebbiolo2Linux (Ubuntu 22.04.3 LTS) / x86_64  OK    OK    OK  UNNEEDED, same version is already published
palomino4Windows Server 2022 Datacenter / x64  OK    OK    OK    OK  UNNEEDED, same version is already published
lconwaymacOS 12.7.1 Monterey / x86_64  OK    OK    OK    OK  UNNEEDED, same version is already published
kjohnson1macOS 13.6.1 Ventura / arm64see weekly results here
Package 63/66HostnameOS / ArchINSTALLBUILDCHECKBUILD BIN
SPONGE 1.24.0  (landing page)
Markus List
git_last_commit: c6d5f77
git_last_commit_date: 2023-10-24 10:59:11 -0500
nebbiolo2Linux (Ubuntu 22.04.3 LTS) / x86_64  OK    OK    WARNINGS  NO, package depends on 'miRBaseConverter' which is not available
palomino4Windows Server 2022 Datacenter / x64  OK    OK    WARNINGS    OK  UNNEEDED, same version is already published
lconwaymacOS 12.7.1 Monterey / x86_64  OK    OK    WARNINGS    OK  UNNEEDED, same version is already published
kjohnson1macOS 13.6.1 Ventura / arm64see weekly results here
Package 64/66HostnameOS / ArchINSTALLBUILDCHECKBUILD BIN
TBSignatureProfiler 1.14.0  (landing page)
Aubrey R. Odom
git_last_commit: 373e8f1
git_last_commit_date: 2023-10-24 11:21:49 -0500
nebbiolo2Linux (Ubuntu 22.04.3 LTS) / x86_64  OK    OK    OK  UNNEEDED, same version is already published
palomino4Windows Server 2022 Datacenter / x64  OK    OK    OK    OK  UNNEEDED, same version is already published
lconwaymacOS 12.7.1 Monterey / x86_64  OK    OK    OK    OK  UNNEEDED, same version is already published
kjohnson1macOS 13.6.1 Ventura / arm64see weekly results here
Package 65/66HostnameOS / ArchINSTALLBUILDCHECKBUILD BIN
Xeva 1.18.0  (landing page)
Benjamin Haibe-Kains
git_last_commit: 203e568
git_last_commit_date: 2023-10-24 11:11:27 -0500
nebbiolo2Linux (Ubuntu 22.04.3 LTS) / x86_64  OK    OK    OK  UNNEEDED, same version is already published
palomino4Windows Server 2022 Datacenter / x64  OK    OK    OK    OK  UNNEEDED, same version is already published
lconwaymacOS 12.7.1 Monterey / x86_64  OK    OK    OK    OK  UNNEEDED, same version is already published
kjohnson1macOS 13.6.1 Ventura / arm64see weekly results here
Package 66/66HostnameOS / ArchINSTALLBUILDCHECKBUILD BIN
YAPSA 1.28.0  (landing page)
Zuguang Gu
git_last_commit: 257bdf9
git_last_commit_date: 2023-10-24 10:52:21 -0500
nebbiolo2Linux (Ubuntu 22.04.3 LTS) / x86_64  OK    OK    OK  UNNEEDED, same version is already published
palomino4Windows Server 2022 Datacenter / x64  OK    OK    OK    OK  UNNEEDED, same version is already published
lconwaymacOS 12.7.1 Monterey / x86_64  OK    OK    OK    OK  UNNEEDED, same version is already published
kjohnson1macOS 13.6.1 Ventura / arm64see weekly results here