Back to Multiple platform build/check report for BioC 3.17: simplified long |
|
This page was generated on 2023-10-02 11:35:48 -0400 (Mon, 02 Oct 2023).
Hostname | OS | Arch (*) | R version | Installed pkgs |
---|---|---|---|---|
nebbiolo1 | Linux (Ubuntu 22.04.2 LTS) | x86_64 | 4.3.1 (2023-06-16) -- "Beagle Scouts" | 4626 |
palomino3 | Windows Server 2022 Datacenter | x64 | 4.3.1 (2023-06-16 ucrt) -- "Beagle Scouts" | 4379 |
merida1 | macOS 12.6.4 Monterey | x86_64 | 4.3.1 (2023-06-16) -- "Beagle Scouts" | 4395 |
Click on any hostname to see more info about the system (e.g. compilers) (*) as reported by 'uname -p', except on Windows and Mac OS X |
Package 1342/2230 | Hostname | OS / Arch | INSTALL | BUILD | CHECK | BUILD BIN | ||||||||
muscat 1.14.0 (landing page) Helena L. Crowell
| nebbiolo1 | Linux (Ubuntu 22.04.2 LTS) / x86_64 | OK | OK | ERROR | |||||||||
palomino3 | Windows Server 2022 Datacenter / x64 | OK | OK | OK | OK | ![]() | ||||||||
merida1 | macOS 12.6.4 Monterey / x86_64 | OK | OK | OK | OK | ![]() | ||||||||
To the developers/maintainers of the muscat package: - Allow up to 24 hours (and sometimes 48 hours) for your latest push to git@git.bioconductor.org:packages/muscat.git to reflect on this report. See Troubleshooting Build Report for more information. - Use the following Renviron settings to reproduce errors and warnings. - If 'R CMD check' started to fail recently on the Linux builder(s) over a missing dependency, add the missing dependency to 'Suggests:' in your DESCRIPTION file. See Renviron.bioc for more information. |
Package: muscat |
Version: 1.14.0 |
Command: /home/biocbuild/bbs-3.17-bioc/R/bin/R CMD check --install=check:muscat.install-out.txt --library=/home/biocbuild/bbs-3.17-bioc/R/site-library --timings muscat_1.14.0.tar.gz |
StartedAt: 2023-10-01 23:13:17 -0400 (Sun, 01 Oct 2023) |
EndedAt: 2023-10-01 23:23:34 -0400 (Sun, 01 Oct 2023) |
EllapsedTime: 616.8 seconds |
RetCode: 1 |
Status: ERROR |
CheckDir: muscat.Rcheck |
Warnings: NA |
############################################################################## ############################################################################## ### ### Running command: ### ### /home/biocbuild/bbs-3.17-bioc/R/bin/R CMD check --install=check:muscat.install-out.txt --library=/home/biocbuild/bbs-3.17-bioc/R/site-library --timings muscat_1.14.0.tar.gz ### ############################################################################## ############################################################################## * using log directory ‘/home/biocbuild/bbs-3.17-bioc/meat/muscat.Rcheck’ * using R version 4.3.1 (2023-06-16) * using platform: x86_64-pc-linux-gnu (64-bit) * R was compiled by gcc (Ubuntu 11.3.0-1ubuntu1~22.04.1) 11.3.0 GNU Fortran (Ubuntu 11.3.0-1ubuntu1~22.04.1) 11.3.0 * running under: Ubuntu 22.04.3 LTS * using session charset: UTF-8 * checking for file ‘muscat/DESCRIPTION’ ... OK * checking extension type ... Package * this is package ‘muscat’ version ‘1.14.0’ * package encoding: UTF-8 * checking package namespace information ... OK * checking package dependencies ... OK * checking if this is a source package ... OK * checking if there is a namespace ... OK * checking for hidden files and directories ... OK * checking for portable file names ... OK * checking for sufficient/correct file permissions ... OK * checking whether package ‘muscat’ can be installed ... OK * checking installed package size ... OK * checking package directory ... OK * checking ‘build’ directory ... OK * checking DESCRIPTION meta-information ... OK * checking top-level files ... OK * checking for left-over files ... OK * checking index information ... OK * checking package subdirectories ... OK * checking R files for non-ASCII characters ... OK * checking R files for syntax errors ... OK * checking whether the package can be loaded ... OK * checking whether the package can be loaded with stated dependencies ... OK * checking whether the package can be unloaded cleanly ... OK * checking whether the namespace can be loaded with stated dependencies ... OK * checking whether the namespace can be unloaded cleanly ... OK * checking loading without being on the library search path ... OK * checking dependencies in R code ... OK * checking S3 generic/method consistency ... OK * checking replacement functions ... OK * checking foreign function calls ... OK * checking R code for possible problems ... NOTE pbHeatmap: no visible binding for global variable ‘gene’ pbHeatmap: no visible binding for global variable ‘p_adj.loc’ pbHeatmap: no visible binding for global variable ‘logFC’ Undefined global functions or variables: gene logFC p_adj.loc * checking Rd files ... OK * checking Rd metadata ... OK * checking Rd cross-references ... OK * checking for missing documentation entries ... OK * checking for code/documentation mismatches ... OK * checking Rd \usage sections ... OK * checking Rd contents ... OK * checking for unstated dependencies in examples ... OK * checking contents of ‘data’ directory ... OK * checking data for non-ASCII characters ... OK * checking data for ASCII and uncompressed saves ... OK * checking files in ‘vignettes’ ... OK * checking examples ... OK Examples with CPU (user + system) or elapsed time > 5s user system elapsed mmDS 7.719 0.168 7.887 simData 7.006 0.099 7.107 pbHeatmap 6.330 0.079 6.390 * checking for unstated dependencies in ‘tests’ ... OK * checking tests ... Running ‘testthat.R’ ERROR Running the tests in ‘tests/testthat.R’ failed. Last 13 lines of output: ══ Failed tests ════════════════════════════════════════════════════════════════ ── Failure ('test-simData.R:49:5'): pbDS() gets at least 50% right for 10% DE genes ── sum(re$id[seq_len(n_de)] %in% gi$id[de]) is not more than round(n_de/2). Difference: -1 Backtrace: ▆ 1. └─base::replicate(...) at test-simData.R:49:4 2. └─base::sapply(...) 3. └─base::lapply(X = X, FUN = FUN, ...) 4. └─muscat (local) FUN(X[[i]], ...) 5. └─testthat::expect_gte(...) at test-simData.R:60:8 [ FAIL 1 | WARN 1 | SKIP 0 | PASS 550 ] Error: Test failures Execution halted * checking for unstated dependencies in vignettes ... OK * checking package vignettes in ‘inst/doc’ ... OK * checking running R code from vignettes ... ‘analysis.Rmd’ using ‘UTF-8’... OK ‘simulation.Rmd’ using ‘UTF-8’... OK NONE * checking re-building of vignette outputs ... OK * checking PDF version of manual ... OK * DONE Status: 1 ERROR, 1 NOTE See ‘/home/biocbuild/bbs-3.17-bioc/meat/muscat.Rcheck/00check.log’ for details.
muscat.Rcheck/00install.out
############################################################################## ############################################################################## ### ### Running command: ### ### /home/biocbuild/bbs-3.17-bioc/R/bin/R CMD INSTALL muscat ### ############################################################################## ############################################################################## * installing to library ‘/home/biocbuild/bbs-3.17-bioc/R/site-library’ * installing *source* package ‘muscat’ ... ** using staged installation ** R ** data ** inst ** byte-compile and prepare package for lazy loading Warning in checkMatrixPackageVersion() : Package version inconsistency detected. TMB was built with Matrix version 1.6.0 Current Matrix version is 1.6.1.1 Please re-install 'TMB' from source using install.packages('TMB', type = 'source') or ask CRAN for a binary version of 'TMB' matching CRAN's 'Matrix' package Warning in checkDepPackageVersion(dep_pkg = "TMB") : Package version inconsistency detected. glmmTMB was built with TMB version 1.9.4 Current TMB version is 1.9.6 Please re-install glmmTMB from source or restore original ‘TMB’ package (see '?reinstalling' for more information) ** help *** installing help indices ** building package indices ** installing vignettes ** testing if installed package can be loaded from temporary location Warning in checkMatrixPackageVersion() : Package version inconsistency detected. TMB was built with Matrix version 1.6.0 Current Matrix version is 1.6.1.1 Please re-install 'TMB' from source using install.packages('TMB', type = 'source') or ask CRAN for a binary version of 'TMB' matching CRAN's 'Matrix' package Warning in checkDepPackageVersion(dep_pkg = "TMB") : Package version inconsistency detected. glmmTMB was built with TMB version 1.9.4 Current TMB version is 1.9.6 Please re-install glmmTMB from source or restore original ‘TMB’ package (see '?reinstalling' for more information) ** testing if installed package can be loaded from final location Warning in checkMatrixPackageVersion() : Package version inconsistency detected. TMB was built with Matrix version 1.6.0 Current Matrix version is 1.6.1.1 Please re-install 'TMB' from source using install.packages('TMB', type = 'source') or ask CRAN for a binary version of 'TMB' matching CRAN's 'Matrix' package Warning in checkDepPackageVersion(dep_pkg = "TMB") : Package version inconsistency detected. glmmTMB was built with TMB version 1.9.4 Current TMB version is 1.9.6 Please re-install glmmTMB from source or restore original ‘TMB’ package (see '?reinstalling' for more information) ** testing if installed package keeps a record of temporary installation path * DONE (muscat)
muscat.Rcheck/tests/testthat.Rout.fail
R version 4.3.1 (2023-06-16) -- "Beagle Scouts" Copyright (C) 2023 The R Foundation for Statistical Computing Platform: x86_64-pc-linux-gnu (64-bit) R is free software and comes with ABSOLUTELY NO WARRANTY. You are welcome to redistribute it under certain conditions. Type 'license()' or 'licence()' for distribution details. R is a collaborative project with many contributors. Type 'contributors()' for more information and 'citation()' on how to cite R or R packages in publications. Type 'demo()' for some demos, 'help()' for on-line help, or 'help.start()' for an HTML browser interface to help. Type 'q()' to quit R. > library(testthat) > library(muscat) Warning messages: 1: In checkMatrixPackageVersion() : Package version inconsistency detected. TMB was built with Matrix version 1.6.0 Current Matrix version is 1.6.1.1 Please re-install 'TMB' from source using install.packages('TMB', type = 'source') or ask CRAN for a binary version of 'TMB' matching CRAN's 'Matrix' package 2: In checkDepPackageVersion(dep_pkg = "TMB") : Package version inconsistency detected. glmmTMB was built with TMB version 1.9.4 Current TMB version is 1.9.6 Please re-install glmmTMB from source or restore original 'TMB' package (see '?reinstalling' for more information) > > test_check("muscat") [ FAIL 1 | WARN 1 | SKIP 0 | PASS 550 ] ══ Failed tests ════════════════════════════════════════════════════════════════ ── Failure ('test-simData.R:49:5'): pbDS() gets at least 50% right for 10% DE genes ── sum(re$id[seq_len(n_de)] %in% gi$id[de]) is not more than round(n_de/2). Difference: -1 Backtrace: ▆ 1. └─base::replicate(...) at test-simData.R:49:4 2. └─base::sapply(...) 3. └─base::lapply(X = X, FUN = FUN, ...) 4. └─muscat (local) FUN(X[[i]], ...) 5. └─testthat::expect_gte(...) at test-simData.R:60:8 [ FAIL 1 | WARN 1 | SKIP 0 | PASS 550 ] Error: Test failures Execution halted
muscat.Rcheck/muscat-Ex.timings
name | user | system | elapsed | |
aggregateData | 2.859 | 0.192 | 3.050 | |
calcExprFreqs | 0.540 | 0.024 | 0.555 | |
data | 0 | 0 | 0 | |
mmDS | 7.719 | 0.168 | 7.887 | |
pbDS | 1.489 | 0.032 | 1.521 | |
pbFlatten | 0.865 | 0.028 | 0.892 | |
pbHeatmap | 6.330 | 0.079 | 6.390 | |
pbMDS | 0.750 | 0.031 | 0.783 | |
prepSCE | 1.427 | 0.104 | 1.530 | |
prepSim | 4.799 | 0.089 | 4.887 | |
resDS | 2.565 | 0.028 | 2.581 | |
simData | 7.006 | 0.099 | 7.107 | |