Back to Multiple platform build/check report for BioC 3.17:   simplified   long
ABCDEFGHIJKL[M]NOPQRSTUVWXYZ

This page was generated on 2023-10-02 11:37:33 -0400 (Mon, 02 Oct 2023).

HostnameOSArch (*)R versionInstalled pkgs
nebbiolo1Linux (Ubuntu 22.04.2 LTS)x86_644.3.1 (2023-06-16) -- "Beagle Scouts" 4626
palomino3Windows Server 2022 Datacenterx644.3.1 (2023-06-16 ucrt) -- "Beagle Scouts" 4379
merida1macOS 12.6.4 Montereyx86_644.3.1 (2023-06-16) -- "Beagle Scouts" 4395
Click on any hostname to see more info about the system (e.g. compilers)      (*) as reported by 'uname -p', except on Windows and Mac OS X

Package 1342/2230HostnameOS / ArchINSTALLBUILDCHECKBUILD BIN
muscat 1.14.0  (landing page)
Helena L. Crowell
Snapshot Date: 2023-10-01 14:00:12 -0400 (Sun, 01 Oct 2023)
git_url: https://git.bioconductor.org/packages/muscat
git_branch: RELEASE_3_17
git_last_commit: 2f8d169
git_last_commit_date: 2023-04-25 11:12:01 -0400 (Tue, 25 Apr 2023)
nebbiolo1Linux (Ubuntu 22.04.2 LTS) / x86_64  OK    OK    ERROR  
palomino3Windows Server 2022 Datacenter / x64  OK    OK    OK    OK  UNNEEDED, same version is already published
merida1macOS 12.6.4 Monterey / x86_64  OK    OK    OK    OK  UNNEEDED, same version is already published

CHECK results for muscat on merida1


To the developers/maintainers of the muscat package:
- Allow up to 24 hours (and sometimes 48 hours) for your latest push to git@git.bioconductor.org:packages/muscat.git to reflect on this report. See Troubleshooting Build Report for more information.
- Use the following Renviron settings to reproduce errors and warnings.
- If 'R CMD check' started to fail recently on the Linux builder(s) over a missing dependency, add the missing dependency to 'Suggests:' in your DESCRIPTION file. See Renviron.bioc for more information.

raw results


Summary

Package: muscat
Version: 1.14.0
Command: /Library/Frameworks/R.framework/Resources/bin/R CMD check --install=check:muscat.install-out.txt --library=/Library/Frameworks/R.framework/Resources/library --no-vignettes --timings muscat_1.14.0.tar.gz
StartedAt: 2023-10-02 04:36:17 -0400 (Mon, 02 Oct 2023)
EndedAt: 2023-10-02 04:52:53 -0400 (Mon, 02 Oct 2023)
EllapsedTime: 996.1 seconds
RetCode: 0
Status:   OK  
CheckDir: muscat.Rcheck
Warnings: 0

Command output

##############################################################################
##############################################################################
###
### Running command:
###
###   /Library/Frameworks/R.framework/Resources/bin/R CMD check --install=check:muscat.install-out.txt --library=/Library/Frameworks/R.framework/Resources/library --no-vignettes --timings muscat_1.14.0.tar.gz
###
##############################################################################
##############################################################################


* using log directory ‘/Users/biocbuild/bbs-3.17-bioc/meat/muscat.Rcheck’
* using R version 4.3.1 (2023-06-16)
* using platform: x86_64-apple-darwin20 (64-bit)
* R was compiled by
    Apple clang version 14.0.3 (clang-1403.0.22.14.1)
    GNU Fortran (GCC) 12.2.0
* running under: macOS Monterey 12.6.4
* using session charset: UTF-8
* using option ‘--no-vignettes’
* checking for file ‘muscat/DESCRIPTION’ ... OK
* checking extension type ... Package
* this is package ‘muscat’ version ‘1.14.0’
* package encoding: UTF-8
* checking package namespace information ... OK
* checking package dependencies ... OK
* checking if this is a source package ... OK
* checking if there is a namespace ... OK
* checking for hidden files and directories ... OK
* checking for portable file names ... OK
* checking for sufficient/correct file permissions ... OK
* checking whether package ‘muscat’ can be installed ... OK
* checking installed package size ... OK
* checking package directory ... OK
* checking ‘build’ directory ... OK
* checking DESCRIPTION meta-information ... OK
* checking top-level files ... OK
* checking for left-over files ... OK
* checking index information ... OK
* checking package subdirectories ... OK
* checking R files for non-ASCII characters ... OK
* checking R files for syntax errors ... OK
* checking whether the package can be loaded ... OK
* checking whether the package can be loaded with stated dependencies ... OK
* checking whether the package can be unloaded cleanly ... OK
* checking whether the namespace can be loaded with stated dependencies ... OK
* checking whether the namespace can be unloaded cleanly ... OK
* checking dependencies in R code ... OK
* checking S3 generic/method consistency ... OK
* checking replacement functions ... OK
* checking foreign function calls ... OK
* checking R code for possible problems ... NOTE
pbHeatmap: no visible binding for global variable ‘gene’
pbHeatmap: no visible binding for global variable ‘p_adj.loc’
pbHeatmap: no visible binding for global variable ‘logFC’
Undefined global functions or variables:
  gene logFC p_adj.loc
* checking Rd files ... OK
* checking Rd metadata ... OK
* checking Rd cross-references ... OK
* checking for missing documentation entries ... OK
* checking for code/documentation mismatches ... OK
* checking Rd \usage sections ... OK
* checking Rd contents ... OK
* checking for unstated dependencies in examples ... OK
* checking contents of ‘data’ directory ... OK
* checking data for non-ASCII characters ... OK
* checking data for ASCII and uncompressed saves ... OK
* checking files in ‘vignettes’ ... OK
* checking examples ... OK
Examples with CPU (user + system) or elapsed time > 5s
                user system elapsed
mmDS          17.204  0.162  21.843
simData       16.715  0.364  22.234
pbHeatmap     16.287  0.156  21.816
prepSim       10.445  0.206  13.520
resDS          6.032  0.074   7.773
aggregateData  4.099  0.257   5.319
* checking for unstated dependencies in ‘tests’ ... OK
* checking tests ...
  Running ‘testthat.R’
 OK
* checking for unstated dependencies in vignettes ... OK
* checking package vignettes in ‘inst/doc’ ... OK
* checking running R code from vignettes ... SKIPPED
* checking re-building of vignette outputs ... SKIPPED
* checking PDF version of manual ... OK
* DONE

Status: 1 NOTE
See
  ‘/Users/biocbuild/bbs-3.17-bioc/meat/muscat.Rcheck/00check.log’
for details.



Installation output

muscat.Rcheck/00install.out

##############################################################################
##############################################################################
###
### Running command:
###
###   /Library/Frameworks/R.framework/Resources/bin/R CMD INSTALL muscat
###
##############################################################################
##############################################################################


* installing to library ‘/Library/Frameworks/R.framework/Versions/4.3-x86_64/Resources/library’
* installing *source* package ‘muscat’ ...
** using staged installation
** R
** data
** inst
** byte-compile and prepare package for lazy loading
Warning in checkMatrixPackageVersion() :
  Package version inconsistency detected.
TMB was built with Matrix version 1.6.0
Current Matrix version is 1.6.1.1
Please re-install 'TMB' from source using install.packages('TMB', type = 'source') or ask CRAN for a binary version of 'TMB' matching CRAN's 'Matrix' package
Warning in checkDepPackageVersion(dep_pkg = "TMB") :
  Package version inconsistency detected.
glmmTMB was built with TMB version 1.9.3
Current TMB version is 1.9.6
Please re-install glmmTMB from source or restore original ‘TMB’ package (see '?reinstalling' for more information)
** help
*** installing help indices
** building package indices
** installing vignettes
** testing if installed package can be loaded from temporary location
Warning in checkMatrixPackageVersion() :
  Package version inconsistency detected.
TMB was built with Matrix version 1.6.0
Current Matrix version is 1.6.1.1
Please re-install 'TMB' from source using install.packages('TMB', type = 'source') or ask CRAN for a binary version of 'TMB' matching CRAN's 'Matrix' package
Warning in checkDepPackageVersion(dep_pkg = "TMB") :
  Package version inconsistency detected.
glmmTMB was built with TMB version 1.9.3
Current TMB version is 1.9.6
Please re-install glmmTMB from source or restore original ‘TMB’ package (see '?reinstalling' for more information)
** testing if installed package can be loaded from final location
Warning in checkMatrixPackageVersion() :
  Package version inconsistency detected.
TMB was built with Matrix version 1.6.0
Current Matrix version is 1.6.1.1
Please re-install 'TMB' from source using install.packages('TMB', type = 'source') or ask CRAN for a binary version of 'TMB' matching CRAN's 'Matrix' package
Warning in checkDepPackageVersion(dep_pkg = "TMB") :
  Package version inconsistency detected.
glmmTMB was built with TMB version 1.9.3
Current TMB version is 1.9.6
Please re-install glmmTMB from source or restore original ‘TMB’ package (see '?reinstalling' for more information)
** testing if installed package keeps a record of temporary installation path
* DONE (muscat)

Tests output

muscat.Rcheck/tests/testthat.Rout


R version 4.3.1 (2023-06-16) -- "Beagle Scouts"
Copyright (C) 2023 The R Foundation for Statistical Computing
Platform: x86_64-apple-darwin20 (64-bit)

R is free software and comes with ABSOLUTELY NO WARRANTY.
You are welcome to redistribute it under certain conditions.
Type 'license()' or 'licence()' for distribution details.

R is a collaborative project with many contributors.
Type 'contributors()' for more information and
'citation()' on how to cite R or R packages in publications.

Type 'demo()' for some demos, 'help()' for on-line help, or
'help.start()' for an HTML browser interface to help.
Type 'q()' to quit R.

> library(testthat)
> library(muscat)
Warning messages:
1: In checkMatrixPackageVersion() :
  Package version inconsistency detected.
TMB was built with Matrix version 1.6.0
Current Matrix version is 1.6.1.1
Please re-install 'TMB' from source using install.packages('TMB', type = 'source') or ask CRAN for a binary version of 'TMB' matching CRAN's 'Matrix' package
2: In checkDepPackageVersion(dep_pkg = "TMB") :
  Package version inconsistency detected.
glmmTMB was built with TMB version 1.9.3
Current TMB version is 1.9.6
Please re-install glmmTMB from source or restore original 'TMB' package (see '?reinstalling' for more information)
> 
> test_check("muscat")
[ FAIL 0 | WARN 1 | SKIP 0 | PASS 551 ]

[ FAIL 0 | WARN 1 | SKIP 0 | PASS 551 ]
> 
> proc.time()
   user  system elapsed 
227.364   3.346 293.344 

Example timings

muscat.Rcheck/muscat-Ex.timings

nameusersystemelapsed
aggregateData4.0990.2575.319
calcExprFreqs1.0370.0551.297
data0.0000.0010.001
mmDS17.204 0.16221.843
pbDS3.5230.0454.541
pbFlatten1.9020.0512.581
pbHeatmap16.287 0.15621.816
pbMDS1.6690.0402.149
prepSCE1.4390.0401.869
prepSim10.445 0.20613.520
resDS6.0320.0747.773
simData16.715 0.36422.234