Back to Multiple platform build/check report for BioC 3.15
ABCDEFGHIJKL[M]NOPQRSTUVWXYZ

This page was generated on 2022-06-24 12:07:46 -0400 (Fri, 24 Jun 2022).

HostnameOSArch (*)R versionInstalled pkgs
nebbiolo1Linux (Ubuntu 20.04.4 LTS)x86_644.2.0 (2022-04-22) -- "Vigorous Calisthenics" 4380
palomino3Windows Server 2022 Datacenterx644.2.0 (2022-04-22 ucrt) -- "Vigorous Calisthenics" 4156
merida1macOS 10.14.6 Mojavex86_644.2.0 (2022-04-22) -- "Vigorous Calisthenics" 4221
Click on any hostname to see more info about the system (e.g. compilers)      (*) as reported by 'uname -p', except on Windows and Mac OS X

CHECK results for microbiomeMarker on merida1


To the developers/maintainers of the microbiomeMarker package:
- Please allow up to 24 hours (and sometimes 48 hours) for your latest push to git@git.bioconductor.org:packages/microbiomeMarker.git to
reflect on this report. See How and When does the builder pull? When will my changes propagate? for more information.
- Make sure to use the following settings in order to reproduce any error or warning you see on this page.

raw results

Package 1174/2140HostnameOS / ArchINSTALLBUILDCHECKBUILD BIN
microbiomeMarker 1.2.2  (landing page)
Yang Cao
Snapshot Date: 2022-06-23 13:55:15 -0400 (Thu, 23 Jun 2022)
git_url: https://git.bioconductor.org/packages/microbiomeMarker
git_branch: RELEASE_3_15
git_last_commit: a51c6f2
git_last_commit_date: 2022-06-15 01:49:04 -0400 (Wed, 15 Jun 2022)
nebbiolo1Linux (Ubuntu 20.04.4 LTS) / x86_64  OK    OK    OK  UNNEEDED, same version is already published
palomino3Windows Server 2022 Datacenter / x64  OK    OK    OK    OK  UNNEEDED, same version is already published
merida1macOS 10.14.6 Mojave / x86_64  OK    OK    OK    OK  UNNEEDED, same version is already published

Summary

Package: microbiomeMarker
Version: 1.2.2
Command: /Library/Frameworks/R.framework/Resources/bin/R CMD check --install=check:microbiomeMarker.install-out.txt --library=/Library/Frameworks/R.framework/Resources/library --no-vignettes --timings microbiomeMarker_1.2.2.tar.gz
StartedAt: 2022-06-24 05:13:04 -0400 (Fri, 24 Jun 2022)
EndedAt: 2022-06-24 05:27:36 -0400 (Fri, 24 Jun 2022)
EllapsedTime: 872.3 seconds
RetCode: 0
Status:   OK  
CheckDir: microbiomeMarker.Rcheck
Warnings: 0

Command output

##############################################################################
##############################################################################
###
### Running command:
###
###   /Library/Frameworks/R.framework/Resources/bin/R CMD check --install=check:microbiomeMarker.install-out.txt --library=/Library/Frameworks/R.framework/Resources/library --no-vignettes --timings microbiomeMarker_1.2.2.tar.gz
###
##############################################################################
##############################################################################


* using log directory ‘/Users/biocbuild/bbs-3.15-bioc/meat/microbiomeMarker.Rcheck’
* using R version 4.2.0 (2022-04-22)
* using platform: x86_64-apple-darwin17.0 (64-bit)
* using session charset: UTF-8
* using option ‘--no-vignettes’
* checking for file ‘microbiomeMarker/DESCRIPTION’ ... OK
* this is package ‘microbiomeMarker’ version ‘1.2.2’
* package encoding: UTF-8
* checking package namespace information ... OK
* checking package dependencies ... OK
* checking if this is a source package ... OK
* checking if there is a namespace ... OK
* checking for hidden files and directories ... OK
* checking for portable file names ... OK
* checking for sufficient/correct file permissions ... OK
* checking whether package ‘microbiomeMarker’ can be installed ... OK
* checking installed package size ... OK
* checking package directory ... OK
* checking ‘build’ directory ... OK
* checking DESCRIPTION meta-information ... OK
* checking top-level files ... OK
* checking for left-over files ... OK
* checking index information ... OK
* checking package subdirectories ... OK
* checking R files for non-ASCII characters ... OK
* checking R files for syntax errors ... OK
* checking whether the package can be loaded ... OK
* checking whether the package can be loaded with stated dependencies ... OK
* checking whether the package can be unloaded cleanly ... OK
* checking whether the namespace can be loaded with stated dependencies ... OK
* checking whether the namespace can be unloaded cleanly ... OK
* checking dependencies in R code ... OK
* checking S3 generic/method consistency ... OK
* checking replacement functions ... OK
* checking foreign function calls ... OK
* checking R code for possible problems ... OK
* checking Rd files ... OK
* checking Rd metadata ... OK
* checking Rd cross-references ... OK
* checking for missing documentation entries ... OK
* checking for code/documentation mismatches ... OK
* checking Rd \usage sections ... OK
* checking Rd contents ... OK
* checking for unstated dependencies in examples ... OK
* checking contents of ‘data’ directory ... OK
* checking data for non-ASCII characters ... OK
* checking data for ASCII and uncompressed saves ... OK
* checking R/sysdata.rda ... OK
* checking files in ‘vignettes’ ... OK
* checking examples ... OK
Examples with CPU (user + system) or elapsed time > 5s
                           user system elapsed
run_aldex                22.862  0.824  24.416
run_ancombc              19.331  0.103  19.717
plot_cladogram           17.990  0.195  18.944
plot_heatmap             13.959  0.123  14.510
run_lefse                12.949  0.113  13.339
run_deseq2               12.650  0.043  12.893
plot_sl_roc              11.360  0.196  11.768
plot_abundance            8.765  0.026   8.873
run_metagenomeseq         7.742  0.048   8.251
run_test_multiple_groups  7.032  0.023   7.275
run_test_two_groups       6.989  0.021   7.362
assign-marker_table       6.703  0.135   6.939
effect_size-plot          6.610  0.056   6.752
run_simple_stat           6.429  0.049   6.558
run_edger                 6.296  0.021   6.639
subset_marker             6.188  0.022   6.370
run_limma_voom            6.153  0.026   6.293
marker_table-methods      6.143  0.025   6.312
* checking for unstated dependencies in ‘tests’ ... OK
* checking tests ...
  Running ‘testthat.R’
 OK
* checking for unstated dependencies in vignettes ... OK
* checking package vignettes in ‘inst/doc’ ... OK
* checking running R code from vignettes ... SKIPPED
* checking re-building of vignette outputs ... SKIPPED
* checking PDF version of manual ... OK
* DONE

Status: OK


Installation output

microbiomeMarker.Rcheck/00install.out

##############################################################################
##############################################################################
###
### Running command:
###
###   /Library/Frameworks/R.framework/Resources/bin/R CMD INSTALL microbiomeMarker
###
##############################################################################
##############################################################################


* installing to library ‘/Library/Frameworks/R.framework/Versions/4.2/Resources/library’
* installing *source* package ‘microbiomeMarker’ ...
** using staged installation
** R
** data
** inst
** byte-compile and prepare package for lazy loading
** help
*** installing help indices
*** copying figures
** building package indices
** installing vignettes
** testing if installed package can be loaded from temporary location
** testing if installed package can be loaded from final location
** testing if installed package keeps a record of temporary installation path
* DONE (microbiomeMarker)

Tests output

microbiomeMarker.Rcheck/tests/testthat.Rout


R version 4.2.0 (2022-04-22) -- "Vigorous Calisthenics"
Copyright (C) 2022 The R Foundation for Statistical Computing
Platform: x86_64-apple-darwin17.0 (64-bit)

R is free software and comes with ABSOLUTELY NO WARRANTY.
You are welcome to redistribute it under certain conditions.
Type 'license()' or 'licence()' for distribution details.

R is a collaborative project with many contributors.
Type 'contributors()' for more information and
'citation()' on how to cite R or R packages in publications.

Type 'demo()' for some demos, 'help()' for on-line help, or
'help.start()' for an HTML browser interface to help.
Type 'q()' to quit R.

> library(testthat)
> library(microbiomeMarker)
> 
> test_check("microbiomeMarker")
operating in serial mode
computing center with all features
New names:
* `` -> `...1`
* `` -> `...2`
* `` -> `...3`
* `` -> `...4`
* `` -> `...5`
* `` -> `...6`
* `` -> `...7`
* `` -> `...8`
* `` -> `...9`
* `` -> `...10`
* `` -> `...11`
* `` -> `...12`
New names:
* `` -> `...1`
* `` -> `...2`
* `` -> `...3`
* `` -> `...4`
* `` -> `...5`
* `` -> `...6`
* `` -> `...7`
* `` -> `...8`
* `` -> `...9`
* `` -> `...10`
* `` -> `...11`
* `` -> `...12`
operating in serial mode
New names:
* `` -> `...1`
* `` -> `...2`
* `` -> `...3`
* `` -> `...4`
* `` -> `...5`
* `` -> `...6`
* `` -> `...7`
* `` -> `...8`
* `` -> `...9`
* `` -> `...10`
* `` -> `...11`
* `` -> `...12`
New names:
* `` -> `...1`
* `` -> `...2`
* `` -> `...3`
* `` -> `...4`
* `` -> `...5`
* `` -> `...6`
* `` -> `...7`
* `` -> `...8`
* `` -> `...9`
* `` -> `...10`
* `` -> `...11`
* `` -> `...12`
New names:
* `` -> `...1`
* `` -> `...2`
* `` -> `...3`
* `` -> `...4`
* `` -> `...5`
* `` -> `...6`
* `` -> `...7`
* `` -> `...8`
* `` -> `...9`
* `` -> `...10`
* `` -> `...11`
* `` -> `...12`
New names:
* `` -> `...1`
* `` -> `...2`
* `` -> `...3`
* `` -> `...4`
* `` -> `...5`
* `` -> `...6`
* `` -> `...7`
* `` -> `...8`
* `` -> `...9`
* `` -> `...10`
* `` -> `...11`
* `` -> `...12`
Found more than one class "phylo" in cache; using the first, from namespace 'phyloseq'
Also defined by 'tidytree'
Found more than one class "phylo" in cache; using the first, from namespace 'phyloseq'
Also defined by 'tidytree'
Found more than one class "phylo" in cache; using the first, from namespace 'phyloseq'
Also defined by 'tidytree'
Found more than one class "phylo" in cache; using the first, from namespace 'phyloseq'
Also defined by 'tidytree'
Found more than one class "phylo" in cache; using the first, from namespace 'phyloseq'
Also defined by 'tidytree'
Found more than one class "phylo" in cache; using the first, from namespace 'phyloseq'
Also defined by 'tidytree'
Found more than one class "phylo" in cache; using the first, from namespace 'phyloseq'
Also defined by 'tidytree'
Found more than one class "phylo" in cache; using the first, from namespace 'phyloseq'
Also defined by 'tidytree'
Found more than one class "phylo" in cache; using the first, from namespace 'phyloseq'
Also defined by 'tidytree'
Found more than one class "phylo" in cache; using the first, from namespace 'phyloseq'
Also defined by 'tidytree'
Found more than one class "phylo" in cache; using the first, from namespace 'phyloseq'
Also defined by 'tidytree'
Found more than one class "phylo" in cache; using the first, from namespace 'phyloseq'
Also defined by 'tidytree'
Found more than one class "phylo" in cache; using the first, from namespace 'phyloseq'
Also defined by 'tidytree'
Found more than one class "phylo" in cache; using the first, from namespace 'phyloseq'
Also defined by 'tidytree'
Found more than one class "phylo" in cache; using the first, from namespace 'phyloseq'
Also defined by 'tidytree'
Found more than one class "phylo" in cache; using the first, from namespace 'phyloseq'
Also defined by 'tidytree'
Found more than one class "phylo" in cache; using the first, from namespace 'phyloseq'
Also defined by 'tidytree'
Found more than one class "phylo" in cache; using the first, from namespace 'phyloseq'
Also defined by 'tidytree'
Found more than one class "phylo" in cache; using the first, from namespace 'phyloseq'
Also defined by 'tidytree'
Found more than one class "phylo" in cache; using the first, from namespace 'phyloseq'
Also defined by 'tidytree'
Found more than one class "phylo" in cache; using the first, from namespace 'phyloseq'
Also defined by 'tidytree'
Found more than one class "phylo" in cache; using the first, from namespace 'phyloseq'
Also defined by 'tidytree'
Found more than one class "phylo" in cache; using the first, from namespace 'phyloseq'
Also defined by 'tidytree'
Found more than one class "phylo" in cache; using the first, from namespace 'phyloseq'
Also defined by 'tidytree'
`set.seed(2020)` was used to initialize repeatable random subsampling.
Please record this for your records so others can reproduce.
Try `set.seed(2020); .Random.seed` for the full vector
...
46OTUs were removed because they are no longer 
present in any sample after random subsampling

...
`set.seed(2020)` was used to initialize repeatable random subsampling.
Please record this for your records so others can reproduce.
Try `set.seed(2020); .Random.seed` for the full vector
...
46OTUs were removed because they are no longer 
present in any sample after random subsampling

...
`set.seed(2020)` was used to initialize repeatable random subsampling.
Please record this for your records so others can reproduce.
Try `set.seed(2020); .Random.seed` for the full vector
...
46OTUs were removed because they are no longer 
present in any sample after random subsampling

...
`set.seed(2020)` was used to initialize repeatable random subsampling.
Please record this for your records so others can reproduce.
Try `set.seed(2020); .Random.seed` for the full vector
...
46OTUs were removed because they are no longer 
present in any sample after random subsampling

...
Default value being used.
Default value being used.
Default value being used.
Default value being used.
converting counts to integer mode
Loading required package: ggplot2
Loading required package: lattice
[ FAIL 0 | WARN 25 | SKIP 8 | PASS 217 ]

══ Skipped tests ═══════════════════════════════════════════════════════════════
• On CRAN (7)
• empty test (1)

[ FAIL 0 | WARN 25 | SKIP 8 | PASS 217 ]
> 
> proc.time()
   user  system elapsed 
143.734   3.039 151.061 

Example timings

microbiomeMarker.Rcheck/microbiomeMarker-Ex.timings

nameusersystemelapsed
abundances-methods0.1560.0080.165
aggregate_taxa0.7150.0320.762
assign-marker_table6.7030.1356.939
confounder4.7950.0374.864
effect_size-plot6.6100.0566.752
extract_posthoc_res0.2270.0070.235
import_dada20.1300.0030.135
import_picrust20.0690.0020.072
import_qiime20.3800.0560.454
marker_table-methods6.1430.0256.312
microbiomeMarker0.0300.0010.032
nmarker-methods0.0030.0000.003
normalize-methods0.2040.0110.219
phyloseq2DESeq21.0680.0111.098
phyloseq2edgeR0.3020.0100.319
phyloseq2metagenomeSeq0.3180.0040.326
plot_abundance8.7650.0268.873
plot_cladogram17.990 0.19518.944
plot_heatmap13.959 0.12314.510
plot_postHocTest2.0900.0132.176
plot_sl_roc11.360 0.19611.768
postHocTest0.1750.0040.179
run_aldex22.862 0.82424.416
run_ancom0.0010.0000.000
run_ancombc19.331 0.10319.717
run_deseq212.650 0.04312.893
run_edger6.2960.0216.639
run_lefse12.949 0.11313.339
run_limma_voom6.1530.0266.293
run_metagenomeseq7.7420.0488.251
run_posthoc_test1.2310.0141.297
run_simple_stat6.4290.0496.558
run_sl4.4660.0434.523
run_test_multiple_groups7.0320.0237.275
run_test_two_groups6.9890.0217.362
subset_marker6.1880.0226.370
summarize_taxa0.8510.0070.863
transform_abundances0.2530.0200.275