Back to Multiple platform build/check report for BioC 3.19:   simplified   long
ABCDEFGHIJKLMNOPQR[S]TUVWXYZ

This page was generated on 2024-06-11 14:40 -0400 (Tue, 11 Jun 2024).

HostnameOSArch (*)R versionInstalled pkgs
nebbiolo1Linux (Ubuntu 22.04.3 LTS)x86_644.4.0 (2024-04-24) -- "Puppy Cup" 4757
palomino3Windows Server 2022 Datacenterx644.4.0 (2024-04-24 ucrt) -- "Puppy Cup" 4491
lconwaymacOS 12.7.1 Montereyx86_644.4.0 (2024-04-24) -- "Puppy Cup" 4522
kjohnson3macOS 13.6.5 Venturaarm644.4.0 (2024-04-24) -- "Puppy Cup" 4468
Click on any hostname to see more info about the system (e.g. compilers)      (*) as reported by 'uname -p', except on Windows and Mac OS X

Package 1972/2300HostnameOS / ArchINSTALLBUILDCHECKBUILD BIN
signifinder 1.6.0  (landing page)
Stefania Pirrotta
Snapshot Date: 2024-06-09 14:00 -0400 (Sun, 09 Jun 2024)
git_url: https://git.bioconductor.org/packages/signifinder
git_branch: RELEASE_3_19
git_last_commit: b1f9b88
git_last_commit_date: 2024-04-30 11:45:33 -0400 (Tue, 30 Apr 2024)
nebbiolo1Linux (Ubuntu 22.04.3 LTS) / x86_64  OK    OK    OK  UNNEEDED, same version is already published
palomino3Windows Server 2022 Datacenter / x64  OK    OK    OK    OK  UNNEEDED, same version is already published
lconwaymacOS 12.7.1 Monterey / x86_64  OK    OK    OK    OK  UNNEEDED, same version is already published
kjohnson3macOS 13.6.5 Ventura / arm64  OK    OK    OK    OK  UNNEEDED, same version is already published


CHECK results for signifinder on nebbiolo1

To the developers/maintainers of the signifinder package:
- Allow up to 24 hours (and sometimes 48 hours) for your latest push to git@git.bioconductor.org:packages/signifinder.git to reflect on this report. See Troubleshooting Build Report for more information.
- Use the following Renviron settings to reproduce errors and warnings.
- If 'R CMD check' started to fail recently on the Linux builder(s) over a missing dependency, add the missing dependency to 'Suggests:' in your DESCRIPTION file. See Renviron.bioc for more information.

raw results


Summary

Package: signifinder
Version: 1.6.0
Command: /home/biocbuild/bbs-3.19-bioc/R/bin/R CMD check --install=check:signifinder.install-out.txt --library=/home/biocbuild/bbs-3.19-bioc/R/site-library --timings signifinder_1.6.0.tar.gz
StartedAt: 2024-06-10 03:27:25 -0400 (Mon, 10 Jun 2024)
EndedAt: 2024-06-10 03:44:27 -0400 (Mon, 10 Jun 2024)
EllapsedTime: 1022.1 seconds
RetCode: 0
Status:   OK  
CheckDir: signifinder.Rcheck
Warnings: 0

Command output

##############################################################################
##############################################################################
###
### Running command:
###
###   /home/biocbuild/bbs-3.19-bioc/R/bin/R CMD check --install=check:signifinder.install-out.txt --library=/home/biocbuild/bbs-3.19-bioc/R/site-library --timings signifinder_1.6.0.tar.gz
###
##############################################################################
##############################################################################


* using log directory ‘/home/biocbuild/bbs-3.19-bioc/meat/signifinder.Rcheck’
* using R version 4.4.0 (2024-04-24)
* using platform: x86_64-pc-linux-gnu
* R was compiled by
    gcc (Ubuntu 11.4.0-1ubuntu1~22.04) 11.4.0
    GNU Fortran (Ubuntu 11.4.0-1ubuntu1~22.04) 11.4.0
* running under: Ubuntu 22.04.4 LTS
* using session charset: UTF-8
* checking for file ‘signifinder/DESCRIPTION’ ... OK
* checking extension type ... Package
* this is package ‘signifinder’ version ‘1.6.0’
* package encoding: UTF-8
* checking package namespace information ... OK
* checking package dependencies ... OK
* checking if this is a source package ... OK
* checking if there is a namespace ... OK
* checking for hidden files and directories ... OK
* checking for portable file names ... OK
* checking for sufficient/correct file permissions ... OK
* checking whether package ‘signifinder’ can be installed ... OK
* checking installed package size ... OK
* checking package directory ... OK
* checking ‘build’ directory ... OK
* checking DESCRIPTION meta-information ... OK
* checking top-level files ... OK
* checking for left-over files ... OK
* checking index information ... OK
* checking package subdirectories ... OK
* checking code files for non-ASCII characters ... OK
* checking R files for syntax errors ... OK
* checking whether the package can be loaded ... OK
* checking whether the package can be loaded with stated dependencies ... OK
* checking whether the package can be unloaded cleanly ... OK
* checking whether the namespace can be loaded with stated dependencies ... OK
* checking whether the namespace can be unloaded cleanly ... OK
* checking loading without being on the library search path ... OK
* checking dependencies in R code ... OK
* checking S3 generic/method consistency ... OK
* checking replacement functions ... OK
* checking foreign function calls ... OK
* checking R code for possible problems ... OK
* checking Rd files ... OK
* checking Rd metadata ... OK
* checking Rd cross-references ... OK
* checking for missing documentation entries ... OK
* checking for code/documentation mismatches ... OK
* checking Rd \usage sections ... OK
* checking Rd contents ... OK
* checking for unstated dependencies in examples ... OK
* checking contents of ‘data’ directory ... OK
* checking data for non-ASCII characters ... OK
* checking data for ASCII and uncompressed saves ... OK
* checking R/sysdata.rda ... OK
* checking files in ‘vignettes’ ... OK
* checking examples ... OK
Examples with CPU (user + system) or elapsed time > 5s
                   user system elapsed
multipleSign    146.808  0.955 147.765
consensusOVSign  73.558  0.688  74.253
* checking for unstated dependencies in ‘tests’ ... OK
* checking tests ...
  Running ‘testthat.R’
 OK
* checking for unstated dependencies in vignettes ... OK
* checking package vignettes ... OK
* checking re-building of vignette outputs ... OK
* checking PDF version of manual ... OK
* DONE

Status: OK


Installation output

signifinder.Rcheck/00install.out

##############################################################################
##############################################################################
###
### Running command:
###
###   /home/biocbuild/bbs-3.19-bioc/R/bin/R CMD INSTALL signifinder
###
##############################################################################
##############################################################################


* installing to library ‘/home/biocbuild/bbs-3.19-bioc/R/site-library’
* installing *source* package ‘signifinder’ ...
** using staged installation
** R
** data
** inst
** byte-compile and prepare package for lazy loading
** help
*** installing help indices
*** copying figures
** building package indices
** installing vignettes
** testing if installed package can be loaded from temporary location
** testing if installed package can be loaded from final location
** testing if installed package keeps a record of temporary installation path
* DONE (signifinder)

Tests output

signifinder.Rcheck/tests/testthat.Rout


R version 4.4.0 (2024-04-24) -- "Puppy Cup"
Copyright (C) 2024 The R Foundation for Statistical Computing
Platform: x86_64-pc-linux-gnu

R is free software and comes with ABSOLUTELY NO WARRANTY.
You are welcome to redistribute it under certain conditions.
Type 'license()' or 'licence()' for distribution details.

R is a collaborative project with many contributors.
Type 'contributors()' for more information and
'citation()' on how to cite R or R packages in publications.

Type 'demo()' for some demos, 'help()' for on-line help, or
'help.start()' for an HTML browser interface to help.
Type 'q()' to quit R.

> library(testthat)
> library(signifinder)

> 
> test_check("signifinder")
'select()' returned 1:1 mapping between keys and columns
Loading required package: edgeR
Loading required package: limma

Attaching package: 'limma'

The following object is masked from 'package:BiocGenerics':

    plotMA

pyroptosisSignLin is using 100% of signature genes
ferroptosisSignLi is using 100% of signature genes
lipidMetabolismSign is using 100% of signature genes
StemCellCD49fSign is using 100% of signature genes
glycolysisSignZhang is using 100% of signature genes
autophagySignXu is using 100% of signature genes
'select()' returned 1:1 mapping between keys and columns
autophagySignChenM is using 100% of OS signature genes
autophagySignChenM is using 60% of DFS signature genes
TinflamSign is using 100% of signature genes
EMTSignMiow is using 0% of epithelial signature genes
EMTSignMiow is using 100% of mesenchymal signature genes
[1] "Calculating ranks..."
[1] "Calculating absolute values from ranks..."
EMTSignMiow is using 0% of epithelial signature genes
[1] "Calculating ranks..."
[1] "Calculating absolute values from ranks..."
EMTSignMak is using 100% of epithelial signature genes
EMTSignMak is using 100% of mesenchymal signature genes
EMTSignMak is using 100% of mesenchymal signature genes
EMTSignCheng is using 100% of signature genes
EMTSignThompson is using 100% of epithelial signature genes
EMTSignThompson is using 100% of mesenchymal signature genes
'select()' returned 1:1 mapping between keys and columns
EMTSignThompson is using 100% of mesenchymal signature genes
'select()' returned 1:1 mapping between keys and columns
ASCSign is using 100% of signature genes
ChemokineSign is using 100% of signature genes
'select()' returned 1:1 mapping between keys and columns
PassONSign is using 100% of signature genes
[1] "Calculating ranks..."
[1] "Calculating absolute values from ranks..."
[1] "Normalizing..."
CISSign is using 100% of up signature genes
CISSign is using 100% of down signature genes
CISSign is using 100% of down signature genes
HRDSSign is using 100% of signature genes
DNArepSign is using 100% of signature genes
'select()' returned 1:1 mapping between keys and columns
IPRESSign is using 100% of signature genes
[1] "Calculating ranks..."
[1] "Calculating absolute values from ranks..."
[1] "Normalizing..."
ECMSign is using 0% of up signature genes
ECMSign is using 100% of down signature genes
[1] "Calculating ranks..."
[1] "Calculating absolute values from ranks..."
ECMSign is using 0% of up signature genes
[1] "Calculating ranks..."
[1] "Calculating absolute values from ranks..."
IPSOVSign is using 100% of signature genes
[1] "Calculating ranks..."
[1] "Calculating absolute values from ranks..."
[1] "Calculating ranks..."
[1] "Calculating absolute values from ranks..."
'select()' returned 1:1 mapping between keys and columns
glioCellStateSign is using 100% of MES2 signature genes
glioCellStateSign is using 100% of MES1 signature genes
glioCellStateSign is using 100% of AC signature genes
glioCellStateSign is using 100% of OPC signature genes
glioCellStateSign is using 100% of NPC1 signature genes
glioCellStateSign is using 100% of NPC2 signature genes
TinflamSignThompson is using 100% of signature genes
'select()' returned 1:1 mapping between keys and columns
'select()' returned 1:1 mapping between keys and columns
EMTSignThompson is using 100% of epithelial signature genes
EMTSignThompson is using 100% of mesenchymal signature genes
'select()' returned 1:1 mapping between keys and columns
TinflamSignThompson is using 100% of signature genes
'select()' returned 1:1 mapping between keys and columns
EMTSignThompson is using 100% of mesenchymal signature genes
'select()' returned 1:1 mapping between keys and columns
TinflamSignThompson is using 100% of signature genes
'select()' returned 1:1 mapping between keys and columns
'select()' returned 1:1 mapping between keys and columns
melStateSign is using 100% of MITF signature genes
melStateSign is using 100% of AXL signature genes
'select()' returned 1:1 mapping between keys and columns
APMSign is using 100% of signature genes
'select()' returned 1:1 mapping between keys and columns
APMSign is using 100% of signature genes
'select()' returned 1:1 mapping between keys and columns
MPSSign is using 100% of signature genes
'select()' returned 1:1 mapping between keys and columns
IRGSign is using 100% of signature genes
TGFBSign is using 100% of signature genes
ADOSign is using 100% of signature genes
MITFlowPTENnegSign is using 100% of signature genes
LRRC15CAFSign is using 100% of signature genes
breastStateSign is using 100% of Basal signature genes
breastStateSign is using 100% of Her2E signature genes
breastStateSign is using 100% of LumA signature genes
breastStateSign is using 100% of LumB signature genes
breastStateSign is using 100% of Her2E signature genes
breastStateSign is using 100% of LumA signature genes
breastStateSign is using 100% of LumB signature genes
ICBResponseSign is using 100% of responder signature genes
ICBResponseSign is using 0% of nonresponder signature genes
ICBResponseSign is using 0% of nonresponder signature genes
COXISSign is using 100% of signature genes
TLSSign is using 100% of signature genes
expandedImmuneSign is using 100% of signature genes
IFNSign is using 100% of signature genes
ImmuneCytSignRooney is using 100% of signature genes
mitoticIndexSign is using 100% of signature genes
matrisomeSign is using 100% of signature genes
immunoScoreSignRoh is using 100% of signature genes
CINSign is using 100% of signature genes
CINSign is using 100% of signature genes
CINSign is using 100% of signature genes
hypoxiaSign is using 100% of signature genes
cellCycleSignLundberg is using 100% of signature genes
cellCycleSignDavoli is using 100% of signature genes
VEGFSign is using 100% of signature genes
ImmuneCytSignDavoli is using 100% of signature genes
[ FAIL 0 | WARN 12 | SKIP 0 | PASS 270 ]

[ FAIL 0 | WARN 12 | SKIP 0 | PASS 270 ]
> 
> proc.time()
   user  system elapsed 
260.244   5.943 266.184 

Example timings

signifinder.Rcheck/signifinder-Ex.timings

nameusersystemelapsed
ADOSign1.9950.0482.043
APMSign0.2150.0560.270
ASCSign0.0460.0120.058
CINSign0.0750.0040.079
CISSign0.1710.0240.195
COXISSign0.0590.0000.059
CombinedSign0.110.000.11
DNArepSign0.0590.0000.059
ECMSign1.5640.2121.776
EMTSign0.2540.0040.258
HRDSSign0.0650.0040.070
ICBResponseSign0.0680.0040.071
IFNSign0.0570.0040.060
IPRESSign0.2800.0080.288
IPSOVSign0.2640.0160.280
IPSSign0.0960.0000.097
IRGSign0.0480.0080.057
ISCSign0.0610.0080.070
LRRC15CAFSign0.2760.0360.312
MITFlowPTENnegSign0.0990.0040.103
MPSSign0.0640.0000.064
PassONSign0.2490.0120.260
TGFBSign0.060.000.06
TLSSign0.0600.0000.061
TinflamSign0.0600.0000.059
VEGFSign0.0570.0000.057
autophagySign0.0560.0040.059
availableSignatures0.0080.0080.015
breastStateSign0.040.000.04
cellCycleSign0.0560.0040.061
chemokineSign0.0700.0120.082
consensusOVSign73.558 0.68874.253
correlationSignPlot1.6160.0921.708
evaluationSignPlot1.5860.0801.667
expandedImmuneSign0.0620.0000.062
ferroptosisSign0.0480.0160.064
geneHeatmapSignPlot1.3330.0041.338
getSignGenes0.0040.0040.008
glioCellStateSign0.040.000.04
glycolysisSign0.0580.0030.061
heatmapSignPlot2.3320.0242.356
hypoxiaSign0.0580.0040.062
immuneCytSign0.0520.0120.064
immunoScoreSign0.0600.0080.068
lipidMetabolismSign0.0430.0160.058
matrisomeSign0.0550.0040.059
melStateSign0.0420.0000.042
mitoticIndexSign0.0580.0000.058
multipleSign146.808 0.955147.765
oneSignPlot0.3880.0480.437
pyroptosisSign0.0710.0030.075
ridgelineSignPlot1.1370.0351.172
stemCellCD49fSign0.0630.0000.062
survivalSignPlot1.5060.0241.530