Back to Multiple platform build/check report for BioC 3.11
ABC[D]EFGHIJKLMNOPQRSTUVWXYZ

Multiple platform build/check report for BioC 3.11

Results for DEP

This page was generated on 2020-09-29 11:57:06 -0400 (Tue, 29 Sep 2020).

Package 452/1905HostnameOS / ArchINSTALLBUILDCHECKBUILD BIN
DEP 1.10.0
Arne Smits
Snapshot Date: 2020-09-28 14:50:55 -0400 (Mon, 28 Sep 2020)
URL: https://git.bioconductor.org/packages/DEP
Branch: RELEASE_3_11
Last Commit: 463586f
Last Changed Date: 2020-04-27 15:09:27 -0400 (Mon, 27 Apr 2020)
malbec2 Linux (Ubuntu 18.04.4 LTS) / x86_64  OK  OK  OK UNNEEDED, same version exists in internal repository
tokay2 Windows Server 2012 R2 Standard / x64  OK  OK  OK  OK UNNEEDED, same version exists in internal repository
machv2 macOS 10.14.6 Mojave / x86_64  OK  OK  OK  OK UNNEEDED, same version exists in internal repository