Back to Multiple platform build/check report for BioC 3.19:   simplified   long
[A]BCDEFGHIJKLMNOPQRSTUVWXYZ

This page was generated on 2024-07-16 17:38 -0400 (Tue, 16 Jul 2024).

HostnameOSArch (*)R versionInstalled pkgs
nebbiolo1Linux (Ubuntu 22.04.3 LTS)x86_644.4.1 (2024-06-14) -- "Race for Your Life" 4742
palomino7Windows Server 2022 Datacenterx644.4.1 (2024-06-14 ucrt) -- "Race for Your Life" 4484
merida1macOS 12.7.4 Montereyx86_644.4.1 (2024-06-14) -- "Race for Your Life" 4513
kjohnson1macOS 13.6.6 Venturaarm644.4.1 (2024-06-14) -- "Race for Your Life" 4462
Click on any hostname to see more info about the system (e.g. compilers)      (*) as reported by 'uname -p', except on Windows and Mac OS X

Package 38/2300HostnameOS / ArchINSTALLBUILDCHECKBUILD BIN
airpart 1.12.0  (landing page)
Wancen Mu
Snapshot Date: 2024-07-14 14:00 -0400 (Sun, 14 Jul 2024)
git_url: https://git.bioconductor.org/packages/airpart
git_branch: RELEASE_3_19
git_last_commit: 41e1b1b
git_last_commit_date: 2024-04-30 11:32:40 -0400 (Tue, 30 Apr 2024)
nebbiolo1Linux (Ubuntu 22.04.3 LTS) / x86_64  OK    OK    OK  UNNEEDED, same version is already published
palomino7Windows Server 2022 Datacenter / x64  OK    OK    OK    OK  
merida1macOS 12.7.4 Monterey / x86_64  OK    OK    OK    OK  UNNEEDED, same version is already published
kjohnson1macOS 13.6.6 Ventura / arm64  OK    OK    OK    OK  UNNEEDED, same version is already published


CHECK results for airpart on nebbiolo1

To the developers/maintainers of the airpart package:
- Allow up to 24 hours (and sometimes 48 hours) for your latest push to git@git.bioconductor.org:packages/airpart.git to reflect on this report. See Troubleshooting Build Report for more information.
- Use the following Renviron settings to reproduce errors and warnings.
- If 'R CMD check' started to fail recently on the Linux builder(s) over a missing dependency, add the missing dependency to 'Suggests:' in your DESCRIPTION file. See Renviron.bioc for more information.

raw results


Summary

Package: airpart
Version: 1.12.0
Command: /home/biocbuild/bbs-3.19-bioc/R/bin/R CMD check --install=check:airpart.install-out.txt --library=/home/biocbuild/bbs-3.19-bioc/R/site-library --timings airpart_1.12.0.tar.gz
StartedAt: 2024-07-14 21:00:26 -0400 (Sun, 14 Jul 2024)
EndedAt: 2024-07-14 21:05:54 -0400 (Sun, 14 Jul 2024)
EllapsedTime: 327.7 seconds
RetCode: 0
Status:   OK  
CheckDir: airpart.Rcheck
Warnings: 0

Command output

##############################################################################
##############################################################################
###
### Running command:
###
###   /home/biocbuild/bbs-3.19-bioc/R/bin/R CMD check --install=check:airpart.install-out.txt --library=/home/biocbuild/bbs-3.19-bioc/R/site-library --timings airpart_1.12.0.tar.gz
###
##############################################################################
##############################################################################


* using log directory ‘/home/biocbuild/bbs-3.19-bioc/meat/airpart.Rcheck’
* using R version 4.4.1 (2024-06-14)
* using platform: x86_64-pc-linux-gnu
* R was compiled by
    gcc (Ubuntu 11.4.0-1ubuntu1~22.04) 11.4.0
    GNU Fortran (Ubuntu 11.4.0-1ubuntu1~22.04) 11.4.0
* running under: Ubuntu 22.04.4 LTS
* using session charset: UTF-8
* checking for file ‘airpart/DESCRIPTION’ ... OK
* this is package ‘airpart’ version ‘1.12.0’
* package encoding: UTF-8
* checking package namespace information ... OK
* checking package dependencies ... OK
* checking if this is a source package ... OK
* checking if there is a namespace ... OK
* checking for hidden files and directories ... OK
* checking for portable file names ... OK
* checking for sufficient/correct file permissions ... OK
* checking whether package ‘airpart’ can be installed ... OK
* checking installed package size ... OK
* checking package directory ... OK
* checking ‘build’ directory ... OK
* checking DESCRIPTION meta-information ... OK
* checking top-level files ... OK
* checking for left-over files ... OK
* checking index information ... OK
* checking package subdirectories ... OK
* checking code files for non-ASCII characters ... OK
* checking R files for syntax errors ... OK
* checking whether the package can be loaded ... OK
* checking whether the package can be loaded with stated dependencies ... OK
* checking whether the package can be unloaded cleanly ... OK
* checking whether the namespace can be loaded with stated dependencies ... OK
* checking whether the namespace can be unloaded cleanly ... OK
* checking loading without being on the library search path ... OK
* checking dependencies in R code ... OK
* checking S3 generic/method consistency ... OK
* checking replacement functions ... OK
* checking foreign function calls ... OK
* checking R code for possible problems ... OK
* checking Rd files ... NOTE
checkRd: (-1) cellQC.Rd:44: Lost braces in \itemize; \value handles \item{}{} directly
checkRd: (-1) cellQC.Rd:45: Lost braces in \itemize; \value handles \item{}{} directly
checkRd: (-1) cellQC.Rd:46: Lost braces in \itemize; \value handles \item{}{} directly
checkRd: (-1) cellQC.Rd:47-49: Lost braces in \itemize; \value handles \item{}{} directly
checkRd: (-1) cellQC.Rd:50-52: Lost braces in \itemize; \value handles \item{}{} directly
checkRd: (-1) cellQC.Rd:53-55: Lost braces in \itemize; \value handles \item{}{} directly
checkRd: (-1) featureQC.Rd:29-30: Lost braces in \itemize; \value handles \item{}{} directly
checkRd: (-1) featureQC.Rd:31: Lost braces in \itemize; \value handles \item{}{} directly
checkRd: (-1) featureQC.Rd:32-33: Lost braces in \itemize; \value handles \item{}{} directly
checkRd: (-1) featureQC.Rd:34: Lost braces in \itemize; \value handles \item{}{} directly
checkRd: (-1) makeSimulatedData.Rd:43: Lost braces in \itemize; \value handles \item{}{} directly
checkRd: (-1) makeSimulatedData.Rd:44: Lost braces in \itemize; \value handles \item{}{} directly
checkRd: (-1) makeSimulatedData.Rd:45-46: Lost braces in \itemize; \value handles \item{}{} directly
checkRd: (-1) summaryAllelicRatio.Rd:19: Lost braces in \itemize; \value handles \item{}{} directly
checkRd: (-1) summaryAllelicRatio.Rd:20: Lost braces in \itemize; \value handles \item{}{} directly
checkRd: (-1) summaryAllelicRatio.Rd:21: Lost braces in \itemize; \value handles \item{}{} directly
* checking Rd metadata ... OK
* checking Rd cross-references ... OK
* checking for missing documentation entries ... OK
* checking for code/documentation mismatches ... OK
* checking Rd \usage sections ... OK
* checking Rd contents ... OK
* checking for unstated dependencies in examples ... OK
* checking files in ‘vignettes’ ... OK
* checking examples ... OK
Examples with CPU (user + system) or elapsed time > 5s
               user system elapsed
consensusPart 7.892  2.038   6.909
fusedLasso    6.142  0.246   6.425
makeStep      6.115  0.032   6.147
allelicRatio  5.513  0.151   5.665
* checking for unstated dependencies in ‘tests’ ... OK
* checking tests ...
  Running ‘testthat.R’
 OK
* checking for unstated dependencies in vignettes ... OK
* checking package vignettes ... OK
* checking re-building of vignette outputs ... OK
* checking PDF version of manual ... OK
* DONE

Status: 1 NOTE
See
  ‘/home/biocbuild/bbs-3.19-bioc/meat/airpart.Rcheck/00check.log’
for details.


Installation output

airpart.Rcheck/00install.out

##############################################################################
##############################################################################
###
### Running command:
###
###   /home/biocbuild/bbs-3.19-bioc/R/bin/R CMD INSTALL airpart
###
##############################################################################
##############################################################################


* installing to library ‘/home/biocbuild/bbs-3.19-bioc/R/site-library’
* installing *source* package ‘airpart’ ...
** using staged installation
** R
** inst
** byte-compile and prepare package for lazy loading
** help
*** installing help indices
** building package indices
** installing vignettes
** testing if installed package can be loaded from temporary location
** testing if installed package can be loaded from final location
** testing if installed package keeps a record of temporary installation path
* DONE (airpart)

Tests output

airpart.Rcheck/tests/testthat.Rout


R version 4.4.1 (2024-06-14) -- "Race for Your Life"
Copyright (C) 2024 The R Foundation for Statistical Computing
Platform: x86_64-pc-linux-gnu

R is free software and comes with ABSOLUTELY NO WARRANTY.
You are welcome to redistribute it under certain conditions.
Type 'license()' or 'licence()' for distribution details.

R is a collaborative project with many contributors.
Type 'contributors()' for more information and
'citation()' on how to cite R or R packages in publications.

Type 'demo()' for some demos, 'help()' for on-line help, or
'help.start()' for an HTML browser interface to help.
Type 'q()' to quit R.

> library(testthat)
> library(airpart)
> 
> test_check("airpart")
Loading required package: stats4
Loading required package: BiocGenerics

Attaching package: 'BiocGenerics'

The following objects are masked from 'package:stats':

    IQR, mad, sd, var, xtabs

The following objects are masked from 'package:base':

    Filter, Find, Map, Position, Reduce, anyDuplicated, aperm, append,
    as.data.frame, basename, cbind, colnames, dirname, do.call,
    duplicated, eval, evalq, get, grep, grepl, intersect, is.unsorted,
    lapply, mapply, match, mget, order, paste, pmax, pmax.int, pmin,
    pmin.int, rank, rbind, rownames, sapply, setdiff, table, tapply,
    union, unique, unsplit, which.max, which.min


Attaching package: 'S4Vectors'

The following object is masked from 'package:utils':

    findMatches

The following objects are masked from 'package:base':

    I, expand.grid, unname

model-based optimal number of clusters: 3 
model-based optimal number of clusters: 3 
model-based optimal number of clusters: 3 
model-based optimal number of clusters: 3 
[ FAIL 0 | WARN 32 | SKIP 0 | PASS 13 ]

[ FAIL 0 | WARN 32 | SKIP 0 | PASS 13 ]
> 
> proc.time()
   user  system elapsed 
 21.516   1.562  23.106 

Example timings

airpart.Rcheck/airpart-Ex.timings

nameusersystemelapsed
allelicRatio5.5130.1515.665
cellQC0.4430.0470.492
consensusPart7.8922.0386.909
estDisp1.2870.0841.371
extractResult3.5170.0763.593
featureQC1.2340.1101.343
fusedLasso6.1420.2466.425
geneCluster0.3820.0080.390
makeForest4.4540.0484.502
makeHeatmap4.5470.0804.627
makeOffByOneAdjMat0.1300.0020.132
makeSimulatedData0.2280.0010.229
makeStep6.1150.0326.147
makeViolin3.9080.0563.964
preprocess0.3410.0000.341
summaryAllelicRatio0.5660.0000.566
wilcoxExt1.4830.0561.539