Workflows build report for BioC 3.19

This page was generated on 2024-02-23 14:00:10 -0500 (Fri, 23 Feb 2024).

Approx. Package Snapshot Date (git pull): 2024-02-23 07:45:01 -0500 (Fri, 23 Feb 2024)

HostnameOSArch (*)R versionInstalled pkgs
nebbiolo1Linux (Ubuntu 22.04.3 LTS)x86_64R Under development (unstable) (2024-01-16 r85808) -- "Unsuffered Consequences" 4671
palomino3Windows Server 2022 Datacenterx64R Under development (unstable) (2024-01-14 r85805 ucrt) -- "Unsuffered Consequences" 4411
merida1macOS 12.7.1 Montereyx86_64R Under development (unstable) (2024-01-16 r85808) -- "Unsuffered Consequences" 4438
Click on any hostname to see more info about the system (e.g. compilers)      (*) as reported by 'uname -p', except on Windows and Mac OS X

Package status is indicated by one of the following glyphs
  TIMEOUT  
INSTALL or BUILD of package took more than 40 or 180 minutes, respectively
  ERROR  
Bad DESCRIPTION file, or INSTALL or BUILD of package failed
  OK  
INSTALL or BUILD of package went OK
  NA  
INSTALL or BUILD result is not available because of an anomaly in the Build System
Click on any glyph in the report below to access the detailed report.
Package propagation status is indicated by one of the following LEDs
YES YES: Package was propagated because it didn't previously exist or version was bumped
NO NO: Package was not propagated because of a problem (impossible dependencies, or version lower than what is already propagated)
UNNEEDED UNNEEDED: Package was not propagated because it is already in the repository with this version. A version bump is required in order to propagate it

A crossed-out package name indicates the package is deprecated


QUICK STATSOS / ArchINSTALLBUILD
nebbiolo1Linux (Ubuntu 22.04.3 LTS) / x86_64
0030
0228
palomino3Windows Server 2022 Datacenter / x64
0026
0224
merida1macOS 12.7.1 Monterey / x86_64
0029
0326
Package 1/30HostnameOS / ArchINSTALLBUILD
annotation 1.27.0  (landing page)
Bioconductor Package Maintainer
git_last_commit: ddc3412
git_last_commit_date: 2023-10-24 08:46:25 -0500
nebbiolo1Linux (Ubuntu 22.04.3 LTS) / x86_64  OK    OK  UNNEEDED, same version is already published
palomino3Windows Server 2022 Datacenter / x64  OK    OK  
merida1macOS 12.7.1 Monterey / x86_64  OK    OK  
Package 2/30HostnameOS / ArchINSTALLBUILD
arrays 1.29.0  (landing page)
Bioconductor Package Maintainer
git_last_commit: b8e27e7
git_last_commit_date: 2023-10-24 08:46:29 -0500
nebbiolo1Linux (Ubuntu 22.04.3 LTS) / x86_64  OK    OK  UNNEEDED, same version is already published
palomino3Windows Server 2022 Datacenter / x64  OK    OK  
merida1macOS 12.7.1 Monterey / x86_64  OK    OK  
Package 3/30HostnameOS / ArchINSTALLBUILD
BiocMetaWorkflow 1.25.0  (landing page)
Mike Smith
git_last_commit: 01abdc8
git_last_commit_date: 2023-10-24 08:47:20 -0500
nebbiolo1Linux (Ubuntu 22.04.3 LTS) / x86_64  OK    OK  UNNEEDED, same version is already published
palomino3Windows Server 2022 Datacenter / x64  OK    OK  
merida1macOS 12.7.1 Monterey / x86_64  OK    OK  
Package 4/30HostnameOS / ArchINSTALLBUILD
BP4RNAseq 1.13.0  (landing page)
Shanwen Sun
git_last_commit: d1eeb5c
git_last_commit_date: 2023-10-24 08:47:40 -0500
nebbiolo1Linux (Ubuntu 22.04.3 LTS) / x86_64  OK    OK  UNNEEDED, same version is already published
palomino3Windows Server 2022 Datacenter / x64  OK    OK  
merida1macOS 12.7.1 Monterey / x86_64  OK    OK  
Package 5/30HostnameOS / ArchINSTALLBUILD
CAGEWorkflow 1.19.0  (landing page)
Malte Thodberg
git_last_commit: 1bf71b4
git_last_commit_date: 2023-10-24 08:47:35 -0500
nebbiolo1Linux (Ubuntu 22.04.3 LTS) / x86_64  OK    OK  UNNEEDED, same version is already published
palomino3Windows Server 2022 Datacenter / x64... NOT SUPPORTED ...
merida1macOS 12.7.1 Monterey / x86_64  OK    OK  
Package 6/30HostnameOS / ArchINSTALLBUILD
chipseqDB 1.27.0  (landing page)
Aaron Lun
git_last_commit: aa15d61
git_last_commit_date: 2023-10-24 08:46:32 -0500
nebbiolo1Linux (Ubuntu 22.04.3 LTS) / x86_64  OK    OK  UNNEEDED, same version is already published
palomino3Windows Server 2022 Datacenter / x64... NOT SUPPORTED ...
merida1macOS 12.7.1 Monterey / x86_64  OK    OK  
Package 7/30HostnameOS / ArchINSTALLBUILD
csawUsersGuide 1.19.0  (landing page)
Aaron Lun
git_last_commit: 6a141f8
git_last_commit_date: 2023-10-24 08:47:29 -0500
nebbiolo1Linux (Ubuntu 22.04.3 LTS) / x86_64  OK    OK  UNNEEDED, same version is already published
palomino3Windows Server 2022 Datacenter / x64  OK    OK  
merida1macOS 12.7.1 Monterey / x86_64  OK    OK  
Package 8/30HostnameOS / ArchINSTALLBUILD
cytofWorkflow 1.27.1  (landing page)
Mark D. Robinson
git_last_commit: 779417a
git_last_commit_date: 2023-10-28 07:58:59 -0500
nebbiolo1Linux (Ubuntu 22.04.3 LTS) / x86_64  OK    OK  UNNEEDED, same version is already published
palomino3Windows Server 2022 Datacenter / x64  OK    OK  
merida1macOS 12.7.1 Monterey / x86_64  OK    OK  
Package 9/30HostnameOS / ArchINSTALLBUILD
EGSEA123 1.27.0  (landing page)
Matthew Ritchie
git_last_commit: f7cb324
git_last_commit_date: 2023-10-24 08:46:37 -0500
nebbiolo1Linux (Ubuntu 22.04.3 LTS) / x86_64  OK    OK  UNNEEDED, same version is already published
palomino3Windows Server 2022 Datacenter / x64  OK    OK  
merida1macOS 12.7.1 Monterey / x86_64  OK    OK  
Package 10/30HostnameOS / ArchINSTALLBUILD
ExpHunterSuite 1.11.1  (landing page)
James Perkins
git_last_commit: 11660a5
git_last_commit_date: 2024-02-06 04:14:44 -0500
nebbiolo1Linux (Ubuntu 22.04.3 LTS) / x86_64  OK    OK  UNNEEDED, same version is already published
palomino3Windows Server 2022 Datacenter / x64  OK    OK  
merida1macOS 12.7.1 Monterey / x86_64  OK    OK  
Package 11/30HostnameOS / ArchINSTALLBUILD
ExpressionNormalizationWorkflow 1.29.0  (landing page)
Karthikeyan Murugesan
git_last_commit: 2cae3e0
git_last_commit_date: 2023-10-24 08:46:40 -0500
nebbiolo1Linux (Ubuntu 22.04.3 LTS) / x86_64  OK    OK  UNNEEDED, same version is already published
palomino3Windows Server 2022 Datacenter / x64  OK    OK  
merida1macOS 12.7.1 Monterey / x86_64  OK    OK  
Package 12/30HostnameOS / ArchINSTALLBUILD
fluentGenomics 1.15.0  (landing page)
Stuart Lee
git_last_commit: 7e33ff6
git_last_commit_date: 2023-10-24 08:47:38 -0500
nebbiolo1Linux (Ubuntu 22.04.3 LTS) / x86_64  OK    OK  UNNEEDED, same version is already published
palomino3Windows Server 2022 Datacenter / x64  OK    OK  
merida1macOS 12.7.1 Monterey / x86_64  OK    OK  
Package 13/30HostnameOS / ArchINSTALLBUILD
generegulation 1.27.0  (landing page)
Bioconductor Package Maintainer
git_last_commit: 904258e
git_last_commit_date: 2023-10-24 08:46:43 -0500
nebbiolo1Linux (Ubuntu 22.04.3 LTS) / x86_64  OK    OK  UNNEEDED, same version is already published
palomino3Windows Server 2022 Datacenter / x64  OK    OK  
merida1macOS 12.7.1 Monterey / x86_64  OK    OK  
Package 14/30HostnameOS / ArchINSTALLBUILD
GeoMxWorkflows 1.9.0  (landing page)
Maddy Griswold
git_last_commit: 1271021
git_last_commit_date: 2023-10-24 08:47:47 -0500
nebbiolo1Linux (Ubuntu 22.04.3 LTS) / x86_64  OK    OK  UNNEEDED, same version is already published
palomino3Windows Server 2022 Datacenter / x64  OK    OK  
merida1macOS 12.7.1 Monterey / x86_64  OK    OK  
Package 15/30HostnameOS / ArchINSTALLBUILD
highthroughputassays 1.27.0  (landing page)
Bioconductor Package Maintainer
git_last_commit: 3e69056
git_last_commit_date: 2023-10-24 08:46:46 -0500
nebbiolo1Linux (Ubuntu 22.04.3 LTS) / x86_64  OK    OK  UNNEEDED, same version is already published
palomino3Windows Server 2022 Datacenter / x64... NOT SUPPORTED ...
merida1macOS 12.7.1 Monterey / x86_64... NOT SUPPORTED ...
Package 16/30HostnameOS / ArchINSTALLBUILD
liftOver 1.27.0  (landing page)
Bioconductor Package Maintainer
git_last_commit: 9652dd4
git_last_commit_date: 2023-10-24 08:46:48 -0500
nebbiolo1Linux (Ubuntu 22.04.3 LTS) / x86_64  OK    OK  UNNEEDED, same version is already published
palomino3Windows Server 2022 Datacenter / x64  OK    OK  
merida1macOS 12.7.1 Monterey / x86_64  OK    OK  
Package 17/30HostnameOS / ArchINSTALLBUILD
maEndToEnd 2.23.1  (landing page)
Stefanie Reisenauer
git_last_commit: 87b4804
git_last_commit_date: 2024-01-12 10:17:07 -0500
nebbiolo1Linux (Ubuntu 22.04.3 LTS) / x86_64  OK    ERROR  
palomino3Windows Server 2022 Datacenter / x64  OK    ERROR  
merida1macOS 12.7.1 Monterey / x86_64  OK    ERROR  
Package 18/30HostnameOS / ArchINSTALLBUILD
methylationArrayAnalysis 1.27.0  (landing page)
Jovana Maksimovic
git_last_commit: c19a5d1
git_last_commit_date: 2023-10-24 08:46:52 -0500
nebbiolo1Linux (Ubuntu 22.04.3 LTS) / x86_64  OK    OK  UNNEEDED, same version is already published
palomino3Windows Server 2022 Datacenter / x64  OK    OK  
merida1macOS 12.7.1 Monterey / x86_64  OK    OK  
Package 19/30HostnameOS / ArchINSTALLBUILD
recountWorkflow 1.27.0  (landing page)
Leonardo Collado-Torres
git_last_commit: 69c3264
git_last_commit_date: 2023-10-24 08:46:55 -0500
nebbiolo1Linux (Ubuntu 22.04.3 LTS) / x86_64  OK    ERROR  
palomino3Windows Server 2022 Datacenter / x64  OK    OK  
merida1macOS 12.7.1 Monterey / x86_64  OK    ERROR  
Package 20/30HostnameOS / ArchINSTALLBUILD
RNAseq123 1.27.0  (landing page)
Matthew Ritchie
git_last_commit: a05bf8c
git_last_commit_date: 2023-10-24 08:46:58 -0500
nebbiolo1Linux (Ubuntu 22.04.3 LTS) / x86_64  OK    OK  UNNEEDED, same version is already published
palomino3Windows Server 2022 Datacenter / x64  OK    OK  
merida1macOS 12.7.1 Monterey / x86_64  OK    OK  
Package 21/30HostnameOS / ArchINSTALLBUILD
rnaseqDTU 1.23.0  (landing page)
Michael Love
git_last_commit: 01096f9
git_last_commit_date: 2023-10-24 08:47:26 -0500
nebbiolo1Linux (Ubuntu 22.04.3 LTS) / x86_64  OK    OK  UNNEEDED, same version is already published
palomino3Windows Server 2022 Datacenter / x64  OK    OK  
merida1macOS 12.7.1 Monterey / x86_64  OK    OK  
Package 22/30HostnameOS / ArchINSTALLBUILD
rnaseqGene 1.27.2  (landing page)
Michael Love
git_last_commit: d81d03d
git_last_commit_date: 2023-11-14 08:37:55 -0500
nebbiolo1Linux (Ubuntu 22.04.3 LTS) / x86_64  OK    OK  UNNEEDED, same version is already published
palomino3Windows Server 2022 Datacenter / x64  OK    OK  
merida1macOS 12.7.1 Monterey / x86_64  OK    OK  
Package 23/30HostnameOS / ArchINSTALLBUILD
RnaSeqGeneEdgeRQL 1.27.0  (landing page)
Yunshun Chen
git_last_commit: 80b6a67
git_last_commit_date: 2023-10-30 23:02:53 -0500
nebbiolo1Linux (Ubuntu 22.04.3 LTS) / x86_64  OK    OK  UNNEEDED, same version is already published
palomino3Windows Server 2022 Datacenter / x64  OK    OK  
merida1macOS 12.7.1 Monterey / x86_64  OK    OK  
Package 24/30HostnameOS / ArchINSTALLBUILD
seqpac 1.3.0  (landing page)
Daniel Natt
git_last_commit: 7f38d5f
git_last_commit_date: 2023-10-24 08:47:50 -0500
nebbiolo1Linux (Ubuntu 22.04.3 LTS) / x86_64  OK    OK  UNNEEDED, same version is already published
palomino3Windows Server 2022 Datacenter / x64  OK    OK  
merida1macOS 12.7.1 Monterey / x86_64  OK    OK  
Package 25/30HostnameOS / ArchINSTALLBUILD
sequencing 1.27.0  (landing page)
Bioconductor Package Maintainer
git_last_commit: 92dc034
git_last_commit_date: 2023-10-24 08:47:06 -0500
nebbiolo1Linux (Ubuntu 22.04.3 LTS) / x86_64  OK    OK  UNNEEDED, same version is already published
palomino3Windows Server 2022 Datacenter / x64  OK    OK  
merida1macOS 12.7.1 Monterey / x86_64  OK    OK  
Package 26/30HostnameOS / ArchINSTALLBUILD
simpleSingleCell 1.27.0  (landing page)
Aaron Lun
git_last_commit: 1667d49
git_last_commit_date: 2023-10-24 08:47:10 -0500
nebbiolo1Linux (Ubuntu 22.04.3 LTS) / x86_64  OK    OK  UNNEEDED, same version is already published
palomino3Windows Server 2022 Datacenter / x64... NOT SUPPORTED ...
merida1macOS 12.7.1 Monterey / x86_64  OK    OK  
Package 27/30HostnameOS / ArchINSTALLBUILD
SingscoreAMLMutations 1.19.0  (landing page)
Dharmesh D. Bhuva
git_last_commit: ce75207
git_last_commit_date: 2023-10-24 08:47:32 -0500
nebbiolo1Linux (Ubuntu 22.04.3 LTS) / x86_64  OK    OK  UNNEEDED, same version is already published
palomino3Windows Server 2022 Datacenter / x64  OK    OK  
merida1macOS 12.7.1 Monterey / x86_64  OK    OK  
Package 28/30HostnameOS / ArchINSTALLBUILD
spicyWorkflow 1.3.1  (landing page)
SOMS Maintainer
git_last_commit: 5ed0df8
git_last_commit_date: 2024-01-23 23:45:48 -0500
nebbiolo1Linux (Ubuntu 22.04.3 LTS) / x86_64  OK    OK  UNNEEDED, same version is already published
palomino3Windows Server 2022 Datacenter / x64  OK    ERROR  
merida1macOS 12.7.1 Monterey / x86_64  OK    ERROR  
Package 29/30HostnameOS / ArchINSTALLBUILD
TCGAWorkflow 1.27.0  (landing page)
Tiago Chedraoui Silva
git_last_commit: ed4c670
git_last_commit_date: 2023-10-24 08:47:14 -0500
nebbiolo1Linux (Ubuntu 22.04.3 LTS) / x86_64  OK    OK  UNNEEDED, same version is already published
palomino3Windows Server 2022 Datacenter / x64  OK    OK  
merida1macOS 12.7.1 Monterey / x86_64  OK    OK  
Package 30/30HostnameOS / ArchINSTALLBUILD
variants 1.27.0  (landing page)
Bioconductor Package Maintainer
git_last_commit: 2312cd9
git_last_commit_date: 2023-10-24 08:47:18 -0500
nebbiolo1Linux (Ubuntu 22.04.3 LTS) / x86_64  OK    OK  UNNEEDED, same version is already published
palomino3Windows Server 2022 Datacenter / x64  OK    OK  
merida1macOS 12.7.1 Monterey / x86_64  OK    OK