Back to Workflows build report for BioC 3.17

This page was generated on 2022-11-08 14:00:11 -0500 (Tue, 08 Nov 2022).

HostnameOSArch (*)R versionInstalled pkgs
nebbiolo1Linux (Ubuntu 20.04.5 LTS)x86_64R Under development (unstable) (2022-10-25 r83175) -- "Unsuffered Consequences" 4446
Click on any hostname to see more info about the system (e.g. compilers)      (*) as reported by 'uname -p', except on Windows and Mac OS X

All results for package SingscoreAMLMutations


To the developers/maintainers of the SingscoreAMLMutations package:
Make sure to use the following settings in order to reproduce any error or warning you see on this page.

raw results

Package 26/28HostnameOS / ArchINSTALLBUILD
SingscoreAMLMutations 1.15.0  (landing page)
Dharmesh D. Bhuva
Snapshot Date: 2022-11-08 07:45:01 -0500 (Tue, 08 Nov 2022)
git_url: https://git.bioconductor.org/packages/SingscoreAMLMutations
git_branch: master
git_last_commit: e7ffa9f
git_last_commit_date: 2022-11-01 10:34:46 -0500 (Tue, 01 Nov 2022)
nebbiolo1Linux (Ubuntu 20.04.5 LTS) / x86_64  OK    OK  NO, package depends on 'TCGAbiolinks' which is not available