Back to Workflows build report for BioC 3.16

This page was generated on 2022-05-13 21:00:08 -0400 (Fri, 13 May 2022).

HostnameOSArch (*)R versionInstalled pkgs
nebbiolo2Linux (Ubuntu 20.04.4 LTS)x86_644.2.0 RC (2022-04-21 r82226) -- "Vigorous Calisthenics" 4350
Click on any hostname to see more info about the system (e.g. compilers)      (*) as reported by 'uname -p', except on Windows and Mac OS X

All results for package highthroughputassays


To the developers/maintainers of the highthroughputassays package:
Make sure to use the following settings in order to reproduce any error or warning you see on this page.

raw results

Package 15/28HostnameOS / ArchINSTALLBUILD
highthroughputassays 1.21.0  (landing page)
Bioconductor Package Maintainer
Snapshot Date: 2022-05-13 14:45:01 -0400 (Fri, 13 May 2022)
git_url: https://git.bioconductor.org/packages/highthroughputassays
git_branch: master
git_last_commit: 659d172
git_last_commit_date: 2022-04-26 12:40:35 -0400 (Tue, 26 Apr 2022)
nebbiolo2Linux (Ubuntu 20.04.4 LTS) / x86_64  OK    OK  YES