Back to Workflows build report for BioC 3.19 |
This page was generated on 2024-04-30 14:00:12 -0400 (Tue, 30 Apr 2024).
Hostname | OS | Arch (*) | R version | Installed pkgs |
---|---|---|---|---|
nebbiolo1 | Linux (Ubuntu 22.04.3 LTS) | x86_64 | 4.4.0 beta (2024-04-15 r86425) -- "Puppy Cup" | 4752 |
palomino3 | Windows Server 2022 Datacenter | x64 | 4.4.0 beta (2024-04-15 r86425 ucrt) -- "Puppy Cup" | 4486 |
lconway | macOS 12.7.1 Monterey | x86_64 | 4.4.0 beta (2024-04-14 r86421) -- "Puppy Cup" | 4518 |
Click on any hostname to see more info about the system (e.g. compilers) (*) as reported by 'uname -p', except on Windows and Mac OS X |
To the developers/maintainers of the BiocMetaWorkflow package: - Use the following Renviron settings to reproduce errors and warnings. - If 'R CMD check' started to fail recently on the Linux builder(s) over a missing dependency, add the missing dependency to 'Suggests:' in your DESCRIPTION file. See Renviron.bioc for more information. |
Package 3/30 | Hostname | OS / Arch | INSTALL | BUILD | ||||||||
BiocMetaWorkflow 1.25.0 (landing page) Mike Smith
| nebbiolo1 | Linux (Ubuntu 22.04.3 LTS) / x86_64 | OK | OK | ||||||||
palomino3 | Windows Server 2022 Datacenter / x64 | OK | OK | |||||||||
lconway | macOS 12.7.1 Monterey / x86_64 | OK | OK | |||||||||