Back to Workflows build report for BioC 3.18

This page was generated on 2023-09-22 14:00:11 -0400 (Fri, 22 Sep 2023).

HostnameOSArch (*)R versionInstalled pkgs
nebbiolo2Linux (Ubuntu 22.04.2 LTS)x86_644.3.1 (2023-06-16) -- "Beagle Scouts" 4659
palomino4Windows Server 2022 Datacenterx644.3.1 (2023-06-16 ucrt) -- "Beagle Scouts" 4394
lconwaymacOS 12.6.5 Montereyx86_644.3.1 Patched (2023-06-17 r84564) -- "Beagle Scouts" 4408
Click on any hostname to see more info about the system (e.g. compilers)      (*) as reported by 'uname -p', except on Windows and Mac OS X

Package 29/30HostnameOS / ArchINSTALLBUILD
TCGAWorkflow 1.25.2  (landing page)
Tiago Chedraoui Silva
Snapshot Date: 2023-09-22 10:45:01 -0400 (Fri, 22 Sep 2023)
git_url: https://git.bioconductor.org/packages/TCGAWorkflow
git_branch: devel
git_last_commit: 65076b9
git_last_commit_date: 2023-06-30 10:57:27 -0400 (Fri, 30 Jun 2023)
nebbiolo2Linux (Ubuntu 22.04.2 LTS) / x86_64  OK    OK  UNNEEDED, same version is already published
palomino4Windows Server 2022 Datacenter / x64  OK    OK  
lconwaymacOS 12.6.5 Monterey / x86_64  OK    ERROR  

BUILD results for TCGAWorkflow on lconway


To the developers/maintainers of the TCGAWorkflow package:
- Use the following Renviron settings to reproduce errors and warnings.
- If 'R CMD check' started to fail recently on the Linux builder(s) over a missing dependency, add the missing dependency to 'Suggests:' in your DESCRIPTION file. See Renviron.bioc for more information.

raw results


Summary

Package: TCGAWorkflow
Version: 1.25.2
Command: /Library/Frameworks/R.framework/Resources/bin/R CMD build --keep-empty-dirs --no-resave-data TCGAWorkflow
StartedAt: 2023-09-22 11:05:47 -0400 (Fri, 22 Sep 2023)
EndedAt: 2023-09-22 11:12:57 -0400 (Fri, 22 Sep 2023)
EllapsedTime: 429.8 seconds
RetCode: 1
Status:   ERROR  
PackageFile: None
PackageFileSize: NA

Command output

##############################################################################
##############################################################################
###
### Running command:
###
###   /Library/Frameworks/R.framework/Resources/bin/R CMD build --keep-empty-dirs --no-resave-data TCGAWorkflow
###
##############################################################################
##############################################################################


* checking for file ‘TCGAWorkflow/DESCRIPTION’ ... OK
* preparing ‘TCGAWorkflow’:
* checking DESCRIPTION meta-information ... OK
* installing the package to build vignettes
* creating vignettes ...sh: line 1: 40060 Segmentation fault: 11  '/Library/Frameworks/R.framework/Resources/bin/Rscript' --vanilla --default-packages= -e "tools::buildVignettes(dir = '.', tangle = TRUE)" > '/tmp/RtmpNnnrNg/xshell98c12b9ff4b0' 2>&1
 ERROR
--- re-building ‘TCGAWorkflow.Rmd’ using rmarkdown
2023-09-22 11:12:48.322 R[40060:1332693704] XType: com.apple.fonts is not accessible.
2023-09-22 11:12:48.323 R[40060:1332693704] XType: XTFontStaticRegistry is enabled.

 *** caught segfault ***
address 0xfffffffd179711c0, cause 'memory not mapped'

Traceback:
 1: GADEM(sequence, verbose = FALSE, genome = Hsapiens)
 2: eval(expr, envir, enclos)
 3: eval(expr, envir, enclos)
 4: eval_with_user_handlers(expr, envir, enclos, user_handlers)
 5: withVisible(eval_with_user_handlers(expr, envir, enclos, user_handlers))
 6: withCallingHandlers(withVisible(eval_with_user_handlers(expr,     envir, enclos, user_handlers)), warning = wHandler, error = eHandler,     message = mHandler)
 7: handle(ev <- withCallingHandlers(withVisible(eval_with_user_handlers(expr,     envir, enclos, user_handlers)), warning = wHandler, error = eHandler,     message = mHandler))
 8: timing_fn(handle(ev <- withCallingHandlers(withVisible(eval_with_user_handlers(expr,     envir, enclos, user_handlers)), warning = wHandler, error = eHandler,     message = mHandler)))
 9: evaluate_call(expr, parsed$src[[i]], envir = envir, enclos = enclos,     debug = debug, last = i == length(out), use_try = stop_on_error !=         2L, keep_warning = keep_warning, keep_message = keep_message,     log_echo = log_echo, log_warning = log_warning, output_handler = output_handler,     include_timing = include_timing)
10: evaluate::evaluate(...)
11: evaluate(code, envir = env, new_device = FALSE, keep_warning = if (is.numeric(options$warning)) TRUE else options$warning,     keep_message = if (is.numeric(options$message)) TRUE else options$message,     stop_on_error = if (is.numeric(options$error)) options$error else {        if (options$error && options$include)             0L        else 2L    }, output_handler = knit_handlers(options$render, options))
12: in_dir(input_dir(), expr)
13: in_input_dir(evaluate(code, envir = env, new_device = FALSE,     keep_warning = if (is.numeric(options$warning)) TRUE else options$warning,     keep_message = if (is.numeric(options$message)) TRUE else options$message,     stop_on_error = if (is.numeric(options$error)) options$error else {        if (options$error && options$include)             0L        else 2L    }, output_handler = knit_handlers(options$render, options)))
14: eng_r(options)
15: block_exec(params)
16: call_block(x)
17: process_group.block(group)
18: process_group(group)
19: withCallingHandlers(if (tangle) process_tangle(group) else process_group(group),     error = function(e) if (xfun::pkg_available("rlang", "1.0.0")) rlang::entrace(e))
20: withCallingHandlers(withCallingHandlers(if (tangle) process_tangle(group) else process_group(group),     error = function(e) if (xfun::pkg_available("rlang", "1.0.0")) rlang::entrace(e)),     error = function(e) {        setwd(wd)        write_utf8(res, output %n% stdout())        message("\nQuitting from lines ", paste(current_lines(i),             collapse = "-"), if (labels[i] != "")             sprintf(" [%s]", labels[i]), sprintf(" (%s)", knit_concord$get("infile")))    })
21: process_file(text, output)
22: knitr::knit(knit_input, knit_output, envir = envir, quiet = quiet)
23: rmarkdown::render(file, encoding = encoding, quiet = quiet, envir = globalenv(),     output_dir = getwd(), ...)
24: vweave_rmarkdown(...)
25: engine$weave(file, quiet = quiet, encoding = enc)
26: doTryCatch(return(expr), name, parentenv, handler)
27: tryCatchOne(expr, names, parentenv, handlers[[1L]])
28: tryCatchList(expr, classes, parentenv, handlers)
29: tryCatch({    engine$weave(file, quiet = quiet, encoding = enc)    setwd(startdir)    output <- find_vignette_product(name, by = "weave", engine = engine)    if (!have.makefile && vignette_is_tex(output)) {        texi2pdf(file = output, clean = FALSE, quiet = quiet)        output <- find_vignette_product(name, by = "texi2pdf",             engine = engine)    }    outputs <- c(outputs, output)}, error = function(e) {    thisOK <<- FALSE    fails <<- c(fails, file)    message(gettextf("Error: processing vignette '%s' failed with diagnostics:\n%s",         file, conditionMessage(e)))})
30: tools::buildVignettes(dir = ".", tangle = TRUE)
An irrecoverable exception occurred. R is aborting now ...