Back to Workflows build report for BioC 3.17

This page was generated on 2022-11-08 14:00:11 -0500 (Tue, 08 Nov 2022).

HostnameOSArch (*)R versionInstalled pkgs
nebbiolo1Linux (Ubuntu 20.04.5 LTS)x86_64R Under development (unstable) (2022-10-25 r83175) -- "Unsuffered Consequences" 4446
Click on any hostname to see more info about the system (e.g. compilers)      (*) as reported by 'uname -p', except on Windows and Mac OS X

All results for package TCGAWorkflow


To the developers/maintainers of the TCGAWorkflow package:
Make sure to use the following settings in order to reproduce any error or warning you see on this page.

raw results

Package 27/28HostnameOS / ArchINSTALLBUILD
TCGAWorkflow 1.23.0  (landing page)
Tiago Chedraoui Silva
Snapshot Date: 2022-11-08 07:45:01 -0500 (Tue, 08 Nov 2022)
git_url: https://git.bioconductor.org/packages/TCGAWorkflow
git_branch: master
git_last_commit: 3badd78
git_last_commit_date: 2022-11-01 10:34:22 -0500 (Tue, 01 Nov 2022)
nebbiolo1Linux (Ubuntu 20.04.5 LTS) / x86_64  OK    OK  NO, package depends on 'ELMER' which is not available