Back to Workflows build report for BioC 3.19

This page was generated on 2024-02-27 14:00:11 -0500 (Tue, 27 Feb 2024).

HostnameOSArch (*)R versionInstalled pkgs
nebbiolo1Linux (Ubuntu 22.04.3 LTS)x86_64R Under development (unstable) (2024-01-16 r85808) -- "Unsuffered Consequences" 4671
palomino3Windows Server 2022 Datacenterx64R Under development (unstable) (2024-01-14 r85805 ucrt) -- "Unsuffered Consequences" 4411
merida1macOS 12.7.1 Montereyx86_64R Under development (unstable) (2024-01-16 r85808) -- "Unsuffered Consequences" 4438
Click on any hostname to see more info about the system (e.g. compilers)      (*) as reported by 'uname -p', except on Windows and Mac OS X

All results for package rnaseqGene


To the developers/maintainers of the rnaseqGene package:
- Use the following Renviron settings to reproduce errors and warnings.
- If 'R CMD check' started to fail recently on the Linux builder(s) over a missing dependency, add the missing dependency to 'Suggests:' in your DESCRIPTION file. See Renviron.bioc for more information.

raw results

Package 22/30HostnameOS / ArchINSTALLBUILD
rnaseqGene 1.27.2  (landing page)
Michael Love
Snapshot Date: 2024-02-27 07:45:01 -0500 (Tue, 27 Feb 2024)
git_url: https://git.bioconductor.org/packages/rnaseqGene
git_branch: devel
git_last_commit: d81d03d
git_last_commit_date: 2023-11-14 08:37:55 -0500 (Tue, 14 Nov 2023)
nebbiolo1Linux (Ubuntu 22.04.3 LTS) / x86_64  OK    OK  UNNEEDED, same version is already published
palomino3Windows Server 2022 Datacenter / x64  OK    OK  
merida1macOS 12.7.1 Monterey / x86_64  OK    OK