Back to Workflows build report for BioC 3.18 |
This page was generated on 2023-09-29 14:00:12 -0400 (Fri, 29 Sep 2023).
Hostname | OS | Arch (*) | R version | Installed pkgs |
---|---|---|---|---|
nebbiolo2 | Linux (Ubuntu 22.04.2 LTS) | x86_64 | 4.3.1 (2023-06-16) -- "Beagle Scouts" | 4660 |
palomino4 | Windows Server 2022 Datacenter | x64 | 4.3.1 (2023-06-16 ucrt) -- "Beagle Scouts" | 4395 |
lconway | macOS 12.6.5 Monterey | x86_64 | 4.3.1 Patched (2023-06-17 r84564) -- "Beagle Scouts" | 4415 |
Click on any hostname to see more info about the system (e.g. compilers) (*) as reported by 'uname -p', except on Windows and Mac OS X |
To the developers/maintainers of the BP4RNAseq package: - Use the following Renviron settings to reproduce errors and warnings. - If 'R CMD check' started to fail recently on the Linux builder(s) over a missing dependency, add the missing dependency to 'Suggests:' in your DESCRIPTION file. See Renviron.bioc for more information. |
Package 4/30 | Hostname | OS / Arch | INSTALL | BUILD | ||||||||
BP4RNAseq 1.11.0 (landing page) Shanwen Sun
| nebbiolo2 | Linux (Ubuntu 22.04.2 LTS) / x86_64 | OK | OK | ![]() | |||||||
palomino4 | Windows Server 2022 Datacenter / x64 | OK | OK | |||||||||
lconway | macOS 12.6.5 Monterey / x86_64 | OK | OK | |||||||||