Back to Workflows build report for BioC 3.19

This page was generated on 2023-12-08 14:00:09 -0500 (Fri, 08 Dec 2023).

HostnameOSArch (*)R versionInstalled pkgs
nebbiolo1Linux (Ubuntu 22.04.2 LTS)x86_64R Under development (unstable) (2023-11-11 r85510) -- "Unsuffered Consequences" 4617
palomino3Windows Server 2022 Datacenterx64R Under development (unstable) (2023-11-14 r85524 ucrt) -- "Unsuffered Consequences" 4377
merida1macOS 12.7.1 Montereyx86_64R Under development (unstable) (2023-11-11 r85510) -- "Unsuffered Consequences" 4386
Click on any hostname to see more info about the system (e.g. compilers)      (*) as reported by 'uname -p', except on Windows and Mac OS X

All results for package GeoMxWorkflows


To the developers/maintainers of the GeoMxWorkflows package:
- Use the following Renviron settings to reproduce errors and warnings.
- If 'R CMD check' started to fail recently on the Linux builder(s) over a missing dependency, add the missing dependency to 'Suggests:' in your DESCRIPTION file. See Renviron.bioc for more information.

raw results

Package 14/30HostnameOS / ArchINSTALLBUILD
GeoMxWorkflows 1.9.0  (landing page)
Maddy Griswold
Snapshot Date: 2023-12-08 07:45:01 -0500 (Fri, 08 Dec 2023)
git_url: https://git.bioconductor.org/packages/GeoMxWorkflows
git_branch: devel
git_last_commit: 1271021
git_last_commit_date: 2023-10-24 08:47:47 -0500 (Tue, 24 Oct 2023)
nebbiolo1Linux (Ubuntu 22.04.2 LTS) / x86_64  OK    OK  UNNEEDED, same version is already published
palomino3Windows Server 2022 Datacenter / x64  OK    OK  
merida1macOS 12.7.1 Monterey / x86_64  OK    OK