Back to Workflows build report for BioC 3.16

This page was generated on 2022-06-24 21:00:06 -0400 (Fri, 24 Jun 2022).

HostnameOSArch (*)R versionInstalled pkgs
nebbiolo2Linux (Ubuntu 20.04.4 LTS)x86_644.2.0 Patched (2022-06-02 r82447) -- "Vigorous Calisthenics" 4326
palomino4Windows Server 2022 Datacenterx644.2.0 Patched (2022-06-02 r82447 ucrt) -- "Vigorous Calisthenics" 4136
lconwaymacOS 12.2.1 Montereyx86_644.2.0 Patched (2022-05-29 r82424) -- "Vigorous Calisthenics" 4147
Click on any hostname to see more info about the system (e.g. compilers)      (*) as reported by 'uname -p', except on Windows and Mac OS X

INSTALL results for GeoMxWorkflows on nebbiolo2


To the developers/maintainers of the GeoMxWorkflows package:
Make sure to use the following settings in order to reproduce any error or warning you see on this page.

raw results

Package 14/28HostnameOS / ArchINSTALLBUILD
GeoMxWorkflows 1.3.0  (landing page)
Jason Reeves
Snapshot Date: 2022-06-24 14:45:01 -0400 (Fri, 24 Jun 2022)
git_url: https://git.bioconductor.org/packages/GeoMxWorkflows
git_branch: master
git_last_commit: 1ee1bda
git_last_commit_date: 2022-04-26 12:41:40 -0400 (Tue, 26 Apr 2022)
nebbiolo2Linux (Ubuntu 20.04.4 LTS) / x86_64  OK    OK  UNNEEDED, same version is already published
palomino4Windows Server 2022 Datacenter / x64  OK    OK  
lconwaymacOS 12.2.1 Monterey / x86_64  OK    OK  

Summary

Package: GeoMxWorkflows
Version: 1.3.0
Command: /home/biocbuild/bbs-3.16-bioc/R/bin/R CMD INSTALL GeoMxWorkflows
StartedAt: 2022-06-24 15:00:07 -0400 (Fri, 24 Jun 2022)
EndedAt: 2022-06-24 15:00:22 -0400 (Fri, 24 Jun 2022)
EllapsedTime: 15.1 seconds
RetCode: 0
Status:   OK  

Command output

##############################################################################
##############################################################################
###
### Running command:
###
###   /home/biocbuild/bbs-3.16-bioc/R/bin/R CMD INSTALL GeoMxWorkflows
###
##############################################################################
##############################################################################


* installing to library ‘/home/biocbuild/bbs-3.16-bioc/R/library’
* installing *source* package ‘GeoMxWorkflows’ ...
** using staged installation
** inst
** help
No man pages found in package  ‘GeoMxWorkflows’ 
*** installing help indices
** building package indices
** installing vignettes
** testing if installed package can be loaded from temporary location
** testing if installed package can be loaded from final location
** testing if installed package keeps a record of temporary installation path
* DONE (GeoMxWorkflows)