Back to Workflows build report for BioC 3.17

This page was generated on 2023-03-21 14:00:11 -0400 (Tue, 21 Mar 2023).

HostnameOSArch (*)R versionInstalled pkgs
nebbiolo1Linux (Ubuntu 22.04.1 LTS)x86_64R Under development (unstable) (2023-03-16 r83996) -- "Unsuffered Consequences" 4346
palomino3Windows Server 2022 Datacenterx64R Under development (unstable) (2023-03-15 r83984 ucrt) -- "Unsuffered Consequences" 4290
merida1macOS 10.14.6 Mojavex86_64R Under development (unstable) (2023-03-16 r83985) -- "Unsuffered Consequences" 4288
Click on any hostname to see more info about the system (e.g. compilers)      (*) as reported by 'uname -p', except on Windows and Mac OS X

All results for package rnaseqDTU


To the developers/maintainers of the rnaseqDTU package:
Make sure to use the following settings in order to reproduce any error or warning you see on this page.

raw results

Package 21/29HostnameOS / ArchINSTALLBUILD
rnaseqDTU 1.19.0  (landing page)
Michael Love
Snapshot Date: 2023-03-21 07:45:01 -0400 (Tue, 21 Mar 2023)
git_url: https://git.bioconductor.org/packages/rnaseqDTU
git_branch: master
git_last_commit: fef35e9
git_last_commit_date: 2022-11-01 10:34:38 -0400 (Tue, 01 Nov 2022)
nebbiolo1Linux (Ubuntu 22.04.1 LTS) / x86_64  OK    OK  UNNEEDED, same version is already published
palomino3Windows Server 2022 Datacenter / x64  OK    OK  
merida1macOS 10.14.6 Mojave / x86_64  OK    OK