Back to Workflows build report for BioC 3.14

This page was generated on 2021-10-12 15:00:09 -0400 (Tue, 12 Oct 2021).

All results for package recountWorkflow

To the developers/maintainers of the recountWorkflow package:
Make sure to use the following settings in order to reproduce any error or warning you see on this page.

raw results

Package 19/28HostnameOS / ArchINSTALLBUILD
recountWorkflow 1.17.1  (landing page)
Leonardo Collado-Torres
Snapshot Date: 2021-10-12 08:50:02 -0400 (Tue, 12 Oct 2021)
git_url: https://git.bioconductor.org/packages/recountWorkflow
git_branch: master
git_last_commit: e2cdd31
git_last_commit_date: 2021-08-09 20:17:12 -0400 (Mon, 09 Aug 2021)
nebbiolo2Linux (Ubuntu 20.04.2 LTS) / x86_64  OK    OK  UNNEEDED, same version is already published
riesling1Windows Server 2019 Standard / x64  OK    OK  
merida1macOS 10.14.6 Mojave / x86_64  OK    OK