Back to Workflows build report for BioC 3.16

This page was generated on 2022-07-01 21:00:07 -0400 (Fri, 01 Jul 2022).

HostnameOSArch (*)R versionInstalled pkgs
nebbiolo2Linux (Ubuntu 20.04.4 LTS)x86_644.2.0 Patched (2022-06-02 r82447) -- "Vigorous Calisthenics" 4343
palomino4Windows Server 2022 Datacenterx644.2.0 Patched (2022-06-02 r82447 ucrt) -- "Vigorous Calisthenics" 4147
lconwaymacOS 12.2.1 Montereyx86_644.2.0 Patched (2022-05-29 r82424) -- "Vigorous Calisthenics" 4159
Click on any hostname to see more info about the system (e.g. compilers)      (*) as reported by 'uname -p', except on Windows and Mac OS X

INSTALL results for highthroughputassays on nebbiolo2


To the developers/maintainers of the highthroughputassays package:
Make sure to use the following settings in order to reproduce any error or warning you see on this page.

raw results

Package 15/28HostnameOS / ArchINSTALLBUILD
highthroughputassays 1.21.0  (landing page)
Bioconductor Package Maintainer
Snapshot Date: 2022-07-01 14:45:01 -0400 (Fri, 01 Jul 2022)
git_url: https://git.bioconductor.org/packages/highthroughputassays
git_branch: master
git_last_commit: 659d172
git_last_commit_date: 2022-04-26 12:40:35 -0400 (Tue, 26 Apr 2022)
nebbiolo2Linux (Ubuntu 20.04.4 LTS) / x86_64  OK    OK  UNNEEDED, same version is already published
palomino4Windows Server 2022 Datacenter / x64... NOT SUPPORTED ...
lconwaymacOS 12.2.1 Monterey / x86_64... NOT SUPPORTED ...

Summary

Package: highthroughputassays
Version: 1.21.0
Command: /home/biocbuild/bbs-3.16-bioc/R/bin/R CMD INSTALL highthroughputassays
StartedAt: 2022-07-01 15:00:07 -0400 (Fri, 01 Jul 2022)
EndedAt: 2022-07-01 15:00:18 -0400 (Fri, 01 Jul 2022)
EllapsedTime: 10.6 seconds
RetCode: 0
Status:   OK  

Command output

##############################################################################
##############################################################################
###
### Running command:
###
###   /home/biocbuild/bbs-3.16-bioc/R/bin/R CMD INSTALL highthroughputassays
###
##############################################################################
##############################################################################


* installing to library ‘/home/biocbuild/bbs-3.16-bioc/R/library’
* installing *source* package ‘highthroughputassays’ ...
** using staged installation
** help
No man pages found in package  ‘highthroughputassays’ 
*** installing help indices
** building package indices
** installing vignettes
** testing if installed package can be loaded from temporary location
Warning: replacing previous import ‘flowViz::contour’ by ‘graphics::contour’ when loading ‘flowStats’
** testing if installed package can be loaded from final location
Warning: replacing previous import ‘flowViz::contour’ by ‘graphics::contour’ when loading ‘flowStats’
** testing if installed package keeps a record of temporary installation path
* DONE (highthroughputassays)