Back to Workflows build report for BioC 3.15

This page was generated on 2021-11-26 15:00:09 -0500 (Fri, 26 Nov 2021).

All results for package annotation

To the developers/maintainers of the annotation package:
Make sure to use the following settings in order to reproduce any error or warning you see on this page.

raw results

Package 1/29HostnameOS / ArchINSTALLBUILD
annotation 1.19.0  (landing page)
Bioconductor Package Maintainer
Snapshot Date: 2021-11-26 08:50:01 -0500 (Fri, 26 Nov 2021)
git_url: https://git.bioconductor.org/packages/annotation
git_branch: master
git_last_commit: 79bf127
git_last_commit_date: 2021-10-26 11:15:04 -0500 (Tue, 26 Oct 2021)
nebbiolo1Linux (Ubuntu 20.04.3 LTS) / x86_64  OK    OK  UNNEEDED, same version is already published
merida1macOS 10.14.6 Mojave / x86_64  OK    OK