Back to Workflows build report for BioC 3.16

This page was generated on 2022-06-24 21:00:06 -0400 (Fri, 24 Jun 2022).

HostnameOSArch (*)R versionInstalled pkgs
nebbiolo2Linux (Ubuntu 20.04.4 LTS)x86_644.2.0 Patched (2022-06-02 r82447) -- "Vigorous Calisthenics" 4326
palomino4Windows Server 2022 Datacenterx644.2.0 Patched (2022-06-02 r82447 ucrt) -- "Vigorous Calisthenics" 4136
lconwaymacOS 12.2.1 Montereyx86_644.2.0 Patched (2022-05-29 r82424) -- "Vigorous Calisthenics" 4147
Click on any hostname to see more info about the system (e.g. compilers)      (*) as reported by 'uname -p', except on Windows and Mac OS X

BUILD results for GeoMxWorkflows on nebbiolo2


To the developers/maintainers of the GeoMxWorkflows package:
Make sure to use the following settings in order to reproduce any error or warning you see on this page.

raw results

Package 14/28HostnameOS / ArchINSTALLBUILD
GeoMxWorkflows 1.3.0  (landing page)
Jason Reeves
Snapshot Date: 2022-06-24 14:45:01 -0400 (Fri, 24 Jun 2022)
git_url: https://git.bioconductor.org/packages/GeoMxWorkflows
git_branch: master
git_last_commit: 1ee1bda
git_last_commit_date: 2022-04-26 12:41:40 -0400 (Tue, 26 Apr 2022)
nebbiolo2Linux (Ubuntu 20.04.4 LTS) / x86_64  OK    OK  UNNEEDED, same version is already published
palomino4Windows Server 2022 Datacenter / x64  OK    OK  
lconwaymacOS 12.2.1 Monterey / x86_64  OK    OK  

Summary

Package: GeoMxWorkflows
Version: 1.3.0
Command: /home/biocbuild/bbs-3.16-bioc/R/bin/R CMD build --keep-empty-dirs --no-resave-data GeoMxWorkflows
StartedAt: 2022-06-24 15:02:32 -0400 (Fri, 24 Jun 2022)
EndedAt: 2022-06-24 15:23:31 -0400 (Fri, 24 Jun 2022)
EllapsedTime: 1259.2 seconds
RetCode: 0
Status:   OK  
PackageFile: GeoMxWorkflows_1.3.0.tar.gz
PackageFileSize: 22.55 MiB

Command output

##############################################################################
##############################################################################
###
### Running command:
###
###   /home/biocbuild/bbs-3.16-bioc/R/bin/R CMD build --keep-empty-dirs --no-resave-data GeoMxWorkflows
###
##############################################################################
##############################################################################


* checking for file ‘GeoMxWorkflows/DESCRIPTION’ ... OK
* preparing ‘GeoMxWorkflows’:
* checking DESCRIPTION meta-information ... OK
* installing the package to build vignettes
* creating vignettes ... OK
* checking for LF line-endings in source and make files and shell scripts
* checking for empty or unneeded directories
* building ‘GeoMxWorkflows_1.3.0.tar.gz’