Back to Multiple platform build/check report for BioC 3.19:   simplified   long
ABCDEFGHIJKLMNOPQR[S]TUVWXYZ

This page was generated on 2024-02-22 12:48:56 -0500 (Thu, 22 Feb 2024).

HostnameOSArch (*)R versionInstalled pkgs
nebbiolo1Linux (Ubuntu 22.04.3 LTS)x86_64R Under development (unstable) (2024-01-16 r85808) -- "Unsuffered Consequences" 4657
palomino3Windows Server 2022 Datacenterx64R Under development (unstable) (2024-01-14 r85805 ucrt) -- "Unsuffered Consequences" 4397
Click on any hostname to see more info about the system (e.g. compilers)      (*) as reported by 'uname -p', except on Windows and Mac OS X

Package 2070/2244HostnameOS / ArchINSTALLBUILDCHECKBUILD BIN
synapter 2.27.0  (landing page)
Laurent Gatto
Snapshot Date: 2024-02-21 14:10:10 -0500 (Wed, 21 Feb 2024)
git_url: https://git.bioconductor.org/packages/synapter
git_branch: devel
git_last_commit: 155650a
git_last_commit_date: 2023-10-24 09:50:36 -0500 (Tue, 24 Oct 2023)
nebbiolo1Linux (Ubuntu 22.04.3 LTS) / x86_64  OK    OK    OK  UNNEEDED, same version is already published
palomino3Windows Server 2022 Datacenter / x64  OK    OK    OK    OK  UNNEEDED, same version is already published

BUILD BIN results for synapter on palomino3


To the developers/maintainers of the synapter package:
- Allow up to 24 hours (and sometimes 48 hours) for your latest push to git@git.bioconductor.org:packages/synapter.git to reflect on this report. See Troubleshooting Build Report for more information.
- Use the following Renviron settings to reproduce errors and warnings.
- If 'R CMD check' started to fail recently on the Linux builder(s) over a missing dependency, add the missing dependency to 'Suggests:' in your DESCRIPTION file. See Renviron.bioc for more information.

raw results


Summary

Package: synapter
Version: 2.27.0
Command: rm -rf synapter.buildbin-libdir && mkdir synapter.buildbin-libdir && F:\biocbuild\bbs-3.19-bioc\R\bin\R.exe CMD INSTALL --build --library=synapter.buildbin-libdir synapter_2.27.0.tar.gz
StartedAt: 2024-02-22 11:01:23 -0500 (Thu, 22 Feb 2024)
EndedAt: 2024-02-22 11:02:48 -0500 (Thu, 22 Feb 2024)
EllapsedTime: 85.0 seconds
RetCode: 0
Status:   OK  
PackageFile: synapter_2.27.0.zip
PackageFileSize: 3.631 MiB

Command output

##############################################################################
##############################################################################
###
### Running command:
###
###   rm -rf synapter.buildbin-libdir && mkdir synapter.buildbin-libdir && F:\biocbuild\bbs-3.19-bioc\R\bin\R.exe CMD INSTALL --build --library=synapter.buildbin-libdir synapter_2.27.0.tar.gz
###
##############################################################################
##############################################################################


* installing *source* package 'synapter' ...
** using staged installation
** R
** data
** inst
** byte-compile and prepare package for lazy loading
** help
*** installing help indices
** building package indices
** installing vignettes
** testing if installed package can be loaded from temporary location
** testing if installed package can be loaded from final location
** testing if installed package keeps a record of temporary installation path
* MD5 sums
packaged installation of 'synapter' as synapter_2.27.0.zip
* DONE (synapter)