Back to Multiple platform build/check report for BioC 3.19:   simplified   long
ABCD[E]FGHIJKLMNOPQRSTUVWXYZ

This page was generated on 2024-02-21 12:53:06 -0500 (Wed, 21 Feb 2024).

HostnameOSArch (*)R versionInstalled pkgs
nebbiolo1Linux (Ubuntu 22.04.3 LTS)x86_64R Under development (unstable) (2024-01-16 r85808) -- "Unsuffered Consequences" 4657
palomino3Windows Server 2022 Datacenterx64R Under development (unstable) (2024-01-14 r85805 ucrt) -- "Unsuffered Consequences" 4397
Click on any hostname to see more info about the system (e.g. compilers)      (*) as reported by 'uname -p', except on Windows and Mac OS X

Package 673/2244HostnameOS / ArchINSTALLBUILDCHECKBUILD BIN
EventPointer 3.11.0  (landing page)
Juan A. Ferrer-Bonsoms
Snapshot Date: 2024-02-20 14:10:09 -0500 (Tue, 20 Feb 2024)
git_url: https://git.bioconductor.org/packages/EventPointer
git_branch: devel
git_last_commit: b2719c8
git_last_commit_date: 2023-10-24 10:55:44 -0500 (Tue, 24 Oct 2023)
nebbiolo1Linux (Ubuntu 22.04.3 LTS) / x86_64  OK    OK    OK  UNNEEDED, same version is already published
palomino3Windows Server 2022 Datacenter / x64  OK    OK    OK    OK  UNNEEDED, same version is already published

BUILD results for EventPointer on nebbiolo1


To the developers/maintainers of the EventPointer package:
- Allow up to 24 hours (and sometimes 48 hours) for your latest push to git@git.bioconductor.org:packages/EventPointer.git to reflect on this report. See Troubleshooting Build Report for more information.
- Use the following Renviron settings to reproduce errors and warnings.
- If 'R CMD check' started to fail recently on the Linux builder(s) over a missing dependency, add the missing dependency to 'Suggests:' in your DESCRIPTION file. See Renviron.bioc for more information.

raw results


Summary

Package: EventPointer
Version: 3.11.0
Command: /home/biocbuild/bbs-3.19-bioc/R/bin/R CMD build --keep-empty-dirs --no-resave-data EventPointer
StartedAt: 2024-02-20 17:07:28 -0500 (Tue, 20 Feb 2024)
EndedAt: 2024-02-20 17:08:49 -0500 (Tue, 20 Feb 2024)
EllapsedTime: 80.5 seconds
RetCode: 0
Status:   OK  
PackageFile: EventPointer_3.11.0.tar.gz
PackageFileSize: 1.642 MiB

Command output

##############################################################################
##############################################################################
###
### Running command:
###
###   /home/biocbuild/bbs-3.19-bioc/R/bin/R CMD build --keep-empty-dirs --no-resave-data EventPointer
###
##############################################################################
##############################################################################


* checking for file ‘EventPointer/DESCRIPTION’ ... OK
* preparing ‘EventPointer’:
* checking DESCRIPTION meta-information ... OK
* cleaning src
* installing the package to build vignettes
* creating vignettes ... OK
* cleaning src
* checking for LF line-endings in source and make files and shell scripts
* checking for empty or unneeded directories
  NB: this package now depends on R (>= 3.5.0)
  WARNING: Added dependency on R >= 3.5.0 because serialized objects in
  serialize/load version 3 cannot be read in older versions of R.
  File(s) containing such objects:
    ‘EventPointer/data/EventXtrans.rda’ ‘EventPointer/data/Fit.rda’
    ‘EventPointer/data/PSIss.rda’ ‘EventPointer/data/SG_RNASeq.rda’
    ‘EventPointer/data/SG_reclassify.rda’ ‘EventPointer/data/TxD.rda’
* building ‘EventPointer_3.11.0.tar.gz’