Back to Multiple platform build/check report for BioC 3.15
ABCDEFGHIJKLMNOPQRS[T]UVWXYZ

This page was generated on 2022-01-15 11:06:54 -0500 (Sat, 15 Jan 2022).

HostnameOSArch (*)R versionInstalled pkgs
nebbiolo1Linux (Ubuntu 20.04.4 LTS)x86_64R Under development (unstable) (2022-01-05 r81451) -- "Unsuffered Consequences" 4160
riesling1Windows Server 2019 Standardx64R Under development (unstable) (2021-11-21 r81221) -- "Unsuffered Consequences" 4055
palomino3Windows Server 2022 Datacenterx64R Under development (unstable) (2021-12-21 r81400 ucrt) -- "Unsuffered Consequences" 3997
merida1macOS 10.14.6 Mojavex86_64R Under development (unstable) (2022-01-05 r81451) -- "Unsuffered Consequences" 4114
Click on any hostname to see more info about the system (e.g. compilers)      (*) as reported by 'uname -p', except on Windows and Mac OS X

INSTALL results for trigger on nebbiolo1


To the developers/maintainers of the trigger package:
- Please allow up to 24 hours (and sometimes 48 hours) for your latest push to git@git.bioconductor.org:packages/trigger.git to
reflect on this report. See How and When does the builder pull? When will my changes propagate? here for more information.
- Make sure to use the following settings in order to reproduce any error or warning you see on this page.

raw results

Package 1993/2074HostnameOS / ArchINSTALLBUILDCHECKBUILD BIN
trigger 1.41.0  (landing page)
John D. Storey
Snapshot Date: 2022-01-14 13:55:18 -0500 (Fri, 14 Jan 2022)
git_url: https://git.bioconductor.org/packages/trigger
git_branch: master
git_last_commit: dcf2dad
git_last_commit_date: 2021-10-26 12:01:26 -0500 (Tue, 26 Oct 2021)
nebbiolo1Linux (Ubuntu 20.04.4 LTS) / x86_64  OK    OK    OK  UNNEEDED, same version is already published
riesling1Windows Server 2019 Standard / x64  OK    OK    OK    OK  
palomino3Windows Server 2022 Datacenter / x64  OK    OK    OK    OK  NO, package depends on 'sva' which is not available
merida1macOS 10.14.6 Mojave / x86_64  OK    OK    OK    OK  UNNEEDED, same version is already published

Summary

Package: trigger
Version: 1.41.0
Command: /home/biocbuild/bbs-3.15-bioc/R/bin/R CMD INSTALL trigger
StartedAt: 2022-01-14 15:22:50 -0500 (Fri, 14 Jan 2022)
EndedAt: 2022-01-14 15:23:13 -0500 (Fri, 14 Jan 2022)
EllapsedTime: 23.6 seconds
RetCode: 0
Status:   OK  

Command output

##############################################################################
##############################################################################
###
### Running command:
###
###   /home/biocbuild/bbs-3.15-bioc/R/bin/R CMD INSTALL trigger
###
##############################################################################
##############################################################################


* installing to library ‘/home/biocbuild/bbs-3.15-bioc/R/library’
* installing *source* package ‘trigger’ ...
** using staged installation
** libs
gcc -I"/home/biocbuild/bbs-3.15-bioc/R/include" -DNDEBUG   -I/usr/local/include   -fpic  -g -O2  -Wall -c trigger.c -o trigger.o
trigger.c: In function ‘mergeorder’:
trigger.c:25:20: warning: variable ‘n3’ set but not used [-Wunused-but-set-variable]
   25 | int i1,i2,i3,n1,n2,n3;
      |                    ^~
trigger.c: In function ‘sec_link_stat’:
trigger.c:81:10: warning: variable ‘nct’ set but not used [-Wunused-but-set-variable]
   81 | int ntr, nct, i, j;
      |          ^~~
trigger.c: In function ‘sec_link_stat_x’:
trigger.c:153:10: warning: variable ‘nct’ set but not used [-Wunused-but-set-variable]
  153 | int ntr, nct, i, j, k, nk;
      |          ^~~
trigger.c: In function ‘condi_indep_stat’:
trigger.c:233:10: warning: variable ‘nct’ set but not used [-Wunused-but-set-variable]
  233 | int ntr, nct, i, j;
      |          ^~~
trigger.c: In function ‘condi_indep_stat_x’:
trigger.c:310:10: warning: variable ‘nct’ set but not used [-Wunused-but-set-variable]
  310 | int ntr, nct, i, j, k, nk;
      |          ^~~
trigger.c: In function ‘condi_indep_stat_rx’:
trigger.c:393:10: warning: variable ‘nct’ set but not used [-Wunused-but-set-variable]
  393 | int ntr, nct, i, j, k, nk;
      |          ^~~
gcc -shared -L/home/biocbuild/bbs-3.15-bioc/R/lib -L/usr/local/lib -o trigger.so trigger.o -L/home/biocbuild/bbs-3.15-bioc/R/lib -lR
installing to /home/biocbuild/bbs-3.15-bioc/R/library/00LOCK-trigger/00new/trigger/libs
** R
** data
** inst
** byte-compile and prepare package for lazy loading
** help
*** installing help indices
** building package indices
** installing vignettes
** testing if installed package can be loaded from temporary location
** checking absolute paths in shared objects and dynamic libraries
** testing if installed package can be loaded from final location
** testing if installed package keeps a record of temporary installation path
* DONE (trigger)