Workflows build report for BioC 3.18

This page was generated on 2024-02-20 14:00:13 -0500 (Tue, 20 Feb 2024).

Approx. Package Snapshot Date (git pull): 2024-02-20 10:45:01 -0500 (Tue, 20 Feb 2024)

HostnameOSArch (*)R versionInstalled pkgs
nebbiolo2Linux (Ubuntu 22.04.3 LTS)x86_644.3.2 Patched (2023-11-13 r85521) -- "Eye Holes" 4691
palomino4Windows Server 2022 Datacenterx644.3.2 (2023-10-31 ucrt) -- "Eye Holes" 4444
lconwaymacOS 12.7.1 Montereyx86_644.3.2 Patched (2023-11-01 r85457) -- "Eye Holes" 4465
Click on any hostname to see more info about the system (e.g. compilers)      (*) as reported by 'uname -p', except on Windows and Mac OS X

Package status is indicated by one of the following glyphs
  TIMEOUT  
INSTALL or BUILD of package took more than 40 or 180 minutes, respectively
  ERROR  
Bad DESCRIPTION file, or INSTALL or BUILD of package failed
  OK  
INSTALL or BUILD of package went OK
  NA  
INSTALL or BUILD result is not available because of an anomaly in the Build System
Click on any glyph in the report below to access the detailed report.
Package propagation status is indicated by one of the following LEDs
YES YES: Package was propagated because it didn't previously exist or version was bumped
NO NO: Package was not propagated because of a problem (impossible dependencies, or version lower than what is already propagated)
UNNEEDED UNNEEDED: Package was not propagated because it is already in the repository with this version. A version bump is required in order to propagate it

A crossed-out package name indicates the package is deprecated


QUICK STATSOS / ArchINSTALLBUILD
nebbiolo2Linux (Ubuntu 22.04.3 LTS) / x86_64
0030
0030
palomino4Windows Server 2022 Datacenter / x64
0026
0224
lconwaymacOS 12.7.1 Monterey / x86_64
0128
0425
Package 1/30HostnameOS / ArchINSTALLBUILD
annotation 1.26.0  (landing page)
Bioconductor Package Maintainer
git_last_commit: 02f76c2
git_last_commit_date: 2023-10-24 08:46:25 -0500
nebbiolo2Linux (Ubuntu 22.04.3 LTS) / x86_64  OK    OK  UNNEEDED, same version is already published
palomino4Windows Server 2022 Datacenter / x64  OK    OK  
lconwaymacOS 12.7.1 Monterey / x86_64  OK    OK  
Package 2/30HostnameOS / ArchINSTALLBUILD
arrays 1.28.0  (landing page)
Bioconductor Package Maintainer
git_last_commit: eabeb85
git_last_commit_date: 2023-10-24 08:46:29 -0500
nebbiolo2Linux (Ubuntu 22.04.3 LTS) / x86_64  OK    OK  UNNEEDED, same version is already published
palomino4Windows Server 2022 Datacenter / x64  OK    OK  
lconwaymacOS 12.7.1 Monterey / x86_64  OK    OK  
Package 3/30HostnameOS / ArchINSTALLBUILD
BiocMetaWorkflow 1.24.0  (landing page)
Mike Smith
git_last_commit: e955a08
git_last_commit_date: 2023-10-24 08:47:20 -0500
nebbiolo2Linux (Ubuntu 22.04.3 LTS) / x86_64  OK    OK  UNNEEDED, same version is already published
palomino4Windows Server 2022 Datacenter / x64  OK    OK  
lconwaymacOS 12.7.1 Monterey / x86_64  OK    ERROR  
Package 4/30HostnameOS / ArchINSTALLBUILD
BP4RNAseq 1.12.0  (landing page)
Shanwen Sun
git_last_commit: 91f397a
git_last_commit_date: 2023-10-24 08:47:40 -0500
nebbiolo2Linux (Ubuntu 22.04.3 LTS) / x86_64  OK    OK  UNNEEDED, same version is already published
palomino4Windows Server 2022 Datacenter / x64  OK    OK  
lconwaymacOS 12.7.1 Monterey / x86_64  OK    OK  
Package 5/30HostnameOS / ArchINSTALLBUILD
CAGEWorkflow 1.18.0  (landing page)
Malte Thodberg
git_last_commit: e4cca1f
git_last_commit_date: 2023-10-24 08:47:35 -0500
nebbiolo2Linux (Ubuntu 22.04.3 LTS) / x86_64  OK    OK  UNNEEDED, same version is already published
palomino4Windows Server 2022 Datacenter / x64... NOT SUPPORTED ...
lconwaymacOS 12.7.1 Monterey / x86_64  OK    OK  
Package 6/30HostnameOS / ArchINSTALLBUILD
chipseqDB 1.26.0  (landing page)
Aaron Lun
git_last_commit: c28b948
git_last_commit_date: 2023-10-24 08:46:32 -0500
nebbiolo2Linux (Ubuntu 22.04.3 LTS) / x86_64  OK    OK  UNNEEDED, same version is already published
palomino4Windows Server 2022 Datacenter / x64... NOT SUPPORTED ...
lconwaymacOS 12.7.1 Monterey / x86_64  OK    OK  
Package 7/30HostnameOS / ArchINSTALLBUILD
csawUsersGuide 1.18.0  (landing page)
Aaron Lun
git_last_commit: 9c34d2e
git_last_commit_date: 2023-10-24 08:47:29 -0500
nebbiolo2Linux (Ubuntu 22.04.3 LTS) / x86_64  OK    OK  UNNEEDED, same version is already published
palomino4Windows Server 2022 Datacenter / x64  OK    OK  
lconwaymacOS 12.7.1 Monterey / x86_64  OK    OK  
Package 8/30HostnameOS / ArchINSTALLBUILD
cytofWorkflow 1.26.1  (landing page)
Mark D. Robinson
git_last_commit: a4b1c21
git_last_commit_date: 2023-10-28 07:04:43 -0500
nebbiolo2Linux (Ubuntu 22.04.3 LTS) / x86_64  OK    OK  UNNEEDED, same version is already published
palomino4Windows Server 2022 Datacenter / x64  OK    OK  
lconwaymacOS 12.7.1 Monterey / x86_64  OK    OK  
Package 9/30HostnameOS / ArchINSTALLBUILD
EGSEA123 1.26.0  (landing page)
Matthew Ritchie
git_last_commit: fc25b6a
git_last_commit_date: 2023-10-24 08:46:37 -0500
nebbiolo2Linux (Ubuntu 22.04.3 LTS) / x86_64  OK    OK  UNNEEDED, same version is already published
palomino4Windows Server 2022 Datacenter / x64  OK    OK  
lconwaymacOS 12.7.1 Monterey / x86_64  OK    OK  
Package 10/30HostnameOS / ArchINSTALLBUILD
ExpHunterSuite 1.10.0  (landing page)
James Perkins
git_last_commit: 9b804b2
git_last_commit_date: 2024-02-20 06:46:38 -0500
nebbiolo2Linux (Ubuntu 22.04.3 LTS) / x86_64  OK    OK  YES
palomino4Windows Server 2022 Datacenter / x64  OK    OK  
lconwaymacOS 12.7.1 Monterey / x86_64  OK    OK  
Package 11/30HostnameOS / ArchINSTALLBUILD
ExpressionNormalizationWorkflow 1.28.0  (landing page)
Karthikeyan Murugesan
git_last_commit: 54cbebb
git_last_commit_date: 2023-10-24 08:46:40 -0500
nebbiolo2Linux (Ubuntu 22.04.3 LTS) / x86_64  OK    OK  UNNEEDED, same version is already published
palomino4Windows Server 2022 Datacenter / x64  OK    OK  
lconwaymacOS 12.7.1 Monterey / x86_64  OK    OK  
Package 12/30HostnameOS / ArchINSTALLBUILD
fluentGenomics 1.14.0  (landing page)
Stuart Lee
git_last_commit: 5141dcc
git_last_commit_date: 2023-10-24 08:47:38 -0500
nebbiolo2Linux (Ubuntu 22.04.3 LTS) / x86_64  OK    OK  UNNEEDED, same version is already published
palomino4Windows Server 2022 Datacenter / x64  OK    OK  
lconwaymacOS 12.7.1 Monterey / x86_64  OK    OK  
Package 13/30HostnameOS / ArchINSTALLBUILD
generegulation 1.26.0  (landing page)
Bioconductor Package Maintainer
git_last_commit: be3ee59
git_last_commit_date: 2023-10-24 08:46:43 -0500
nebbiolo2Linux (Ubuntu 22.04.3 LTS) / x86_64  OK    OK  UNNEEDED, same version is already published
palomino4Windows Server 2022 Datacenter / x64  OK    OK  
lconwaymacOS 12.7.1 Monterey / x86_64  OK    OK  
Package 14/30HostnameOS / ArchINSTALLBUILD
GeoMxWorkflows 1.8.0  (landing page)
Maddy Griswold
git_last_commit: ebedd85
git_last_commit_date: 2023-10-24 08:47:47 -0500
nebbiolo2Linux (Ubuntu 22.04.3 LTS) / x86_64  OK    OK  UNNEEDED, same version is already published
palomino4Windows Server 2022 Datacenter / x64  OK    OK  
lconwaymacOS 12.7.1 Monterey / x86_64  OK    OK  
Package 15/30HostnameOS / ArchINSTALLBUILD
highthroughputassays 1.26.0  (landing page)
Bioconductor Package Maintainer
git_last_commit: ad10d53
git_last_commit_date: 2023-10-24 08:46:46 -0500
nebbiolo2Linux (Ubuntu 22.04.3 LTS) / x86_64  OK    OK  UNNEEDED, same version is already published
palomino4Windows Server 2022 Datacenter / x64... NOT SUPPORTED ...
lconwaymacOS 12.7.1 Monterey / x86_64... NOT SUPPORTED ...
Package 16/30HostnameOS / ArchINSTALLBUILD
liftOver 1.26.0  (landing page)
Bioconductor Package Maintainer
git_last_commit: 9f987c7
git_last_commit_date: 2023-10-24 08:46:48 -0500
nebbiolo2Linux (Ubuntu 22.04.3 LTS) / x86_64  OK    OK  UNNEEDED, same version is already published
palomino4Windows Server 2022 Datacenter / x64  OK    OK  
lconwaymacOS 12.7.1 Monterey / x86_64  OK    OK  
Package 17/30HostnameOS / ArchINSTALLBUILD
maEndToEnd 2.22.1  (landing page)
Stefanie Reisenauer
git_last_commit: 25a92a3
git_last_commit_date: 2024-01-12 10:20:04 -0500
nebbiolo2Linux (Ubuntu 22.04.3 LTS) / x86_64  OK    OK  UNNEEDED, same version is already published
palomino4Windows Server 2022 Datacenter / x64  OK    ERROR  
lconwaymacOS 12.7.1 Monterey / x86_64  OK    OK  
Package 18/30HostnameOS / ArchINSTALLBUILD
methylationArrayAnalysis 1.26.0  (landing page)
Jovana Maksimovic
git_last_commit: 60b2530
git_last_commit_date: 2023-10-24 08:46:52 -0500
nebbiolo2Linux (Ubuntu 22.04.3 LTS) / x86_64  OK    OK  UNNEEDED, same version is already published
palomino4Windows Server 2022 Datacenter / x64  OK    OK  
lconwaymacOS 12.7.1 Monterey / x86_64  OK    OK  
Package 19/30HostnameOS / ArchINSTALLBUILD
recountWorkflow 1.26.0  (landing page)
Leonardo Collado-Torres
git_last_commit: 7291d20
git_last_commit_date: 2023-10-24 08:46:55 -0500
nebbiolo2Linux (Ubuntu 22.04.3 LTS) / x86_64  OK    OK  UNNEEDED, same version is already published
palomino4Windows Server 2022 Datacenter / x64  OK    OK  
lconwaymacOS 12.7.1 Monterey / x86_64  OK    ERROR  
Package 20/30HostnameOS / ArchINSTALLBUILD
RNAseq123 1.26.0  (landing page)
Matthew Ritchie
git_last_commit: 40f3611
git_last_commit_date: 2023-10-24 08:46:58 -0500
nebbiolo2Linux (Ubuntu 22.04.3 LTS) / x86_64  OK    OK  UNNEEDED, same version is already published
palomino4Windows Server 2022 Datacenter / x64  OK    OK  
lconwaymacOS 12.7.1 Monterey / x86_64  ERROR    ERROR  
Package 21/30HostnameOS / ArchINSTALLBUILD
rnaseqDTU 1.22.0  (landing page)
Michael Love
git_last_commit: 816777f
git_last_commit_date: 2023-10-24 08:47:26 -0500
nebbiolo2Linux (Ubuntu 22.04.3 LTS) / x86_64  OK    OK  UNNEEDED, same version is already published
palomino4Windows Server 2022 Datacenter / x64  OK    OK  
lconwaymacOS 12.7.1 Monterey / x86_64  OK    OK  
Package 22/30HostnameOS / ArchINSTALLBUILD
rnaseqGene 1.26.0  (landing page)
Michael Love
git_last_commit: eb0ccb5
git_last_commit_date: 2023-10-24 08:47:01 -0500
nebbiolo2Linux (Ubuntu 22.04.3 LTS) / x86_64  OK    OK  UNNEEDED, same version is already published
palomino4Windows Server 2022 Datacenter / x64  OK    OK  
lconwaymacOS 12.7.1 Monterey / x86_64  OK    OK  
Package 23/30HostnameOS / ArchINSTALLBUILD
RnaSeqGeneEdgeRQL 1.26.0  (landing page)
Yunshun Chen
git_last_commit: a8984b6
git_last_commit_date: 2023-10-24 08:47:04 -0500
nebbiolo2Linux (Ubuntu 22.04.3 LTS) / x86_64  OK    OK  UNNEEDED, same version is already published
palomino4Windows Server 2022 Datacenter / x64  OK    OK  
lconwaymacOS 12.7.1 Monterey / x86_64  OK    OK  
Package 24/30HostnameOS / ArchINSTALLBUILD
seqpac 1.2.0  (landing page)
Daniel Natt
git_last_commit: fffef1d
git_last_commit_date: 2023-10-24 08:47:50 -0500
nebbiolo2Linux (Ubuntu 22.04.3 LTS) / x86_64  OK    OK  UNNEEDED, same version is already published
palomino4Windows Server 2022 Datacenter / x64  OK    OK  
lconwaymacOS 12.7.1 Monterey / x86_64  OK    OK  
Package 25/30HostnameOS / ArchINSTALLBUILD
sequencing 1.26.0  (landing page)
Bioconductor Package Maintainer
git_last_commit: 50646c9
git_last_commit_date: 2023-10-24 08:47:06 -0500
nebbiolo2Linux (Ubuntu 22.04.3 LTS) / x86_64  OK    OK  UNNEEDED, same version is already published
palomino4Windows Server 2022 Datacenter / x64  OK    OK  
lconwaymacOS 12.7.1 Monterey / x86_64  OK    OK  
Package 26/30HostnameOS / ArchINSTALLBUILD
simpleSingleCell 1.26.0  (landing page)
Aaron Lun
git_last_commit: ad07eab
git_last_commit_date: 2023-10-24 08:47:10 -0500
nebbiolo2Linux (Ubuntu 22.04.3 LTS) / x86_64  OK    OK  UNNEEDED, same version is already published
palomino4Windows Server 2022 Datacenter / x64... NOT SUPPORTED ...
lconwaymacOS 12.7.1 Monterey / x86_64  OK    OK  
Package 27/30HostnameOS / ArchINSTALLBUILD
SingscoreAMLMutations 1.18.0  (landing page)
Dharmesh D. Bhuva
git_last_commit: ba92d18
git_last_commit_date: 2023-10-24 08:47:32 -0500
nebbiolo2Linux (Ubuntu 22.04.3 LTS) / x86_64  OK    OK  UNNEEDED, same version is already published
palomino4Windows Server 2022 Datacenter / x64  OK    OK  
lconwaymacOS 12.7.1 Monterey / x86_64  OK    OK  
Package 28/30HostnameOS / ArchINSTALLBUILD
spicyWorkflow 1.2.1  (landing page)
SOMS Maintainer
git_last_commit: 9c22e3f
git_last_commit_date: 2024-01-23 23:48:55 -0500
nebbiolo2Linux (Ubuntu 22.04.3 LTS) / x86_64  OK    OK  UNNEEDED, same version is already published
palomino4Windows Server 2022 Datacenter / x64  OK    ERROR  
lconwaymacOS 12.7.1 Monterey / x86_64  OK    ERROR  
Package 29/30HostnameOS / ArchINSTALLBUILD
TCGAWorkflow 1.26.0  (landing page)
Tiago Chedraoui Silva
git_last_commit: 6eb33d4
git_last_commit_date: 2023-10-24 08:47:14 -0500
nebbiolo2Linux (Ubuntu 22.04.3 LTS) / x86_64  OK    OK  UNNEEDED, same version is already published
palomino4Windows Server 2022 Datacenter / x64  OK    OK  
lconwaymacOS 12.7.1 Monterey / x86_64  OK    OK  
Package 30/30HostnameOS / ArchINSTALLBUILD
variants 1.26.0  (landing page)
Bioconductor Package Maintainer
git_last_commit: 1d1df34
git_last_commit_date: 2023-10-24 08:47:18 -0500
nebbiolo2Linux (Ubuntu 22.04.3 LTS) / x86_64  OK    OK  UNNEEDED, same version is already published
palomino4Windows Server 2022 Datacenter / x64  OK    OK  
lconwaymacOS 12.7.1 Monterey / x86_64  OK    OK