Back to Workflows build report for BioC 3.12 |
This page was generated on 2021-01-15 15:45:13 -0500 (Fri, 15 Jan 2021).
TO THE DEVELOPERS/MAINTAINERS OF THE rnaseqDTU PACKAGE: Please make sure to use the following settings in order to reproduce any error or warning you see on this page. |
Package 21/28 | Hostname | OS / Arch | INSTALL | BUILD | ||||||
rnaseqDTU 1.10.0 Michael Love
| malbec1 | Linux (Ubuntu 18.04.5 LTS) / x86_64 | OK | OK | ![]() | |||||
nebbiolo1 | Linux (Ubuntu 20.04.1 LTS) / x86_64 | OK | [ OK ] |
Package: rnaseqDTU |
Version: 1.10.0 |
Command: /home/biocbuild/bbs-3.12-bioc/R/bin/R CMD build --keep-empty-dirs --no-resave-data rnaseqDTU |
StartedAt: 2021-01-15 09:11:56 -0500 (Fri, 15 Jan 2021) |
EndedAt: 2021-01-15 09:15:53 -0500 (Fri, 15 Jan 2021) |
EllapsedTime: 236.9 seconds |
RetCode: 0 |
Status: OK |
PackageFile: rnaseqDTU_1.10.0.tar.gz |
PackageFileSize: 8.697 MiB |
############################################################################## ############################################################################## ### ### Running command: ### ### /home/biocbuild/bbs-3.12-bioc/R/bin/R CMD build --keep-empty-dirs --no-resave-data rnaseqDTU ### ############################################################################## ############################################################################## * checking for file ‘rnaseqDTU/DESCRIPTION’ ... OK * preparing ‘rnaseqDTU’: * checking DESCRIPTION meta-information ... OK * installing the package to build vignettes * creating vignettes ... OK * checking for LF line-endings in source and make files and shell scripts * checking for empty or unneeded directories * building ‘rnaseqDTU_1.10.0.tar.gz’